BEGIN:VCALENDAR
VERSION:2.0
PRODID:-//jEvents 2.0 for Joomla//EN
CALSCALE:GREGORIAN
METHOD:PUBLISH
BEGIN:VEVENT
UID:35ca2bbc5edfea603e28e16f31ea97d6
CATEGORIES:18. Bezirk
CREATED:19700101T010000
SUMMARY:Musik mit Susanne für Babys am Montag Vormittag
LOCATION:Spielringel\, Mollgasse 11-13
DESCRIPTION:<h4>für Babys (6-14 Monate)</h4><div class="textpic-item textpic-text"><p>E
 inzeltermin zum Kennenlernen</p><p><span class="text-primary font-weight-bo
 ld">Mit: </span><a href="https://spielringel.at/angebote/das-team/susanne">
 Susanne</a></p><p><span class="text-primary font-weight-bold">Kurstag: </sp
 an> Montag 10:45-11:30</p><p><span class="text-primary font-weight-bold">Te
 rmine: </span> Einzeltermine am 24.07., 31.07., 07.08. und 21.08.</p><p><sp
 an class="text-primary font-weight-bold">Kosten: </span> €16,- (Einzeltermi
 n)</p><p>„Musikalität ist vor allem die Fähigkeit von Musik berührt zu werd
 en."</p><p>Es wird dem Alter und der Entwicklung der Babys entsprechend, ge
 spielt, gesungen, getanzt und musiziert. Musik fördert die Entwicklung von 
 Babys: Sie ist gut für die Bewegungskoordination, die Sprachentwicklung, de
 n Gleichgewichtssinn und die Bindung zur Bezugsperson. Das beste daran ist,
  dass es einfach Freude macht!</p><p>An diesem Einzeltermin kannst du dir a
 nsehen, wie eine Einheit der Spielgruppe mit Musik ablaufen kann. Bitte gib
  an, ob du am 24.07., 31.07., 07.08. oder 21.08. teilnehmen willst! Bei gle
 ichzeitiger Buchung von zwei oder mehr Terminen unserer Sommerangebote gibt
  es 5% Rabatt!</p></div><p>&nbsp;</p><p>&nbsp;</p>
CONTACT:www.spielringel.at
X-EXTRAINFO:[preis='1600'][anmeldung='true']
DTSTAMP:20260423T124137
DTSTART:20230807T084500
DTEND:20230807T093000
SEQUENCE:0
TRANSP:OPAQUE
END:VEVENT
END:VCALENDAR