BEGIN:VCALENDAR
VERSION:2.0
PRODID:-//jEvents 2.0 for Joomla//EN
CALSCALE:GREGORIAN
METHOD:PUBLISH
BEGIN:VEVENT
UID:ce8f4fb67555f0bdf2dfc6932fe2b48c
CATEGORIES:18. Bezirk
CREATED:20230703T130203
SUMMARY:Musik mit Susanne für Babys am Montag Vormittag
LOCATION:Spielringel\, Mollgasse 11-13
DESCRIPTION:<h4>für Babys (6-14 Monate)</h4><div class="textpic-item textpic-text"><p>E
 inzeltermin zum Kennenlernen</p><p><span class="text-primary font-weight-bo
 ld">Mit: </span><a href="https://spielringel.at/angebote/das-team/susanne">
 Susanne</a></p><p><span class="text-primary font-weight-bold">Kurstag: </sp
 an> Montag 10:45-11:30</p><p><span class="text-primary font-weight-bold">Te
 rmine: </span> Einzeltermine am 24.07., 31.07., 07.08. und 21.08.</p><p><sp
 an class="text-primary font-weight-bold">Kosten: </span> €16,- (Einzeltermi
 n)</p><p>„Musikalität ist vor allem die Fähigkeit von Musik berührt zu werd
 en."</p><p>Es wird dem Alter und der Entwicklung der Babys entsprechend, ge
 spielt, gesungen, getanzt und musiziert. Musik fördert die Entwicklung von 
 Babys: Sie ist gut für die Bewegungskoordination, die Sprachentwicklung, de
 n Gleichgewichtssinn und die Bindung zur Bezugsperson. Das beste daran ist,
  dass es einfach Freude macht!</p><p>An diesem Einzeltermin kannst du dir a
 nsehen, wie eine Einheit der Spielgruppe mit Musik ablaufen kann. Bitte gib
  an, ob du am 24.07., 31.07., 07.08. oder 21.08. teilnehmen willst! Bei gle
 ichzeitiger Buchung von zwei oder mehr Terminen unserer Sommerangebote gibt
  es 5% Rabatt!</p></div><div id="c866" class="frame frame-default frame-typ
 e-form_formframework frame-layout-0 frame-background-none frame-no-backgrou
 ndimage frame-space-before-none frame-space-after-none"><div class="frame-c
 ontainer"><div class="frame-inner"><div class="form-container form-identifi
 er-anmeldeformular-866"><form enctype="multipart/form-data" method="post" n
 ovalidate="novalidate" id="anmeldeformular-866"><div>&nbsp;</div><input aut
 ocomplete="SZyzoCMmrO7Xbt0uq" name="tx_form_formframework[anmeldeformular-8
 66][SZyzoCMmrO7Xbt0uq]" type="text" id="anmeldeformular-866-SZyzoCMmrO7Xbt0
 uq" style="position: absolute; margin: 0 0 0 -999em;" tabindex="-1" aria-hi
 dden="true" /><div class="form-actions"><nav class="form-navigation"><div c
 lass="btn-toolbar" role="toolbar"><div class="btn-group" role="group"><span
  class="btn-group next"></span></div></div></nav></div></form></div></div><
 /div></div><p>&nbsp;</p><p>&nbsp;</p>
CONTACT:www.spielringel.at
X-EXTRAINFO:[preis='1600'][anmeldung='true']
DTSTAMP:20260423T111828
DTSTART:20230821T084500
DTEND:20230821T093000
SEQUENCE:0
TRANSP:OPAQUE
END:VEVENT
END:VCALENDAR