BEGIN:VCALENDAR
VERSION:2.0
PRODID:-//jEvents 2.0 for Joomla//EN
CALSCALE:GREGORIAN
METHOD:PUBLISH
BEGIN:VEVENT
UID:797b6c4e500393efafdd70669da7a6dd
CATEGORIES:18. Bezirk
CREATED:20230703T130615
SUMMARY:Babyklangwelt zum Kennenlernen am Montag
LOCATION:Spielringel\, Mollgasse 11-13
DESCRIPTION:Babyklangwelt zum Kennenlernen am Montagfür Babys (3-10 Monate) mit Begleit
 ung Einzeltermin zum Kennenlernen\nStart:  24.07. oder 31.07.\nMit: Susanne
  (https://spielringel.at/angebote/das-team/susanne)\nKurstag:  Montag 12:00
 -12:45\nTermine:  24.07. oder 31.07.\nKosten:  €16,- (Einzeltermin)\nBabys 
 lieben Klänge, Geräusche, Musik und Gesang. Gemeinsam schaffen wir akustisc
 he und musikalische Erlebniswelten, in die sich die Babys nach Möglichkeit 
 einbringen können und erweitern dabei auch Kompetenz und Repertoire das Kin
 d im Alltag spielerisch zu fördern.\nAn diesem Einzeltermin kannst du dir a
 nsehen, wie eine Einheit der Babyklangwelt ablaufen kann. Bitte gib an, ob 
 du am 24.07.oder am 31.07 teilnehmen willst! Bei gleichzeitiger Buchung von
  drei oder mehr Terminen unserer Sommerangebote gibt es 5% Rabatt!\n \n
X-ALT-DESC;FMTTYPE=text/html:<div class="frame frame-default frame-type-textpic frame-layout-0 frame-bac
 kground-none frame-no-backgroundimage frame-space-before-none frame-space-a
 fter-none"><header class="frame-header"><h2 class="element-header">Babyklan
 gwelt zum Kennenlernen am Montag</h2><h4>für Babys (3-10 Monate) mit Beglei
 tung</h4></header><div class="frame-container"><div class="frame-inner"><di
 v class="textpic textpic-right"><div class="textpic-item textpic-gallery"><
 div class="gallery-row"><div class="gallery-item gallery-item-size-1">&nbsp
 ;</div></div></div><div class="textpic-item textpic-text"><p>Einzeltermin z
 um Kennenlernen</p><p><span class="text-primary font-weight-bold">Start: </
 span> 24.07. oder 31.07.</p><p><span class="text-primary font-weight-bold">
 Mit: </span><a href="https://spielringel.at/angebote/das-team/susanne">Susa
 nne</a></p><p><span class="text-primary font-weight-bold">Kurstag: </span> 
 Montag 12:00-12:45</p><p><span class="text-primary font-weight-bold">Termin
 e: </span> 24.07. oder 31.07.</p><p><span class="text-primary font-weight-b
 old">Kosten: </span> €16,- (Einzeltermin)</p><p>Babys lieben Klänge, Geräus
 che, Musik und Gesang. Gemeinsam schaffen wir akustische und musikalische E
 rlebniswelten, in die sich die Babys nach Möglichkeit einbringen können und
  erweitern dabei auch Kompetenz und Repertoire das Kind im Alltag spieleris
 ch zu fördern.</p><p>An diesem Einzeltermin kannst du dir ansehen, wie eine
  Einheit der Babyklangwelt ablaufen kann. Bitte gib an, ob du am 24.07.oder
  am 31.07 teilnehmen willst! Bei gleichzeitiger Buchung von drei oder mehr 
 Terminen unserer Sommerangebote gibt es 5% Rabatt!</p></div></div></div></d
 iv></div><p>&nbsp;</p>
CONTACT:www.spielringel.at
X-EXTRAINFO:[preis='1600'][anmeldung='true']
DTSTAMP:20260423T141646
DTSTART:20230731T100000
DTEND:20230731T104500
SEQUENCE:0
TRANSP:OPAQUE
END:VEVENT
END:VCALENDAR