BEGIN:VCALENDAR
VERSION:2.0
PRODID:-//jEvents 2.0 for Joomla//EN
CALSCALE:GREGORIAN
METHOD:PUBLISH
BEGIN:VEVENT
UID:9d227b90ede1f7e127894e6d19c0b3e3
CATEGORIES:18. Bezirk
CREATED:19700101T010000
SUMMARY:Musik mit Susanne für Kleinkinder am Mittwoch Vormittag
LOCATION:Spielringel\, Mollgasse 11-13
DESCRIPTION:<header class="frame-header"><h2 class="element-header">Musik mit Susanne f
 ür Kleinkinder am Mittwoch Vormittag</h2><h4>(12- 24 Monate)</h4><div class
 ="textpic-item textpic-text"><p>Einzeltermin zum Kennenlernen</p><p><span c
 lass="text-primary font-weight-bold">Mit: </span><a href="https://spielring
 el.at/angebote/das-team/susanne">Susanne</a></p><p><span class="text-primar
 y font-weight-bold">Kurstag: </span> Mittwoch 09:30-10:15</p><p><span class
 ="text-primary font-weight-bold">Termine: </span> Einzeltermin am 02.08.</p
 ><p><span class="text-primary font-weight-bold">Kosten: </span> €16,-</p><p
 >Der Gruppenraum wird zum Erlebnis- und Bewegungsraum. In gemütlicher, kind
 gerechter Umgebung können neue Bekanntschaften geschlossen werden.</p><p>Je
 de Stunde regen neue Spielimpulse zum Mitmachen an und geben Anreiz zur lei
 chten Umsetzung zu Hause.</p><p>Dein Kind hat die Möglichkeit sich frei in 
 einer Gruppe Gleichaltriger zu bewegen und dich trotzdem immer als sicheren
  Hafen zur Einkehr bei sich zu haben.</p><p>An diesem Einzeltermin kannst d
 u dir ansehen, wie eine EInheit der Spielgruppe mit Musik ablaufen kann. Be
 i gleichzeitiger Buchung von zwei oder mehr Terminen unserer Sommerangebote
  gibt es 5% Rabatt!</p></div><p>&nbsp;</p></header><p>&nbsp;</p>
CONTACT:www.spielringel.at
X-EXTRAINFO:[preis='1600'][anmeldung='true']
DTSTAMP:20260423T123821
DTSTART:20230802T073000
DTEND:20230802T081500
SEQUENCE:0
TRANSP:OPAQUE
END:VEVENT
END:VCALENDAR