BEGIN:VCALENDAR
VERSION:2.0
PRODID:-//jEvents 2.0 for Joomla//EN
CALSCALE:GREGORIAN
METHOD:PUBLISH
BEGIN:VEVENT
UID:930d1a925a8f817eb8deb3cebad15301
CATEGORIES:18. Bezirk
CREATED:20230703T130850
SUMMARY:Musik mit Susanne für Babys am Mittwoch Vormittag
LOCATION:Spielringel\, Mollgasse 11-13
DESCRIPTION:Musik mit Susanne für Babys am Mittwoch Vormittagfür Babys (6-14 Monate) Ei
 nzeltermin zum Kennenlernen\nMit: Susanne (https://spielringel.at/angebote/
 das-team/susanne)\nKurstag:  Mittwoch 10:45-11:30\nTermine:  Einzeltermin a
 m 02.08., 09.08. oder 23.08.\nKosten:  €16,-\n„Musikalität ist vor allem di
 e Fähigkeit von Musik berührt zu werden."\nEs wird dem Alter und der Entwic
 klung der Babys entsprechend, gespielt, gesungen, getanzt und musiziert. Mu
 sik fördert die Entwicklung von Babys: Sie ist gut für die Bewegungskoordin
 ation, die Sprachentwicklung, den Gleichgewichtssinn und die Bindung zur Be
 zugsperson. Das beste daran ist, dass es einfach Freude macht!\nAn diesem E
 inzeltermin kannst du dir ansehen, wie eine EInheit der Spielgruppe mit Mus
 ik ablaufen kann. Bitte gib an, ob du am 02.08., 09.08. oder 23.08. teilneh
 men willst! Bei gleichzeitiger Buchung von zwei oder mehr Terminen gibt es 
 5% Rabatt!\n  \n
X-ALT-DESC;FMTTYPE=text/html:<div class="frame frame-default frame-type-textpic frame-layout-0 frame-bac
 kground-none frame-no-backgroundimage frame-space-before-none frame-space-a
 fter-none"><header class="frame-header"><h2 class="element-header">Musik mi
 t Susanne für Babys am Mittwoch Vormittag</h2><h4>für Babys (6-14 Monate)</
 h4></header><div class="frame-container"><div class="frame-inner"><div clas
 s="textpic textpic-right"><div class="textpic-item textpic-gallery"><div cl
 ass="gallery-row"><div class="gallery-item gallery-item-size-1">&nbsp;</div
 ></div></div><div class="textpic-item textpic-text"><p>Einzeltermin zum Ken
 nenlernen</p><p><span class="text-primary font-weight-bold">Mit: </span><a 
 href="https://spielringel.at/angebote/das-team/susanne">Susanne</a></p><p><
 span class="text-primary font-weight-bold">Kurstag: </span> Mittwoch 10:45-
 11:30</p><p><span class="text-primary font-weight-bold">Termine: </span> Ei
 nzeltermin am 02.08., 09.08. oder 23.08.</p><p><span class="text-primary fo
 nt-weight-bold">Kosten: </span> €16,-</p><p>„Musikalität ist vor allem die 
 Fähigkeit von Musik berührt zu werden."</p><p>Es wird dem Alter und der Ent
 wicklung der Babys entsprechend, gespielt, gesungen, getanzt und musiziert.
  Musik fördert die Entwicklung von Babys: Sie ist gut für die Bewegungskoor
 dination, die Sprachentwicklung, den Gleichgewichtssinn und die Bindung zur
  Bezugsperson. Das beste daran ist, dass es einfach Freude macht!</p><p>An 
 diesem Einzeltermin kannst du dir ansehen, wie eine EInheit der Spielgruppe
  mit Musik ablaufen kann. Bitte gib an, ob du am 02.08., 09.08. oder 23.08.
  teilnehmen willst! Bei gleichzeitiger Buchung von zwei oder mehr Terminen 
 gibt es 5% Rabatt!</p></div></div></div></div></div><div id="c874" class="f
 rame frame-default frame-type-form_formframework frame-layout-0 frame-backg
 round-none frame-no-backgroundimage frame-space-before-none frame-space-aft
 er-none"><div class="frame-container"><div class="frame-inner"><div class="
 form-container form-identifier-anmeldeformular-874"><form enctype="multipar
 t/form-data" method="post" novalidate="novalidate" id="anmeldeformular-874"
 ><div>&nbsp;</div><input autocomplete="mLlbn7eKIfFkM" name="tx_form_formfra
 mework[anmeldeformular-874][mLlbn7eKIfFkM]" type="text" id="anmeldeformular
 -874-mLlbn7eKIfFkM" style="position: absolute; margin: 0 0 0 -999em;" tabin
 dex="-1" aria-hidden="true" /><div class="form-actions"><nav class="form-na
 vigation"><div class="btn-toolbar" role="toolbar"><div class="btn-group" ro
 le="group"><span class="btn-group next"></span></div></div></nav></div></fo
 rm></div></div></div></div><p>&nbsp;</p>
CONTACT:www.spielringel.at
X-EXTRAINFO:[preis='1600'][anmeldung='true']
DTSTAMP:20260423T094640
DTSTART:20230802T084500
DTEND:20230802T093000
SEQUENCE:0
TRANSP:OPAQUE
END:VEVENT
END:VCALENDAR