BEGIN:VCALENDAR
VERSION:2.0
PRODID:-//jEvents 2.0 for Joomla//EN
CALSCALE:GREGORIAN
METHOD:PUBLISH
BEGIN:VEVENT
UID:29b77edaffbca567eb297d0231c33500
CATEGORIES:18. Bezirk
CREATED:19700101T010000
SUMMARY:Musik mit Susanne für Kleinkinder am Montag um 9:30 Uhr
LOCATION:Spielringel\, Mollgasse 11-13
DESCRIPTION:<header class="frame-header"><h2 class="element-header">Musik mit Susanne f
 ür Kleinkinder am Montag um 9:30 Uhr</h2><h4>für Babys (6-14 Monate)</h4><d
 iv class="textpic-item textpic-text"><p>Einzeltermin zum Kennenlernen</p><p
 ><span class="text-primary font-weight-bold">Mit: </span><a href="https://s
 pielringel.at/angebote/das-team/susanne">Susanne</a></p><p><span class="tex
 t-primary font-weight-bold">Kurstag: </span> Montag 09:30-10:15</p><p><span
  class="text-primary font-weight-bold">Termine: </span> Einzeltermin am 07.
 08. oder am 21.08.</p><p><span class="text-primary font-weight-bold">Kosten
 : </span> €16,- (Einzeltermin)</p><p>An diesem Einzeltermin kannst du dir a
 nsehen, wie eine EInheit der Spielgruppe mit Musik ablaufen kann. Bitte gib
  an, ob du am 07.08.oder 21.08. teilnehmen willst! Bei gleichzeitiger Buchu
 ng von zwei oder mehr Terminen gibt es 5% Rabatt!</p></div><div id="c980" c
 lass="frame frame-default frame-type-form_formframework frame-layout-0 fram
 e-background-none frame-no-backgroundimage frame-space-before-none frame-sp
 ace-after-none"><div class="frame-container"><div class="frame-inner"><div 
 class="form-container form-identifier-anmeldeformular-980"><form enctype="m
 ultipart/form-data" method="post" novalidate="novalidate" id="anmeldeformul
 ar-980"><div>&nbsp;</div><input autocomplete="WUX5i6LRF" name="tx_form_form
 framework[anmeldeformular-980][WUX5i6LRF]" type="text" id="anmeldeformular-
 980-WUX5i6LRF" style="position: absolute; margin: 0 0 0 -999em;" tabindex="
 -1" aria-hidden="true" /><div class="form-actions"><nav class="form-navigat
 ion"><div class="btn-toolbar" role="toolbar"><div class="btn-group" role="g
 roup"><span class="btn-group next"></span></div></div></nav></div></form></
 div></div></div></div><p>&nbsp;</p></header><p>&nbsp;</p>
CONTACT:www.spielringel.at
X-EXTRAINFO:[preis='1600'][anmeldung='true']
DTSTAMP:20260423T124032
DTSTART:20230807T073000
DTEND:20230807T081500
SEQUENCE:0
TRANSP:OPAQUE
END:VEVENT
END:VCALENDAR