BEGIN:VCALENDAR
VERSION:2.0
PRODID:-//jEvents 2.0 for Joomla//EN
CALSCALE:GREGORIAN
METHOD:PUBLISH
BEGIN:VEVENT
UID:111c829c205802d47f9fc5fe38f51773
CATEGORIES:18. Bezirk
CREATED:20230703T131411
SUMMARY:Musik mit Susanne für Kleinkinder am Montag um 9:30 Uhr
LOCATION:Spielringel\, Mollgasse 11-13
DESCRIPTION:Musik mit Susanne für Kleinkinder am Montag um 9:30 Uhrfür Babys (6-14 Mona
 te)Einzeltermin zum Kennenlernen\nMit: Susanne (https://spielringel.at/ange
 bote/das-team/susanne)\nKurstag:  Montag 09:30-10:15\nTermine:  Einzeltermi
 n am 07.08. oder am 21.08.\nKosten:  €16,- (Einzeltermin)\nAn diesem Einzel
 termin kannst du dir ansehen, wie eine EInheit der Spielgruppe mit Musik ab
 laufen kann. Bitte gib an, ob du am 07.08.oder 21.08. teilnehmen willst! Be
 i gleichzeitiger Buchung von zwei oder mehr Terminen gibt es 5% Rabatt!\n \
 n \n
X-ALT-DESC;FMTTYPE=text/html:<header class="frame-header"><h2 class="element-header">Musik mit Susanne f
 ür Kleinkinder am Montag um 9:30 Uhr</h2><h4>für Babys (6-14 Monate)</h4><d
 iv class="textpic-item textpic-text"><p>Einzeltermin zum Kennenlernen</p><p
 ><span class="text-primary font-weight-bold">Mit: </span><a href="https://s
 pielringel.at/angebote/das-team/susanne">Susanne</a></p><p><span class="tex
 t-primary font-weight-bold">Kurstag: </span> Montag 09:30-10:15</p><p><span
  class="text-primary font-weight-bold">Termine: </span> Einzeltermin am 07.
 08. oder am 21.08.</p><p><span class="text-primary font-weight-bold">Kosten
 : </span> €16,- (Einzeltermin)</p><p>An diesem Einzeltermin kannst du dir a
 nsehen, wie eine EInheit der Spielgruppe mit Musik ablaufen kann. Bitte gib
  an, ob du am 07.08.oder 21.08. teilnehmen willst! Bei gleichzeitiger Buchu
 ng von zwei oder mehr Terminen gibt es 5% Rabatt!</p></div><p>&nbsp;</p></h
 eader><p>&nbsp;</p>
CONTACT:www.spielringel.at
X-EXTRAINFO:[preis='1600'][anmeldung='true']
DTSTAMP:20260423T094548
DTSTART:20230821T073000
DTEND:20230821T081500
SEQUENCE:0
TRANSP:OPAQUE
END:VEVENT
END:VCALENDAR