BEGIN:VCALENDAR
VERSION:2.0
PRODID:-//jEvents 2.0 for Joomla//EN
CALSCALE:GREGORIAN
METHOD:PUBLISH
BEGIN:VEVENT
UID:8bed752fc4505990ea097a098bb6e99e
CATEGORIES:18. Bezirk
CREATED:20230703T131711
SUMMARY:Babyklangwelt zum Kennenlernen am Mittwoch
LOCATION:Spielringel\, Mollgasse 11-13
DESCRIPTION:Babyklangwelt zum Kennenlernen am Mittwochfür Babys (3-10 Monate) mit Begle
 itung Einzeltermin zum Kennenlernen\nStart:  09.08. oder 23.8.\nMit: Susann
 e (https://spielringel.at/angebote/das-team/susanne)\nKurstag:  Mittwoch 12
 :00-12:45\nTermine:  09.08. oder 23.8.\nKosten:  €16,- (Einzeltermin)\nBaby
 s lieben Klänge, Geräusche, Musik und Gesang. Gemeinsam schaffen wir akusti
 sche und musikalische Erlebniswelten, in die sich die Babys nach Möglichkei
 t einbringen können und erweitern dabei auch Kompetenz und Repertoire das K
 ind im Alltag spielerisch zu fördern.\nAn diesem Einzeltermin kannst du dir
  ansehen, wie eine Einheit der Babyklangwelt ablaufen kann. Bitte gib an, o
 b du am 09.08. oder am 23.08. teilnehmen willst! Bei gleichzeitiger Buchung
  von zwei oder mehr Terminen unserer Sommerangebote gibt es 5% Rabatt!\n  \
 n
X-ALT-DESC;FMTTYPE=text/html:<div class="frame frame-default frame-type-textpic frame-layout-0 frame-bac
 kground-none frame-no-backgroundimage frame-space-before-none frame-space-a
 fter-none"><header class="frame-header"><h2 class="element-header">Babyklan
 gwelt zum Kennenlernen am Mittwoch</h2><h4>für Babys (3-10 Monate) mit Begl
 eitung</h4></header><div class="frame-container"><div class="frame-inner"><
 div class="textpic textpic-right"><div class="textpic-item textpic-gallery"
 ><div class="gallery-row"><div class="gallery-item gallery-item-size-1">&nb
 sp;</div></div></div><div class="textpic-item textpic-text"><p>Einzeltermin
  zum Kennenlernen</p><p><span class="text-primary font-weight-bold">Start: 
 </span> 09.08. oder 23.8.</p><p><span class="text-primary font-weight-bold"
 >Mit: </span><a href="https://spielringel.at/angebote/das-team/susanne">Sus
 anne</a></p><p><span class="text-primary font-weight-bold">Kurstag: </span>
  Mittwoch 12:00-12:45</p><p><span class="text-primary font-weight-bold">Ter
 mine: </span> 09.08. oder 23.8.</p><p><span class="text-primary font-weight
 -bold">Kosten: </span> €16,- (Einzeltermin)</p><p>Babys lieben Klänge, Gerä
 usche, Musik und Gesang. Gemeinsam schaffen wir akustische und musikalische
  Erlebniswelten, in die sich die Babys nach Möglichkeit einbringen können u
 nd erweitern dabei auch Kompetenz und Repertoire das Kind im Alltag spieler
 isch zu fördern.</p><p>An diesem Einzeltermin kannst du dir ansehen, wie ei
 ne Einheit der Babyklangwelt ablaufen kann. Bitte gib an, ob du am 09.08. o
 der am 23.08. teilnehmen willst! Bei gleichzeitiger Buchung von zwei oder m
 ehr Terminen unserer Sommerangebote gibt es 5% Rabatt!</p></div></div></div
 ></div></div><div id="c984" class="frame frame-default frame-type-form_form
 framework frame-layout-0 frame-background-none frame-no-backgroundimage fra
 me-space-before-none frame-space-after-none"><div class="frame-container"><
 div class="frame-inner"><div class="form-container form-identifier-anmeldef
 ormular-984"><form enctype="multipart/form-data" method="post" novalidate="
 novalidate" id="anmeldeformular-984"><div>&nbsp;</div><input autocomplete="
 M6kBdN0PCLv9XHtxnR" name="tx_form_formframework[anmeldeformular-984][M6kBdN
 0PCLv9XHtxnR]" type="text" id="anmeldeformular-984-M6kBdN0PCLv9XHtxnR" styl
 e="position: absolute; margin: 0 0 0 -999em;" tabindex="-1" aria-hidden="tr
 ue" /><div class="form-actions"><nav class="form-navigation"><div class="bt
 n-toolbar" role="toolbar"><div class="btn-group" role="group"><span class="
 btn-group next"></span></div></div></nav></div></form></div></div></div></d
 iv><p>&nbsp;</p>
CONTACT:www.spielringel.at
X-EXTRAINFO:[preis='1600'][anmeldung='true']
DTSTAMP:20260423T144141
DTSTART:20230723T100000
DTEND:20230723T104500
SEQUENCE:0
TRANSP:OPAQUE
END:VEVENT
END:VCALENDAR