BEGIN:VCALENDAR
VERSION:2.0
PRODID:-//jEvents 2.0 for Joomla//EN
CALSCALE:GREGORIAN
METHOD:PUBLISH
BEGIN:VEVENT
UID:2427bdd1b16f5cce332a1e96dff2c096
CATEGORIES:18. Bezirk
CREATED:20230703T131824
SUMMARY:Stillgruppe / Babytreff
LOCATION:Spielringel\, Mollgasse 11-13
DESCRIPTION:Stillgruppe / BabytreffAustauschgruppe für Babymamas Mit: Bianca (https://s
 pielringel.at/angebote/das-team/martina-dorothea-sommersguter-1-1-1)\nKurst
 ag:  Dienstag 09:30-11:00\nKosten:  €14,- (pro Termin)\nDiese gemütliche Gr
 uppe bietet die Möglichkeit, sich mit anderen Müttern auszutauschen sowie I
 nformationen und Unterstützung zu vielen aktuellen Themen wie Stillen, Fütt
 ern, Blähungen, Schlafen, Weinen, Verwöhnen, Beikost, Abstillen zu holen. S
 elbst wenn dich kein spezielles Thema beschäftigt und du keine Stillproblem
 e hast, ist eine Stillgruppe ein toller Ort um andere Mamas und Kinder kenn
 en zu lernen. Die Gruppe ist geleitet von einer IBCLC aber auch nicht still
 ende Mütter sind herzlich willkommen - Frauen lernen andere Frauen kennen, 
 die ähnliche Themen, Sorgen, Ängste und Erlebnisse haben wie sie selbst.\nN
 ächste Termine:\n04.07., 11.07., 18.07., 25.07.,\n08.08., 22.08.,\n \n
X-ALT-DESC;FMTTYPE=text/html:<header class="frame-header"><h2 class="element-header">Stillgruppe / Babyt
 reff</h2><h4>Austauschgruppe für Babymamas</h4></header><div class="textpic
 -item textpic-gallery"><div class="gallery-row"><div class="gallery-item ga
 llery-item-size-1">&nbsp;</div></div></div><p><span class="text-primary fon
 t-weight-bold">Mit: </span><a href="https://spielringel.at/angebote/das-tea
 m/martina-dorothea-sommersguter-1-1-1">Bianca</a></p><p><span class="text-p
 rimary font-weight-bold">Kurstag: </span> Dienstag 09:30-11:00</p><p><span 
 class="text-primary font-weight-bold">Kosten: </span> €14,- (pro Termin)</p
 ><p>Diese gemütliche Gruppe bietet die Möglichkeit, sich mit anderen Mütter
 n auszutauschen sowie Informationen und Unterstützung zu vielen aktuellen T
 hemen wie Stillen, Füttern, Blähungen, Schlafen, Weinen, Verwöhnen, Beikost
 , Abstillen zu holen. Selbst wenn dich kein spezielles Thema beschäftigt un
 d du keine Stillprobleme hast, ist eine Stillgruppe ein toller Ort um ander
 e Mamas und Kinder kennen zu lernen. Die Gruppe ist geleitet von einer IBCL
 C aber auch nicht stillende Mütter sind herzlich willkommen - Frauen lernen
  andere Frauen kennen, die ähnliche Themen, Sorgen, Ängste und Erlebnisse h
 aben wie sie selbst.</p><p><strong>Nächste Termine:</strong></p><p><strong>
 04.07., 11.07., 18.07., 25.07.,</strong></p><p><strong>08.08., 22.08.,</str
 ong></p><p>&nbsp;</p>
CONTACT:www.spielringel.at
X-EXTRAINFO:[preis='1400'][anmeldung='true']
DTSTAMP:20260423T144103
DTSTART:20230711T073000
DTEND:20230711T090000
SEQUENCE:0
TRANSP:OPAQUE
END:VEVENT
END:VCALENDAR