BEGIN:VCALENDAR
VERSION:2.0
PRODID:-//jEvents 2.0 for Joomla//EN
CALSCALE:GREGORIAN
METHOD:PUBLISH
BEGIN:VEVENT
UID:d8d9063e2adad9e40fd6189dd36115e5
CATEGORIES:8. Bezirk
CREATED:20230703T150003
SUMMARY:Kinderschutz geht uns alle an
LOCATION:VHS Josefstadt\, Schmidgasse 18\, 1080 Wien
DESCRIPTION:<p>10594875 Kinderschutz geht uns alle an</p><p>in Kooperation mit der Wien
 er Kinder- und Jugendhilfe – Leben mit Kind</p><p>&nbsp;</p><p>Mo 1x, 20.11
 .2023, 18:30-20:30 Uhr</p><p>&nbsp;</p><p>Gerade in diesen turbulenten Zeit
 en gewinnt der Schutz von Kindern vor Gewalt und Vernachlässigung wieder an
  Bedeutung. Wir alle sind gefragt aufmerksam zu sein: wenn wir das Nachbars
 kind auffällig viel weinen hören; Großeltern, die sich Sorgen um mögliches 
 Suchtverhalten der Enkelkinder machen; der Wunsch, befreundete betroffene P
 ersonen, die gerne Hilfe hätten aber sich vor dem Aufsuchen einer Instituti
 on scheuen, zu unterstützen.</p><p>Kinder und Jugendliche in schwierigen Si
 tuationen brauchen uns, egal ob im privaten und beruflichen Umfeld oder sog
 ar als Krisen- bzw. Langzeitpflegefamilie.</p><p>Dieser Abend bietet viele 
 Informationen rund um Kinderschutz und über die Handlungsmöglichkeiten, wie
  auf unterschiedliche Art und Weise hilfreich unterstützt werden kann. Auch
  Zeit für Diskussionen mit Expert*innen und zur Beantwortung von Fragen zu 
 diesem wichtigen Thema wird es geben.</p><p>Eine Veranstaltung in Kooperati
 on mit der Wiener Kinder- und Jugendhilfe für Interessierte und Betroffene.
 </p><p>&nbsp;</p><p><strong><a href="https://www.vhs.at/de/k/279655327">Zur
  Buchung</a></strong></p>
CONTACT:josefstadt@vhs.at
X-EXTRAINFO:[preis='000'][anmeldung='true']
DTSTAMP:20260423T124004
DTSTART:20230703T060000
DTEND:20230703T150000
SEQUENCE:0
TRANSP:OPAQUE
END:VEVENT
END:VCALENDAR