BEGIN:VCALENDAR
VERSION:2.0
PRODID:-//jEvents 2.0 for Joomla//EN
CALSCALE:GREGORIAN
METHOD:PUBLISH
BEGIN:VEVENT
UID:c57871761d1619d99c23377208be3331
CATEGORIES:3. Bezirk
CREATED:20230803T110607
SUMMARY:Lustvoll Trotzen
LOCATION:LieblingsMAMA Praxis: Apostelgasse 29-31/1/9\, 1030 Wien
DESCRIPTION:<div id="block-yui_3_17_2_1_1626679657289_119496" class="sqs-block html-blo
 ck sqs-block-html" data-block-type="2"><div class="sqs-block-content"><div 
 class="sqs-html-content"><h4 style="white-space: pre-wrap;">Lustvoll Trotze
 n</h4><p class="sqsrte-large" style="white-space: pre-wrap;"><em>Authentisc
 he Begleitung von starken Gefühlen und der körperlichen Entwicklung von Kin
 dern zwischen 1- 6 Jahren.</em></p><p><span style="text-decoration: underli
 ne;">Expertinnen</span>:</p><p>Sexualpädagogin Tamara Felbinger <a href="ht
 tps://www.tamara-felbinger.at/">https://www.tamara-felbinger.at/</a></p><p>
 Familienberaterin Sabine Grasmuk-Siegl <a href="https://www.lieblingsmama.a
 t/">https://www.lieblingsmama.at/</a></p><p>&nbsp;</p><p class="" style="wh
 ite-space: pre-wrap;">Dein Kind ist wütend, traurig, glücklich und dass all
 es innerhalb von Minuten? Du liebst dein Kind, aber manchmal läuft einfach 
 alles aus dem Ruder und du weißt selbst nicht mehr wohin mit deiner Emotion
 ? Und was hat das jetzt mit kindlicher sexueller Entwicklung zu tun?</p><p 
 class="" style="white-space: pre-wrap;">Überschäumende Freude und unbändige
  Wut liegen ganz nah beisammen. So ein Gefühlsausbruch fordert ganz schön v
 iel – und zwar von allen Beteiligten. Das Erlernen und Einordnen von Gefühl
 en ist eine wichtige Prävention vor sexuellen Übergriffen. Ziel ist es, Kin
 dern eine Sprache für ihren Körper zu geben. Sie sollen angenehme von unang
 enehmen Berührungen und gute von schlechten Gefühlen unterscheiden können. 
 Dafür braucht es nicht „das Aufklärungsgespräch“, sondern eine offene und n
 eugierige Haltung deinem Kind gegenüber.</p><p class="" style="white-space:
  pre-wrap;">Wir richten den Blick auf eure ureigenen Werte und zeigen euch 
 wie das Bewusstsein darüber für Entlastung sorgen kann.</p><p class="sqsrte
 -large" style="white-space: pre-wrap;">An diesem Abend…</p><p class="" styl
 e="white-space: pre-wrap;">… erhältst du wichtigen Input zur Autonomiephase
 </p><p class="" style="white-space: pre-wrap;">… lernst du Strategien für d
 en Umgang mit dieser herausfordernden Zeit</p><p class="" style="white-spac
 e: pre-wrap;">… gewinnst du einen Einblick in die kindliche sexuelle Entwic
 klung</p><p class="" style="white-space: pre-wrap;">… lernst du Do’s and Do
 nt’s zu dieser Altersgruppe</p><p class="" style="white-space: pre-wrap;">…
  geben wir dir praktische und theoretische Tipps</p><p class="" style="whit
 e-space: pre-wrap;"><strong>On top erhältst du:</strong></p><p class="" sty
 le="white-space: pre-wrap;">… maßgeschneiderte Handlungswerkzeuge für den A
 lltag in deiner Familie</p><p class="" style="white-space: pre-wrap;">… Mut
  und Sicherheit mit dem Thema Sexualität</p><p class="" style="white-space:
  pre-wrap;">… eine umfangreiche Bücherliste für Kinder</p><p class="" style
 ="white-space: pre-wrap;">… einen Mutmacher für zu Hause</p><p class="" sty
 le="white-space: pre-wrap;" data-rte-preserve-empty="true">&nbsp;</p><p cla
 ss="" style="white-space: pre-wrap;">Wir freuen uns auf Austausch und eure 
 persönlichen Erfahrungen. In einem geschützten Rahmen gehen wir auf jede Fa
 miliensituationen individuell ein.</p><p>&nbsp;</p><p>Info und Anmeldung:</
 p><p><a href="https://www.lieblingsmama.at/spezialangebote">https://www.lie
 blingsmama.at/spezialangebote</a></p></div></div></div><p>&nbsp;</p>
CONTACT:Sabine Grasmuk-Siegl, MSc Familienberaterin, Psychologische Beraterin, https://www.lieblingsmama.at/spezialangebote
X-EXTRAINFO:[preis='13500'][anmeldung='true']
DTSTAMP:20260423T082618
DTSTART:20230912T150000
DTEND:20230912T183000
SEQUENCE:0
TRANSP:OPAQUE
END:VEVENT
END:VCALENDAR