BEGIN:VCALENDAR
VERSION:2.0
PRODID:-//jEvents 2.0 for Joomla//EN
CALSCALE:GREGORIAN
METHOD:PUBLISH
BEGIN:VEVENT
UID:134d83c7f386a39c848174b53319b3af
CATEGORIES:18. Bezirk
CREATED:20230818T102415
SUMMARY:Babyklangwelt zum Kennenlernen
LOCATION:Spielringel\, Mollgasse 11-13
DESCRIPTION:Babyklangwelt zum Kennenlernen am Mittwochfür Babys (3-10 Monate) mit Begle
 itungKurstag:  Mittwoch 12:00-12:45\nTermine:  23.8.\nKosten:  €16,- (Einze
 ltermin)\nBabys lieben Klänge, Geräusche, Musik und Gesang. Gemeinsam schaf
 fen wir akustische und musikalische Erlebniswelten, in die sich die Babys n
 ach Möglichkeit einbringen können und erweitern dabei auch Kompetenz und Re
 pertoire das Kind im Alltag spielerisch zu fördern.\nAn diesem Einzeltermin
  kannst du dir ansehen, wie eine Einheit der Babyklangwelt ablaufen kann. \
 n \n
X-ALT-DESC;FMTTYPE=text/html:<header class="frame-header"><h2 class="element-header">Babyklangwelt zum K
 ennenlernen am Mittwoch</h2><h4>für Babys (3-10 Monate) mit Begleitung</h4>
 <p><span class="text-primary font-weight-bold">Kurstag: </span> Mittwoch 12
 :00-12:45</p><p><span class="text-primary font-weight-bold">Termine: </span
 > 23.8.</p><p><span class="text-primary font-weight-bold">Kosten: </span> €
 16,- (Einzeltermin)</p><p>Babys lieben Klänge, Geräusche, Musik und Gesang.
  Gemeinsam schaffen wir akustische und musikalische Erlebniswelten, in die 
 sich die Babys nach Möglichkeit einbringen können und erweitern dabei auch 
 Kompetenz und Repertoire das Kind im Alltag spielerisch zu fördern.</p>An d
 iesem Einzeltermin kannst du dir ansehen, wie eine Einheit der Babyklangwel
 t ablaufen kann.<p>&nbsp;</p></header><p>&nbsp;</p>
CONTACT:www.spielringel.at
X-EXTRAINFO:[preis='1600'][anmeldung='true']
DTSTAMP:20260423T094501
DTSTART:20230823T100000
DTEND:20230823T104500
SEQUENCE:0
TRANSP:OPAQUE
END:VEVENT
END:VCALENDAR