BEGIN:VCALENDAR
VERSION:2.0
PRODID:-//jEvents 2.0 for Joomla//EN
CALSCALE:GREGORIAN
METHOD:PUBLISH
BEGIN:VEVENT
UID:279a864fb450d1dec97cb0b97b24682d
CATEGORIES:2. Bezirk
CREATED:20230825T150127
SUMMARY:Geschwisterkurs
LOCATION:Kind&amp;Kegel Eltern-Kind-Zentrum 1020\, Praterstraße 14/8
DESCRIPTION:Geschwisterkurs \nDu bekommst ein Geschwisterchen? Dann bist du bei uns gen
 au richtig. Spielerisch geben wir dir einen Einblick was im Bauch deiner Ma
 ma passiert, was der kleine Neuankömmling braucht. Babybad, wickeln, stille
 n, Fläschchen, tragen… all das darfst du ausprobieren. Bitte bring deine Pu
 ppe und einen Schal, sowie deine Mama oder Papa in den Kurs mit.\nTermin:\n
  Montag, 04.12.23, 1530 - 1700 Uhr\n Kosten:  € 16,-\n Anmeldung erforderli
 ch! (Höchste Teilnehmeranzahl: 10)\n \n
X-ALT-DESC;FMTTYPE=text/html:<h2>Geschwisterkurs</h2><p>&nbsp;</p><p>Du bekommst ein Geschwisterchen? Da
 nn bist du bei uns genau richtig. Spielerisch geben wir dir einen Einblick 
 was im Bauch deiner Mama passiert, was der kleine Neuankömmling braucht. Ba
 bybad, wickeln, stillen, Fläschchen, tragen… all das darfst du ausprobieren
 . Bitte bring deine Puppe und einen Schal, sowie deine Mama oder Papa in de
 n Kurs mit.</p><p><span class="fett">Termin:</span><br /> Montag, 04.12.23,
  15<span class="kleinhoch">30</span> - 17<span class="kleinhoch">00</span> 
 Uhr<br /> <span class="fett">Kosten: </span> € 16,-<br /> Anmeldung erforde
 rlich! (Höchste Teilnehmeranzahl: 10)</p><p>&nbsp;</p>
CONTACT:01 503 71 88, info@kind-und-kegel.at, www.kind-und-kegel.at
X-EXTRAINFO:[preis='1600'][anmeldung='true']
DTSTAMP:20260423T141639
DTSTART:20231204T143000
DTEND:20231204T160000
SEQUENCE:0
TRANSP:OPAQUE
END:VEVENT
END:VCALENDAR