BEGIN:VCALENDAR
VERSION:2.0
PRODID:-//jEvents 2.0 for Joomla//EN
CALSCALE:GREGORIAN
METHOD:PUBLISH
BEGIN:VEVENT
UID:1cae9cb249e646e1179fe97b3762f13a
CATEGORIES:2. Bezirk
CREATED:20230825T152600
SUMMARY:Wie Babys schlafen - Vortrag
LOCATION:Kind&amp;Kegel Eltern-Kind-Zentrum 1020\, Praterstraße 14/8
DESCRIPTION:Entwicklung, Mythen &amp; Träume: Wie Babys schlafen [Vortrag] \nVortrag zu
 m Thema Gehirnentwicklung im Baby- und Kleinkindalter und Konsequenzen für 
 den Baby- und Kleinkindschlaf. Warum schlafen Babys wie sie schlafen? Warum
  wachen Babys auf? Was kann man tun um sein Baby gut in den und im Schlaf z
 u begleiten.\nLeitung: Eva Dittinger, PhD\n Neurowissenschafterin, Mutter u
 nd zertifizierte Baby- und Kinderschlafbegleiterin \n Termine:\n\n Dienstag
 , 12.12.23, 1730 - 1900 Uhr \n Kosten: € 25,- pro Termin, Anmeldung erforde
 rlich!\n \n
X-ALT-DESC;FMTTYPE=text/html:<h2 class="unterstrich">Entwicklung, Mythen &amp; Träume: Wie Babys schlafe
 n [Vortrag]</h2><p>&nbsp;</p><p>Vortrag zum Thema Gehirnentwicklung im Baby
 - und Kleinkindalter und Konsequenzen für den Baby- und Kleinkindschlaf. Wa
 rum schlafen Babys wie sie schlafen? Warum wachen Babys auf? Was kann man t
 un um sein Baby gut in den und im Schlaf zu begleiten.</p><p><span class="f
 ett">Leitung:</span> Eva Dittinger, PhD<br /> Neurowissenschafterin, Mutter
  und zertifizierte Baby- und Kinderschlafbegleiterin <br /> <span class="fe
 tt">Termine</span>:<br /><br /> Dienstag, 12.12.23, 17<span class="kleinhoc
 h">30</span> - 19<span class="kleinhoch">00</span> Uhr <br /> <span class="
 fett">Kosten</span>: € 25,- pro Termin, Anmeldung erforderlich!</p><p>&nbsp
 ;</p>
CONTACT:01 503 71 88, info@kind-und-kegel.at, www.kind-und-kegel.at
X-EXTRAINFO:[preis='2500'][anmeldung='true']
DTSTAMP:20260423T113422
DTSTART:20231212T163000
DTEND:20231212T180000
SEQUENCE:0
TRANSP:OPAQUE
END:VEVENT
END:VCALENDAR