BEGIN:VCALENDAR
VERSION:2.0
PRODID:-//jEvents 2.0 for Joomla//EN
CALSCALE:GREGORIAN
METHOD:PUBLISH
BEGIN:VEVENT
UID:78c58771a06693f46de33bde0d92be8d
CATEGORIES:2. Bezirk
CREATED:20230825T154234
SUMMARY:Erste Hilfe bei Kindernotfällen Vortrag
LOCATION:Kind&amp;Kegel Eltern-Kind-Zentrum 1020\, Praterstraße 14/8
DESCRIPTION:<h2>Erste Hilfe bei Kindernotfällen [Vortrag]</h2><p>&nbsp;</p><p>Wie reani
 miere ich richtig, was tun bei Vergiftung, Verbrennung, Verschlucken, u.v.m
 .</p><p><span class="fett" style="color: #115dad;">Termine:</span><br /> Mi
 ttwoch, 15.11.23 von 10<span class="kleinhoch">00</span> - 11<span class="k
 leinhoch">30</span><br /> Dienstag, 04.12.23 von 18<span class="kleinhoch">
 00</span> - 19<span class="kleinhoch">30</span><span class="fett" style="co
 lor: #115dad;"><br /> Kosten: </span> 1 Einheit € 25,- inkl. Handout<br /> 
 Anmeldung erforderlich!</p><p>&nbsp;</p>
CONTACT:01 503 71 88, info@kind-und-kegel.at, www.kind-und-kegel.at
X-EXTRAINFO:[preis='2500'][anmeldung='true']
DTSTAMP:20260423T124525
DTSTART:20231204T170000
DTEND:20231204T183000
SEQUENCE:0
TRANSP:OPAQUE
END:VEVENT
END:VCALENDAR