BEGIN:VCALENDAR
VERSION:2.0
PRODID:-//jEvents 2.0 for Joomla//EN
CALSCALE:GREGORIAN
METHOD:PUBLISH
BEGIN:VEVENT
UID:4eb7c12a9b74a9bf570e63c756922690
CATEGORIES:1. Bezirk
CREATED:20230905T112034
SUMMARY:Vortragsreihe Food Education I-III
LOCATION: VHS Wiener Urania\, Uraniastraße 1 \, 1010 Wien 
DESCRIPTION:<div class="eventContent"><p><strong>Das Ernährungsverhalten</strong> von P
 ädagog*innen und Erziehungsberechtigten <strong>und deren eigene Beziehung 
 zum Essen sind entscheidend für das bewusste und unbewusste Essverhalten vo
 n Kindern.</strong></p><p>Sie werden über die wichtigsten wissenschaftliche
 n Erkenntnisse zur Ernährung informiert und WIE dieses Wissen umgesetzt wir
 d. Bei Interesse können die Erkenntnisse in der anschließenden Vortragsreih
 e vertieft werden. Außerdem wird ein Workshop angeboten, in dem wir anhand 
 von Praxisbeispielen die Umsetzung planen und trainieren.</p><p>Mehr Inform
 ationen über die Ernährungstrainerin: www.sarapancot.com/nutritionforlife</
 p></div><p>&nbsp;</p>
CONTACT:https://www.vhs.at/de/k/287641881
X-EXTRAINFO:[preis='3300'][anmeldung='true']
DTSTAMP:20260423T111751
DTSTART:20231107T170000
DTEND:20231109T183000
SEQUENCE:0
TRANSP:OPAQUE
END:VEVENT
END:VCALENDAR