BEGIN:VCALENDAR
VERSION:2.0
PRODID:-//jEvents 2.0 for Joomla//EN
CALSCALE:GREGORIAN
METHOD:PUBLISH
BEGIN:VEVENT
UID:c2058c540bc106ae8029c7766e0f32e1
CATEGORIES:22. Bezirk
CREATED:20230905T153713
SUMMARY:Schwangeren-Yoga
LOCATION:Spielraum Kunterbunt (Schiffmühlenstrasse 58\, 1220 Wien)
DESCRIPTION:Schwangeren-Yoga\n \nDer Kurs begleitet werdende Mütter durch die Schwanger
 schaft um diese besondere Zeit bewusst und entspannt erleben zu können.\n \
 nDabei werden verschiedene Yogapositionen, Atemtechniken und Meditationsmög
 lichkeiten erlernt die während der unterschiedlichen Phasen der Schwangersc
 haft und für die Geburt eine gute Unterstützung sind.\nDie Teilnahme ist ab
  der 13 Schwangerschaftswoche möglich.\nEs sind keine Yogakenntnisse notwen
 dig.\nDer Kurs besteht aus 6 Einheiten.\nIch freue mich auf euch!\nLeitung:
  Katharina Ungerboeck\n \n
X-ALT-DESC;FMTTYPE=text/html:<p class="MsoNormal"><span style="font-size: 14.0pt;">Schwangeren-Yoga</spa
 n></p><p>&nbsp;</p><p class="MsoNormal">Der Kurs begleitet werdende Mütter 
 durch die Schwangerschaft um diese besondere Zeit bewusst und entspannt erl
 eben zu können.</p><p>&nbsp;</p><p class="MsoNormal">Dabei werden verschied
 ene Yogapositionen, Atemtechniken und Meditationsmöglichkeiten erlernt die 
 während der unterschiedlichen Phasen der Schwangerschaft und für die Geburt
  eine gute Unterstützung sind.</p><p class="MsoNormal">Die Teilnahme ist ab
  der 13 Schwangerschaftswoche möglich.</p><p class="MsoNormal">Es sind kein
 e Yogakenntnisse notwendig.</p><p>Der Kurs besteht aus 6 Einheiten.</p><p>I
 ch freue mich auf euch!</p><p>Leitung: Katharina Ungerboeck</p><p>&nbsp;</p
 >
CONTACT:ungerboeckkati@gmail.com
X-EXTRAINFO:[preis='11000'][anmeldung='false']
DTSTAMP:20260423T162527
DTSTART:20231114T091500
DTEND:20231219T100000
SEQUENCE:0
TRANSP:OPAQUE
END:VEVENT
END:VCALENDAR