BEGIN:VCALENDAR
VERSION:2.0
PRODID:-//jEvents 2.0 for Joomla//EN
CALSCALE:GREGORIAN
METHOD:PUBLISH
BEGIN:VEVENT
UID:6401eb170fd27b18e90b93a65f32a7c6
CATEGORIES:1. Bezirk
CREATED:20230925T115328
SUMMARY:Mein Baby in der Welt der Bücher
LOCATION:Prunksaal der Österreichischen Nationalbibliothek\, Servicedesk Prunksaal\,
  Josefsplatz 1\, 1010 Wien
DESCRIPTION:<p><a href="https://www.onb.ac.at/kalender/mein-baby-in-der-welt-der-bueche
 r">Mein Baby in der Welt der Bücher (onb.ac.at)</a></p><p><span style="colo
 r: #000000; font-family: Inter, sans-serif; font-size: 20px;">Kurzweilige F
 ührungen erwarten Sie und Ihr Baby in der Österreichischen Nationalbiblioth
 ek. In entspannter Atmosphäre finden Führungen für Eltern und Betreuungsper
 sonen von Neugeborenen und Babys durch den Prunksaal statt. Stillen, Fläsch
 chen, Tragehilfe und Kinderwagen sind willkommen (wir empfehlen die Tragehi
 lfe). Im Liegen oder Sitzen auf Babymatten, im Stehen oder Schaukeln erfahr
 en die Besucher*innen mit Babys bei diesen Führungen spannende Details über
  die prunkvollen Sammlungen und Räumlichkeiten der Österreichischen Nationa
 lbibliothek.</span></p>
CONTACT:kulturvermittlung@onb.ac.at
X-EXTRAINFO:[preis='1450'][anmeldung='true']
DTSTAMP:20260423T124523
DTSTART:20231123T080000
DTEND:20231123T090000
SEQUENCE:0
TRANSP:OPAQUE
END:VEVENT
END:VCALENDAR