BEGIN:VCALENDAR
VERSION:2.0
PRODID:-//jEvents 2.0 for Joomla//EN
CALSCALE:GREGORIAN
METHOD:PUBLISH
BEGIN:VEVENT
UID:997f1b8d0a76c1eac793ca543d9ef73e
CATEGORIES:1. Bezirk
CREATED:20230925T120102
SUMMARY:Mein Baby in der Welt der Globen
LOCATION:Globenmuseum der Österreichischen Nationalbibliothek Servicedesk Palais Mol
 lard Herrengasse 9 1010 Wien
DESCRIPTION:<p><a href="https://www.onb.ac.at/kalender/mein-baby-in-der-welt-der-globen
 ">Mein Baby in der Welt der Globen (onb.ac.at)</a></p><p><span style="color
 : #000000; font-family: Inter, sans-serif; font-size: 20px;">Kurzweilige Fü
 hrungen erwarten Sie und Ihr Baby in der Österreichischen Nationalbibliothe
 k. In entspannter Atmosphäre finden Führungen für Eltern und Betreuungspers
 onen von Neugeborenen und Babys durch das Globenmuseum statt. Stillen, Fläs
 chchen, Tragehilfe und Kinderwagen sind willkommen (wir empfehlen die Trage
 hilfe). Im Liegen oder Sitzen auf Babymatten, im Stehen oder Schaukeln erfa
 hren die Besucher*innen mit Babys bei diesen Führungen spannende Details üb
 er die prunkvollen Sammlungen und Räumlichkeiten der Österreichischen Natio
 nalbibliothek.</span></p><p><a href="https://www.onb.ac.at/kalender/mein-ba
 by-in-der-welt-der-globen">Mein Baby in der Welt der Globen (onb.ac.at)</a>
 </p>
CONTACT:kulturvermittlung@onb.ac.at
X-EXTRAINFO:[preis='950'][anmeldung='true']
DTSTAMP:20260423T111737
DTSTART:20231207T080000
DTEND:20231207T090000
SEQUENCE:0
TRANSP:OPAQUE
END:VEVENT
END:VCALENDAR