BEGIN:VCALENDAR
VERSION:2.0
PRODID:-//jEvents 2.0 for Joomla//EN
CALSCALE:GREGORIAN
METHOD:PUBLISH
BEGIN:VEVENT
UID:f83e3847e8821d968467fa632d15ed17
CATEGORIES:22. Bezirk
CREATED:20230926T110220
SUMMARY:Fotoshooting Weihnachtsminis 2023
LOCATION:Haffnergasse 42\, 1220 Wien
DESCRIPTION:<p>Hallo meine Liebe, <br /><br />Am <strong>3./4./5.11 und 17./18./19.11.2
 023</strong> finden wieder meine jährlichen <strong>Weihnachtsminisessions<
 /strong> statt. Dieses Jahr erwartet euch ein weihnachtlicher Kranz zum Dur
 chschlüpfen.<br /><br />Werde Teil meiner Weihnachtsmini-Familien und überr
 asche Mama, Papa, Oma, Opa, Freunde, Bekannte, die Nachbarin, den Nachbarn,
  ... mit einem besonderen Weihnachtsgruß. Möglicherweise in Form meiner sel
 bst designten Weihnachtskarten.<br /><br />Ich freue mich darauf euch wiede
 r oder auch zum ersten Mal bei mir im Studio, für dieses besondere Fotoshoo
 ting, begrüßen zu dürfen.<br />Deine Fotografin Sabrina</p><p><br />-------
 ----</p><p><br /><strong>Detailinformationen</strong> findest du unter:<br 
 /><a href="https://www.zischortner.com/2023/09/26/weihnachten-und-fotos-wei
 hnachtsfotoshooting-fuer-die-familie-2023/">https://www.zischortner.com/202
 3/09/26/weihnachten-und-fotos-weihnachtsfotoshooting-fuer-die-familie-2023/
 </a></p><p><br />-----------</p><p><br /><strong>Anmeldung</strong>: <br />
 Schreibt mir eine E-Mail an sabrina@zischortner.com mit <br />eurem Wunschd
 atum, <br />2-3 mögliche Wunschuhrzeiten und <br />den Namen plus Alter all
 er kommenden.<br />(Die Termine sind stündlich zu bekommen.)<br /><br />---
 --------</p><p><br /><strong>Kontakt</strong>:<br />Sabrina Zisch-Ortner Ph
 otography<br />Fotografin für Neugeborenen-, Babybauch-, Meilenstein- und F
 amilienfotografie<br />+43 677 625 132 80 I sabrina@zischortner.com I www.z
 ischortner.com<br />Fotostudio: Haffnergasse 42, 1220 Wien</p>
CONTACT:sabrina@zischortner.com | www.zischortner.com | 0677/625 132 80
X-EXTRAINFO:[preis='16900'][anmeldung='true']
DTSTAMP:20260423T123324
DTSTART:20231103T080000
DTEND:20231105T160000
SEQUENCE:0
TRANSP:OPAQUE
END:VEVENT
END:VCALENDAR