BEGIN:VCALENDAR
VERSION:2.0
PRODID:-//jEvents 2.0 for Joomla//EN
CALSCALE:GREGORIAN
METHOD:PUBLISH
BEGIN:VEVENT
UID:b8e6b1a730b12a71947f02a16f6d581e
CATEGORIES:22. Bezirk
CREATED:20230926T110335
SUMMARY:Fotoshooting Weihnachtsminis 2023
LOCATION:Haffnergasse 42\, 1220 Wien
DESCRIPTION:Hallo ihr Lieben, \n\nAm 3./4./5.11 und 17./18./19.11.2023 finden wieder me
 ine jährlichen Weihnachtsminisessions statt. Dieses Jahr erwartet euch ein 
 weihnachtlicher Kranz zum Durchschlüpfen.\n\nWerde Teil meiner Weihnachtsmi
 ni-Familien und überrasche Mama, Papa, Oma, Opa, Freunde, Bekannte, die Nac
 hbarin, den Nachbarn, ... mit einem besonderen Weihnachtsgruß. Möglicherwei
 se in Form meiner selbst designten Weihnachtskarten.\n\nIch freue mich dara
 uf euch wieder oder auch zum ersten Mal bei mir im Studio, für dieses beson
 dere Fotoshooting, begrüßen zu dürfen.\nDeine Fotografin Sabrina\n\n-------
 ----\n\nDetailinformationen findest du unter:\nhttps://www.zischortner.com/
 2023/09/26/weihnachten-und-fotos-weihnachtsfotoshooting-fuer-die-familie-20
 23/ (https://www.zischortner.com/2023/09/26/weihnachten-und-fotos-weihnacht
 sfotoshooting-fuer-die-familie-2023/)\n\n-----------\n\nAnmeldung: \nSchrei
 bt mir eine E-Mail an sabrina@zischortner.com mit \neurem Wunschdatum, \n2-
 3 mögliche Wunschuhrzeiten und \nden Namen plus Alter aller kommenden.\n(Di
 e Termine sind stündlich zu bekommen.)\n\n-----------\n\nKontakt:\nSabrina 
 Zisch-Ortner Photography\nFotografin für Neugeborenen-, Babybauch-, Meilens
 tein- und Familienfotografie\n+43 677 625 132 80 I sabrina@zischortner.com 
 I www.zischortner.com\nFotostudio: Haffnergasse 42, 1220 Wien\n
X-ALT-DESC;FMTTYPE=text/html:<p>Hallo ihr Lieben, <br /><br />Am <strong>3./4./5.11 und 17./18./19.11.20
 23</strong> finden wieder meine jährlichen <strong>Weihnachtsminisessions</
 strong> statt. Dieses Jahr erwartet euch ein weihnachtlicher Kranz zum Durc
 hschlüpfen.<br /><br />Werde Teil meiner Weihnachtsmini-Familien und überra
 sche Mama, Papa, Oma, Opa, Freunde, Bekannte, die Nachbarin, den Nachbarn, 
 ... mit einem besonderen Weihnachtsgruß. Möglicherweise in Form meiner selb
 st designten Weihnachtskarten.<br /><br />Ich freue mich darauf euch wieder
  oder auch zum ersten Mal bei mir im Studio, für dieses besondere Fotoshoot
 ing, begrüßen zu dürfen.<br />Deine Fotografin Sabrina</p><p><br />--------
 ---</p><p><br /><strong>Detailinformationen</strong> findest du unter:<br /
 ><a href="https://www.zischortner.com/2023/09/26/weihnachten-und-fotos-weih
 nachtsfotoshooting-fuer-die-familie-2023/">https://www.zischortner.com/2023
 /09/26/weihnachten-und-fotos-weihnachtsfotoshooting-fuer-die-familie-2023/<
 /a></p><p><br />-----------</p><p><br /><strong>Anmeldung</strong>: <br />S
 chreibt mir eine E-Mail an sabrina@zischortner.com mit <br />eurem Wunschda
 tum, <br />2-3 mögliche Wunschuhrzeiten und <br />den Namen plus Alter alle
 r kommenden.<br />(Die Termine sind stündlich zu bekommen.)<br /><br />----
 -------</p><p><br /><strong>Kontakt</strong>:<br />Sabrina Zisch-Ortner Pho
 tography<br />Fotografin für Neugeborenen-, Babybauch-, Meilenstein- und Fa
 milienfotografie<br />+43 677 625 132 80 I sabrina@zischortner.com I www.zi
 schortner.com<br />Fotostudio: Haffnergasse 42, 1220 Wien</p>
CONTACT:sabrina@zischortner.com | www.zischortner.com | 0677/625 132 80
X-EXTRAINFO:[preis='16900'][anmeldung='true']
DTSTAMP:20260423T142710
DTSTART:20231117T080000
DTEND:20231119T160000
SEQUENCE:0
TRANSP:OPAQUE
END:VEVENT
END:VCALENDAR