BEGIN:VCALENDAR
VERSION:2.0
PRODID:-//jEvents 2.0 for Joomla//EN
CALSCALE:GREGORIAN
METHOD:PUBLISH
BEGIN:VEVENT
UID:5002f059280a7e0c7281f0d27bf02cfb
CATEGORIES:18. Bezirk
CREATED:19700101T010000
SUMMARY:Babyzeichensprache
LOCATION:Spielringel\, Mollgasse 11-13
DESCRIPTION:<header class="frame-header"><h2 class="element-header">Babyzeichensprache<
 /h2><h4>für Babys ab ca. 6 bis 15 Monaten und Babys mit Handicap</h4><p><sp
 an class="text-primary font-weight-bold">Start: </span> 08.11.2023</p><p><s
 pan class="text-primary font-weight-bold">Mit: </span> Markus</p><p><span c
 lass="text-primary font-weight-bold">Kurstag: </span> Mittwoch 09:30-10:30<
 /p><p><span class="text-primary font-weight-bold">Termine: </span> 08.11., 
 15.11., 22.11., 29.11., 06.12., 13.12., 20.12., 10.01., 17.01., 24.01.</p><
 p><span class="text-primary font-weight-bold">Kosten: </span> € 180,- (10 E
 inheiten)</p><p>Babys können ca. ab dem 6 Monat oft wiederholte Wörter vers
 tehen und diese bestimmten Gegenständen, Menschen oder Emotionen zuordnen. 
 Das selbst sprechen ist ihnen jedoch noch nicht möglich. Gleichzeitig sind 
 die motorischen Fähigkeiten in diesem Alter meist so weit entwickelt, dass 
 sie ihre Hände bewusst bewegen und einsetzen können.</p><p>Die Babyzeichens
 prache, mit ihren einfachen Handzeichen, Gebärden bzw. Gesten hilft dir und
  deinem Baby miteinander zu kommunizieren. Babyzeichen bilden eine Brücke v
 om Wortverständnis bis zur gesprochenen Sprache und bereichern den Eltern-K
 ind-Alltag ungemein.</p><p>Durch das bessere Verständnis ist es möglich ras
 ch und konkret auf dein Baby zu reagieren. Das reduziert den Frust auf beid
 en Seiten und führt zu mehr Wohlbefinden in der ganzen Familie. Es vereinfa
 cht und Entspannt den Alltag. Babys erfahren dadurch das Gefühl von Selbstw
 irksamkeit, welches das Vertrauen in sich und seine Fähigkeiten stärkt. Und
  du als Erwachsener hast die Möglichkeit die Welt aus den Augen des Kindes 
 zu entdecken.</p><p>Wenn du dein Kind besser verstehen möchtest bevor es sp
 rechen kann, bist du genau richtig in diesem Kurs. Auf spielerische Art und
  Weise lernst du und dein Baby eine Vielzahl an Babyzeichen. In gemütlicher
  und entspannter Atmosphäre werden wir singen, reimen und uns bewegen - gan
 z ohne Anstrengung und mit viel Spaß.</p><div id="c585" class="frame frame-
 default frame-type-text frame-layout-0 frame-background-none frame-no-backg
 roundimage frame-space-before-none frame-space-after-none"><div class="fram
 e-container"><div class="frame-inner"><p><span class="text-primary">Info &a
 mp; Anmeldung:</span><br /><a href="http://www.markusbittner.at/anmeldung-b
 abyzeichensprachekurs-start-8-11-2023/" target="_blank" rel="noopener noref
 errer">http://www.markusbittner.at/anmeldung-babyzeichensprachekurs-start-8
 -11-2023/</a></p></div></div></div><p>&nbsp;</p></header><p>&nbsp;</p>
CONTACT:www.spielringel.at
X-EXTRAINFO:[preis='18000'][anmeldung='true']
DTSTAMP:20260423T142147
DTSTART:20231108T083000
DTEND:20231108T093000
SEQUENCE:0
RRULE:FREQ=WEEKLY;UNTIL=20231109T000000Z;INTERVAL=1;BYDAY=WE
TRANSP:OPAQUE
END:VEVENT
END:VCALENDAR