BEGIN:VCALENDAR
VERSION:2.0
PRODID:-//jEvents 2.0 for Joomla//EN
CALSCALE:GREGORIAN
METHOD:PUBLISH
BEGIN:VEVENT
UID:affaf4509ac226e681885f863d1b90c5
CATEGORIES:3. Bezirk
CREATED:20231007T220101
SUMMARY:KINDERKOCHKURS
LOCATION:Studio Nutrition for Life Rennweg 78
DESCRIPTION:<p>&nbsp;</p><p style="text-align: center;" align="center"><b><span style="
 font-family: 'Calibri',sans-serif; mso-ascii-theme-font: minor-latin; mso-h
 ansi-theme-font: minor-latin; mso-bidi-theme-font: minor-latin; color: #007
 0c0;">KINDERKOCHKURS: LECKERE GNOCCHI. EINE REISE IN DIE WELT DER GNOCCHI F
 ÜR KREATIVE KINDER!</span></b></p><p>&nbsp;</p><p>&nbsp;</p><p><span style=
 "font-family: 'Calibri',sans-serif; mso-ascii-theme-font: minor-latin; mso-
 hansi-theme-font: minor-latin; mso-bidi-theme-font: minor-latin; color: #00
 70c0;">In diesem aufregenden Kurs haben Kinder (ab 5 Jahren) die Möglichkei
 t, auf unterhaltsame und lehrreiche Weise das Kochen zu erleben. Wir werden
  eine breite Palette von Gnocchi erkunden, darunter:</span></p><p>&nbsp;</p
 ><p style="margin-left: 36.0pt; text-indent: -18.0pt; mso-list: l0 level1 l
 fo1; tab-stops: list 36.0pt;"><span style="font-size: 10.0pt; mso-bidi-font
 -size: 12.0pt; font-family: Symbol; mso-fareast-font-family: Symbol; mso-bi
 di-font-family: Symbol; color: #0070c0;"><span style="mso-list: Ignore;">·<
 span style="font: 7.0pt 'Times New Roman';">&nbsp;&nbsp;&nbsp;&nbsp;&nbsp;&
 nbsp; </span></span></span><strong><span style="font-family: 'Calibri',sans
 -serif; mso-ascii-theme-font: minor-latin; mso-hansi-theme-font: minor-lati
 n; mso-bidi-theme-font: minor-latin; color: #0070c0;">Gnocchi mit Kartoffel
 n:</span></strong><span style="font-family: 'Calibri',sans-serif; mso-ascii
 -theme-font: minor-latin; mso-hansi-theme-font: minor-latin; mso-bidi-theme
 -font: minor-latin; color: #0070c0;"> Wir werden lernen, traditionelle Gnoc
 chi mit Kartoffeln zuzubereiten, weich und köstlich.</span></p><p>&nbsp;</p
 ><p style="margin-left: 36.0pt; text-indent: -18.0pt; mso-list: l0 level1 l
 fo1; tab-stops: list 36.0pt;"><span style="font-size: 10.0pt; mso-bidi-font
 -size: 12.0pt; font-family: Symbol; mso-fareast-font-family: Symbol; mso-bi
 di-font-family: Symbol; color: #0070c0;"><span style="mso-list: Ignore;">·<
 span style="font: 7.0pt 'Times New Roman';">&nbsp;&nbsp;&nbsp;&nbsp;&nbsp;&
 nbsp; </span></span></span><strong><span style="font-family: 'Calibri',sans
 -serif; mso-ascii-theme-font: minor-latin; mso-hansi-theme-font: minor-lati
 n; mso-bidi-theme-font: minor-latin; color: #0070c0;">Kürbisgnocchi:</span>
 </strong><span style="font-family: 'Calibri',sans-serif; mso-ascii-theme-fo
 nt: minor-latin; mso-hansi-theme-font: minor-latin; mso-bidi-theme-font: mi
 nor-latin; color: #0070c0;"> Wir entdecken die süße Seite der Gnocchi mit K
 ürbis, perfekt für einen herbstlichen Touch.</span></p><p>&nbsp;</p><p styl
 e="margin-left: 36.0pt; text-indent: -18.0pt; mso-list: l0 level1 lfo1; tab
 -stops: list 36.0pt;"><span style="font-size: 10.0pt; mso-bidi-font-size: 1
 2.0pt; font-family: Symbol; mso-fareast-font-family: Symbol; mso-bidi-font-
 family: Symbol; color: #0070c0;"><span style="mso-list: Ignore;">·<span sty
 le="font: 7.0pt 'Times New Roman';">&nbsp;&nbsp;&nbsp;&nbsp;&nbsp;&nbsp; </
 span></span></span><strong><span style="font-family: 'Calibri',sans-serif; 
 mso-ascii-theme-font: minor-latin; mso-hansi-theme-font: minor-latin; mso-b
 idi-theme-font: minor-latin; color: #0070c0;">Brotgnocchi:</span></strong><
 span style="font-family: 'Calibri',sans-serif; mso-ascii-theme-font: minor-
 latin; mso-hansi-theme-font: minor-latin; mso-bidi-theme-font: minor-latin;
  color: #0070c0;"> Wir werden die italienische Tradition mit Brotgnocchi er
 kunden, eine Lektion darüber, wie man keine Lebensmittel verschwendet!</spa
 n></p><p>&nbsp;</p><p style="margin-left: 36.0pt; text-indent: -18.0pt; mso
 -list: l0 level1 lfo1; tab-stops: list 36.0pt;"><span style="font-size: 10.
 0pt; mso-bidi-font-size: 12.0pt; font-family: Symbol; mso-fareast-font-fami
 ly: Symbol; mso-bidi-font-family: Symbol; color: #0070c0;"><span style="mso
 -list: Ignore;">·<span style="font: 7.0pt 'Times New Roman';">&nbsp;&nbsp;&
 nbsp;&nbsp;&nbsp;&nbsp; </span></span></span><strong><span style="font-fami
 ly: 'Calibri',sans-serif; mso-ascii-theme-font: minor-latin; mso-hansi-them
 e-font: minor-latin; mso-bidi-theme-font: minor-latin; color: #0070c0;">Kas
 taniengnocchi:</span></strong><span style="font-family: 'Calibri',sans-seri
 f; mso-ascii-theme-font: minor-latin; mso-hansi-theme-font: minor-latin; ms
 o-bidi-theme-font: minor-latin; color: #0070c0;"> Wir probieren den rustika
 len Geschmack von Kastaniengnocchi, eine authentische Delikatesse.</span></
 p><p>&nbsp;</p><p><span style="font-family: 'Calibri',sans-serif; mso-ascii
 -theme-font: minor-latin; mso-hansi-theme-font: minor-latin; mso-bidi-theme
 -font: minor-latin; color: #0070c0;">Es ist die Gelegenheit für die Kinder,
  ihre Kreativität zu entfalten, neue Aromen zu erkunden und die Grundlagen 
 des Kochens zu erlernen. Mit frischen und einfachen Zutaten werden die klei
 nen Köche ihre eigenen Kreationen zubereiten und probieren.</span></p><p>&n
 bsp;</p><p class="MsoNormal" style="margin: 0cm 20.85pt .0001pt 21.3pt;"><s
 trong><span style="font-family: 'Calibri',sans-serif; mso-ascii-theme-font:
  minor-latin; mso-hansi-theme-font: minor-latin; mso-bidi-theme-font: minor
 -latin; color: #0070c0;">Wo </span></strong><span class="s7"><span style="f
 ont-family: 'Calibri',sans-serif; mso-ascii-theme-font: minor-latin; mso-fa
 reast-font-family: 'Times New Roman'; mso-fareast-theme-font: minor-fareast
 ; mso-hansi-theme-font: minor-latin; mso-bidi-theme-font: minor-latin; colo
 r: #0070c0;">nutrition</span></span><span style="font-family: 'Calibri',san
 s-serif; mso-ascii-theme-font: minor-latin; mso-hansi-theme-font: minor-lat
 in; mso-bidi-theme-font: minor-latin; color: #0070c0;"> </span><span class=
 "s7"><span style="font-family: 'Calibri',sans-serif; mso-ascii-theme-font: 
 minor-latin; mso-fareast-font-family: 'Times New Roman'; mso-fareast-theme-
 font: minor-fareast; mso-hansi-theme-font: minor-latin; mso-bidi-theme-font
 : minor-latin; color: #0070c0;">for</span></span><span style="font-family: 
 'Calibri',sans-serif; mso-ascii-theme-font: minor-latin; mso-hansi-theme-fo
 nt: minor-latin; mso-bidi-theme-font: minor-latin; color: #0070c0;"> </span
 ><span class="s7"><span style="font-family: 'Calibri',sans-serif; mso-ascii
 -theme-font: minor-latin; mso-fareast-font-family: 'Times New Roman'; mso-f
 areast-theme-font: minor-fareast; mso-hansi-theme-font: minor-latin; mso-bi
 di-theme-font: minor-latin; color: #0070c0;">life, Rennweg 78, 1030 Wien </
 span></span><span style="font-family: 'Calibri',sans-serif; mso-ascii-theme
 -font: minor-latin; mso-fareast-font-family: 'Times New Roman'; mso-fareast
 -theme-font: minor-fareast; mso-hansi-theme-font: minor-latin; mso-bidi-the
 me-font: minor-latin; color: #0070c0;"></span></p><p>&nbsp;</p><p class="Ms
 oNormal" style="margin: 0cm 20.85pt .0001pt 21.3pt;"><strong><span style="f
 ont-family: 'Calibri',sans-serif; mso-ascii-theme-font: minor-latin; mso-ha
 nsi-theme-font: minor-latin; mso-bidi-theme-font: minor-latin; color: #0070
 c0;">Wann </span></strong><span style="font-family: 'Calibri',sans-serif; m
 so-ascii-theme-font: minor-latin; mso-hansi-theme-font: minor-latin; mso-bi
 di-theme-font: minor-latin; color: #0070c0;">Sa. 07. Okt. 15:00-17:00 Uhr</
 span></p><p>&nbsp;</p><p class="MsoNormal" style="margin: 0cm 20.85pt .0001
 pt 21.3pt;"><strong><span style="font-family: 'Calibri',sans-serif; mso-asc
 ii-theme-font: minor-latin; mso-hansi-theme-font: minor-latin; mso-bidi-the
 me-font: minor-latin; color: #0070c0;">Alter </span></strong><span style="f
 ont-family: 'Calibri',sans-serif; mso-ascii-theme-font: minor-latin; mso-ha
 nsi-theme-font: minor-latin; mso-bidi-theme-font: minor-latin; color: #0070
 c0;">ab 5 J.</span></p><p>&nbsp;</p><p class="MsoNormal" style="margin: 0cm
  20.85pt .0001pt 21.3pt;"><strong><span style="font-family: 'Calibri',sans-
 serif; mso-ascii-theme-font: minor-latin; mso-hansi-theme-font: minor-latin
 ; mso-bidi-theme-font: minor-latin; color: #0070c0;">Kosten</span></strong>
 <span style="font-family: 'Calibri',sans-serif; mso-ascii-theme-font: minor
 -latin; mso-hansi-theme-font: minor-latin; mso-bidi-theme-font: minor-latin
 ; color: #0070c0;"> € 50,- alles inkl. (Essen, Arbeitskleidung, Küchenutens
 ilie, Lebensmittel, Getränke, Rezepte)</span></p><p>&nbsp;</p><p class="Mso
 Normal" style="margin: 0cm 20.85pt .0001pt 21.3pt;"><strong><span style="fo
 nt-family: 'Calibri',sans-serif; mso-ascii-theme-font: minor-latin; mso-han
 si-theme-font: minor-latin; mso-bidi-theme-font: minor-latin; color: #0070c
 0;">Begrenzte Plätze, Anmeldung</span></strong><span style="font-family: 'C
 alibri',sans-serif; mso-ascii-theme-font: minor-latin; mso-hansi-theme-font
 : minor-latin; mso-bidi-theme-font: minor-latin; color: #0070c0;"> </span><
 a href="mailto:nutritionforlife@sarapancot.com"><span style="font-family: '
 Calibri',sans-serif; mso-ascii-theme-font: minor-latin; mso-hansi-theme-fon
 t: minor-latin; mso-bidi-theme-font: minor-latin; color: #0070c0;">nutritio
 nforlife@sarapancot.com</span></a><span style="font-family: 'Calibri',sans-
 serif; mso-ascii-theme-font: minor-latin; mso-hansi-theme-font: minor-latin
 ; mso-bidi-theme-font: minor-latin; color: #0070c0;"></span></p><p>&nbsp;</
 p><p>&nbsp;</p><p>&nbsp;</p>
CONTACT:nutritionforlife@sarapancot.com
X-EXTRAINFO:[preis='5000'][anmeldung='true']
DTSTAMP:20260423T111955
DTSTART:20231118T140000
DTEND:20231118T160000
SEQUENCE:0
TRANSP:OPAQUE
END:VEVENT
END:VCALENDAR