BEGIN:VCALENDAR
VERSION:2.0
PRODID:-//jEvents 2.0 for Joomla//EN
CALSCALE:GREGORIAN
METHOD:PUBLISH
BEGIN:VEVENT
UID:142fefac4978f68172d321c3f1c5d46b
CATEGORIES:6. Bezirk
CREATED:20231008T193508
SUMMARY:Stoffwindel Workshop (Für Einsteiger)
LOCATION:6.\, Sandwirtgasse 13/12
DESCRIPTION:<p>   Normal  0  21      false  false  false                     MicrosoftI
 nternetExplorer4    /* Style Definitions */ table.MsoNormalTable	{mso-style
 -name:"Normale Tabelle";	mso-tstyle-rowband-size:0;	mso-tstyle-colband-size
 :0;	mso-style-noshow:yes;	mso-style-parent:"";	mso-padding-alt:0cm 5.4pt 0c
 m 5.4pt;	mso-para-margin:0cm;	mso-para-margin-bottom:.0001pt;	mso-paginatio
 n:widow-orphan;	font-size:10.0pt;	font-family:"Times New Roman";	mso-ansi-l
 anguage:#0400;	mso-fareast-language:#0400;	mso-bidi-language:#0400;}</p><p 
 class="MsoNormal">Kunterbunt sind sie, super freundlich zu Babypopo, Umwelt
  und Geldbörserl noch dazu... aber es gibt soooo viele verschiedene...</p><
 p>&nbsp;</p><p class="MsoNormal">Wenn man sich neu mit dem Thema Stoffwinde
 ln beschäftigt, ist die Vielfalt fast unüberschaubar und es steht oft die F
 rage im Raum "Ist das überhaupt etwas für uns?</p><p>&nbsp;</p><p class="Ms
 oNormal">&nbsp;</p><p>&nbsp;</p><p class="MsoNormal">Darum gibt es diesen E
 insteiger-Stoffwindel-Workshop.</p><p>&nbsp;</p><p class="MsoNormal">Hier l
 ernt ihr die verschiedenen Windelsysteme, ihre Handhabung sowie die jeweili
 gen Vor- und Nachteile kennen, um überlegen zu können, welches System in eu
 ren Familienalltag passen könnte.</p><p>&nbsp;</p><p class="MsoNormal">Auße
 rdem bekommt ihr hilfreiche Infos zum Windelgutschein und praktische Tipps 
 für den Stoffwindelalltag mit. (Wieviele? Hygiene? Pflege? Unterwegs? Nacht
 s?)</p><p>&nbsp;</p><p class="MsoNormal">&nbsp;</p><p>&nbsp;</p><p class="M
 soNormal">Und was besonders hilfreich ist: ihr könnt eure Fragen und Bedenk
 en loswerden, die euch im Kopf herumschwirren und bekommt herzlich-ehrliche
  und praxiserprobte Antworten, denn wie bei all meinen Familien-Themen ist 
 mir auch hier ein undogmatischer, alltagstauglicher und fröhlicher Zugang w
 ichtig.</p><p>&nbsp;</p><p class="MsoNormal">&nbsp;</p><p>&nbsp;</p><p clas
 s="MsoNormal"><b style="mso-bidi-font-weight: normal;">Wann</b>: Donnerstag
 , 9. November 2023</p><p>&nbsp;</p><p class="MsoNormal"><b style="mso-bidi-
 font-weight: normal;">Uhrzeit</b>: 17.30 - 19.30 Uhr</p><p>&nbsp;</p><p cla
 ss="MsoNormal"><b style="mso-bidi-font-weight: normal;">Kosten</b>: € 49,- 
 pro Person / € 74,- als Paar</p><p>&nbsp;</p><p class="MsoNormal">inkl. Fac
 hvortrag, Handout, Heißgetränk, Stoffwindeltisch</p><p>&nbsp;</p><p class="
 MsoNormal">Expertin: Denise Winkler</p><p>&nbsp;</p><p class="MsoNormal">&n
 bsp;</p><p>&nbsp;</p><p class="MsoNormal">Babys und Kleinkinder können gern
 e dabei sein, denn gibt es eine Spielelandschaft für sie zum Erkunden.</p><
 p>&nbsp;</p><p class="MsoNormal">&nbsp;</p><p>&nbsp;</p><p class="MsoNormal
 ">&nbsp;</p><p>&nbsp;</p><p class="MsoNormal">Hier findest du alle weiteren
  Infos zum Workshop und auch die</p><p>&nbsp;</p><p class="MsoNormal">Anmel
 dung:</p><p>&nbsp;</p><p class="MsoNormal"><a href="Infos%20zum%20Workshop"
 >https://www.biolino.at/kurs.../workshops-mit-denise-winkler/</a></p><p>&nb
 sp;</p><p class="MsoNormal">&nbsp;</p><p>&nbsp;</p><p class="MsoNormal">Wir
  freuen uns auf euch!</p><p>&nbsp;</p><p class="MsoNormal">Denise und Marti
 na</p><p>&nbsp;</p>
X-ALT-DESC;FMTTYPE=text/html:<p>   Normal  0  21      false  false  false                     MicrosoftI
 nternetExplorer4    /* Style Definitions */ table.MsoNormalTable	{mso-style
 -name:"Normale Tabelle";	mso-tstyle-rowband-size:0;	mso-tstyle-colband-size
 :0;	mso-style-noshow:yes;	mso-style-parent:"";	mso-padding-alt:0cm 5.4pt 0c
 m 5.4pt;	mso-para-margin:0cm;	mso-para-margin-bottom:.0001pt;	mso-paginatio
 n:widow-orphan;	font-size:10.0pt;	font-family:"Times New Roman";	mso-ansi-l
 anguage:#0400;	mso-fareast-language:#0400;	mso-bidi-language:#0400;}</p><p 
 class="MsoNormal">Kunterbunt sind sie, super freundlich zu Babypopo, Umwelt
  und Geldbörserl noch dazu... aber es gibt soooo viele verschiedene...</p><
 p>&nbsp;</p><p class="MsoNormal">Wenn man sich neu mit dem Thema Stoffwinde
 ln beschäftigt, ist die Vielfalt fast unüberschaubar und es steht oft die F
 rage im Raum "Ist das überhaupt etwas für uns?</p><p>&nbsp;</p><p class="Ms
 oNormal">&nbsp;</p><p>&nbsp;</p><p class="MsoNormal">Darum gibt es diesen E
 insteiger-Stoffwindel-Workshop.</p><p>&nbsp;</p><p class="MsoNormal">Hier l
 ernt ihr die verschiedenen Windelsysteme, ihre Handhabung sowie die jeweili
 gen Vor- und Nachteile kennen, um überlegen zu können, welches System in eu
 ren Familienalltag passen könnte.</p><p>&nbsp;</p><p class="MsoNormal">Auße
 rdem bekommt ihr hilfreiche Infos zum Windelgutschein und praktische Tipps 
 für den Stoffwindelalltag mit. (Wieviele? Hygiene? Pflege? Unterwegs? Nacht
 s?)</p><p>&nbsp;</p><p class="MsoNormal">&nbsp;</p><p>&nbsp;</p><p class="M
 soNormal">Und was besonders hilfreich ist: ihr könnt eure Fragen und Bedenk
 en loswerden, die euch im Kopf herumschwirren und bekommt herzlich-ehrliche
  und praxiserprobte Antworten, denn wie bei all meinen Familien-Themen ist 
 mir auch hier ein undogmatischer, alltagstauglicher und fröhlicher Zugang w
 ichtig.</p><p>&nbsp;</p><p class="MsoNormal">&nbsp;</p><p>&nbsp;</p><p clas
 s="MsoNormal"><b style="mso-bidi-font-weight: normal;">Wann</b>: Donnerstag
 , 9. November 2023</p><p>&nbsp;</p><p class="MsoNormal"><b style="mso-bidi-
 font-weight: normal;">Uhrzeit</b>: 17.30 - 19.30 Uhr</p><p>&nbsp;</p><p cla
 ss="MsoNormal"><b style="mso-bidi-font-weight: normal;">Kosten</b>: € 49,- 
 pro Person / € 74,- als Paar</p><p>&nbsp;</p><p class="MsoNormal">inkl. Fac
 hvortrag, Handout, Heißgetränk, Stoffwindeltisch</p><p>&nbsp;</p><p class="
 MsoNormal">Expertin: Denise Winkler</p><p>&nbsp;</p><p class="MsoNormal">&n
 bsp;</p><p>&nbsp;</p><p class="MsoNormal">Babys und Kleinkinder können gern
 e dabei sein, denn gibt es eine Spielelandschaft für sie zum Erkunden.</p><
 p>&nbsp;</p><p class="MsoNormal">&nbsp;</p><p>&nbsp;</p><p class="MsoNormal
 ">&nbsp;</p><p>&nbsp;</p><p class="MsoNormal">Hier findest du alle weiteren
  Infos zum Workshop und auch die</p><p>&nbsp;</p><p class="MsoNormal">Anmel
 dung:</p><p>&nbsp;</p><p class="MsoNormal"><a href="https://babymamas.at/In
 fos%20zum%20Workshop">https://www.biolino.at/kurs.../workshops-mit-denise-w
 inkler/</a></p><p>&nbsp;</p><p class="MsoNormal">&nbsp;</p><p>&nbsp;</p><p 
 class="MsoNormal">Wir freuen uns auf euch!</p><p>&nbsp;</p><p class="MsoNor
 mal">Denise und Martina</p><p>&nbsp;</p>
CONTACT:martina.novak@biolino.at, 067762892970
X-EXTRAINFO:[preis='4900'][anmeldung='true']
DTSTAMP:20260423T124608
DTSTART:20231109T163000
DTEND:20231109T183000
SEQUENCE:0
TRANSP:OPAQUE
END:VEVENT
END:VCALENDAR