BEGIN:VCALENDAR
VERSION:2.0
PRODID:-//jEvents 2.0 for Joomla//EN
CALSCALE:GREGORIAN
METHOD:PUBLISH
BEGIN:VEVENT
UID:659779ae41bc461115d24b0803b35fb5
CATEGORIES:18. Bezirk
CREATED:20231009T164044
SUMMARY:Schwangeren-Workshop
LOCATION:Women´s Nature\, Antonigasse 37\, 1180 Wien
DESCRIPTION:Schwangerschafts-Wirkshop:\nDiese besonderen Workshops (mit Wirkung) für ba
 ldige Mamis enthalten verschiedene Elemente: Achtsamkeit, Atem (Atemübungen
 , Atem unter der Geburt), Asanas (Lockerung, Stärkung, Dehnung, Entspannung
 ), Durchhalteübungen, Entspannungsübungen, Ernährungstipps, der Beckenboden
  (Infos, Übungen, Wissenswertes), Vorbereitung auf die Geburt, Wochenbett, 
 Baby (Pflege, Umgang,…), Tönen,…und vieles mehr. Es ist eine Art Kurz-Gebur
 tsvorbereitungskurs mit Yoga gepaart. Alles gewürzt mit einer Prise Humor u
 nd ganz viel Liebe und natürlich eine Schwangerschaftsyogastunde nach meine
 m Konzept.\nEs werden wunderbare Stunden  – sehr bereichernd, unterstützend
 , Klarheit bringend und nährend.\nBITTE MITNEHMEN:Bequeme Kleidung, ein kle
 ines Handtuch,  eventuell eine kleine Decke oder ein Tuch zum Zudecken.\nGe
 tränke und kleine Snacks sind im Preis inkludiert.\n \n
X-ALT-DESC;FMTTYPE=text/html:<p><strong>Schwangerschafts-Wirkshop:</strong></p><p style="font-size: 16px
 ; box-sizing: border-box; margin: 0px; padding: 0px 0px 1em; border: 0px; o
 utline: 0px; vertical-align: baseline; background-image: none; background-p
 osition: 0% 0%; background-size: auto; background-repeat: repeat; backgroun
 d-attachment: scroll; background-origin: padding-box; background-clip: bord
 er-box; caret-color: #666666; color: #666666; font-family: 'Open Sans', Ari
 al, sans-serif;">Diese besonderen Workshops (mit Wirkung) für baldige Mamis
  enthalten verschiedene Elemente: Achtsamkeit, Atem (Atemübungen, Atem unte
 r der Geburt), Asanas (Lockerung, Stärkung, Dehnung, Entspannung), Durchhal
 teübungen, Entspannungsübungen, Ernährungstipps, der Beckenboden (Infos, Üb
 ungen, Wissenswertes), Vorbereitung auf die Geburt, Wochenbett, Baby (Pfleg
 e, Umgang,…), Tönen,…und vieles mehr. Es ist eine Art Kurz-Geburtsvorbereit
 ungskurs mit Yoga gepaart. Alles gewürzt mit einer Prise Humor und ganz vie
 l Liebe und natürlich eine Schwangerschaftsyogastunde nach meinem Konzept.<
 /p><p style="font-size: 16px; box-sizing: border-box; margin: 0px; padding:
  0px 0px 1em; border: 0px; outline: 0px; vertical-align: baseline; backgrou
 nd-image: none; background-position: 0% 0%; background-size: auto; backgrou
 nd-repeat: repeat; background-attachment: scroll; background-origin: paddin
 g-box; background-clip: border-box; caret-color: #666666; color: #666666; f
 ont-family: 'Open Sans', Arial, sans-serif;">Es werden wunderbare Stunden &
 nbsp;– sehr bereichernd, unterstützend, Klarheit bringend und nährend.</p><
 h6 style="box-sizing: border-box; margin: 0px; padding: 0px 0px 10px; borde
 r: 0px; outline: 0px; font-size: 14px; vertical-align: baseline; background
 -image: none; background-position: 0% 0%; background-size: auto; background
 -repeat: repeat; background-attachment: scroll; background-origin: padding-
 box; background-clip: border-box; color: #333333; line-height: 1em; font-we
 ight: 500; font-family: 'Open Sans', Arial, sans-serif;"><strong style="box
 -sizing: border-box; margin: 0px; padding: 0px; border: 0px; outline: 0px; 
 vertical-align: baseline; background-image: none; background-position: 0% 0
 %; background-size: auto; background-repeat: repeat; background-attachment:
  scroll; background-origin: padding-box; background-clip: border-box;">BITT
 E MITNEHMEN:</strong></h6><p style="font-size: 16px; box-sizing: border-box
 ; margin: 0px; padding: 0px 0px 1em; border: 0px; outline: 0px; vertical-al
 ign: baseline; background-image: none; background-position: 0% 0%; backgrou
 nd-size: auto; background-repeat: repeat; background-attachment: scroll; ba
 ckground-origin: padding-box; background-clip: border-box; caret-color: #66
 6666; color: #666666; font-family: 'Open Sans', Arial, sans-serif;">Bequeme
  Kleidung, ein kleines Handtuch, &nbsp;eventuell eine kleine Decke oder ein
  Tuch zum Zudecken.</p><p style="font-size: 16px; box-sizing: border-box; m
 argin: 0px; padding: 0px 0px 1em; border: 0px; outline: 0px; vertical-align
 : baseline; background-image: none; background-position: 0% 0%; background-
 size: auto; background-repeat: repeat; background-attachment: scroll; backg
 round-origin: padding-box; background-clip: border-box; caret-color: #66666
 6; color: #666666; font-family: 'Open Sans', Arial, sans-serif;"><em style=
 "box-sizing: border-box; margin: 0px; padding: 0px; border: 0px; outline: 0
 px; vertical-align: baseline; background-image: none; background-position: 
 0% 0%; background-size: auto; background-repeat: repeat; background-attachm
 ent: scroll; background-origin: padding-box; background-clip: border-box;">
 Getränke und</em><em style="box-sizing: border-box; margin: 0px; padding: 0
 px; border: 0px; outline: 0px; vertical-align: baseline; background-image: 
 none; background-position: 0% 0%; background-size: auto; background-repeat:
  repeat; background-attachment: scroll; background-origin: padding-box; bac
 kground-clip: border-box;">&nbsp;kleine Snacks sind im Preis inkludiert.</e
 m></p><p>&nbsp;</p>
CONTACT:connie@yogahebamme.com
X-EXTRAINFO:[preis='12000'][anmeldung='true']
DTSTAMP:20260423T094303
DTSTART:20231111T130000
DTEND:20231111T163000
SEQUENCE:0
TRANSP:OPAQUE
END:VEVENT
END:VCALENDAR