BEGIN:VCALENDAR
VERSION:2.0
PRODID:-//jEvents 2.0 for Joomla//EN
CALSCALE:GREGORIAN
METHOD:PUBLISH
BEGIN:VEVENT
UID:854f5cbcfa588fc59b60c4efd1b2c9ef
CATEGORIES:16. Bezirk
CREATED:20231010T140424
SUMMARY:Die japanische Babymassage - aceki*Babyshiatsu
LOCATION:lemoni - Elternkindzentrum\, Wilhelminenstraße 45\, 1160 Wien
DESCRIPTION:<p style="margin-bottom: 0cm;" align="CENTER"><b>Familien-Glück kann man un
 terstützen mit der jahrhundertealten Tradition der japanischen Babymassage,
  dem aceki*BabyShiatsu.</b></p><p style="margin-bottom: 0cm;" align="CENTER
 ">&nbsp;</p><p style="margin-bottom: 0cm; text-align: left;" align="CENTER"
 ><span style="font-family: Verdana, sans-serif;"><b><br /></b><span style="
 color: #000000;"><span style="font-family: apple-system, BlinkMacSystemFont
 , 'Segoe UI', Roboto, Helvetica, Arial, sans-serif;"><span style="font-size
 : 10pt;">Einheiten: 4</span></span></span><b><br /></b><span style="color: 
 #000000;"><span style="font-family: apple-system, BlinkMacSystemFont, 'Sego
 e UI', Roboto, Helvetica, Arial, sans-serif;"><span style="font-size: 10pt;
 ">Teilnehmer: max. 5 Babys mit einer Begleitperson oder Paar (Mama, Papa, O
 ma, Opa, Tante...)</span></span></span><b><br /></b><span style="color: #00
 0000;"><span style="font-family: apple-system, BlinkMacSystemFont, 'Segoe U
 I', Roboto, Helvetica, Arial, sans-serif;"><span style="font-size: 10pt;">A
 lter: Ab dem 1. Lebenstag bis zum Krabbelalter</span></span></span><b><br /
 ></b><span style="color: #000000;"><span style="font-family: apple-system, 
 BlinkMacSystemFont, 'Segoe UI', Roboto, Helvetica, Arial, sans-serif;"><spa
 n style="font-size: 10pt;">Dauer: 4x1h</span></span></span><b><br /></b><sp
 an style="color: #000000;"><span style="font-family: apple-system, BlinkMac
 SystemFont, 'Segoe UI', Roboto, Helvetica, Arial, sans-serif;"><span style=
 "font-size: 10pt;">Termine: 22.11., 29.11., 6.12., 13.12.2023 jeweils von 9
 -10 Uhr</span></span></span><b><br /></b><span style="color: #000000;"><spa
 n style="font-family: apple-system, BlinkMacSystemFont, 'Segoe UI', Roboto,
  Helvetica, Arial, sans-serif;"><span style="font-size: 10pt;">Kosten: 130€
  Einzelperson / 150€ für Paare inkl. Skript</span></span></span><b><br /><b
 r /></b><span style="color: #000000;"><span style="font-family: apple-syste
 m, BlinkMacSystemFont, 'Segoe UI', Roboto, Helvetica, Arial, sans-serif;"><
 span style="font-size: 10pt;">Ort: Lemoni - Elternkindzentrum, Wilhelminens
 tr. 45/2, 1160 Wien</span></span></span><b><br /><br /></b><span style="col
 or: #000000;"><span style="font-family: apple-system, BlinkMacSystemFont, '
 Segoe UI', Roboto, Helvetica, Arial, sans-serif;"><span style="font-size: 1
 0pt;">Anmeldung unter <a href="mailto:office@shiatsusi.at">office@shiatsusi
 .at</a></span></span></span></span></p><p>&nbsp;</p><p style="margin-bottom
 : 0cm;"><span style="font-family: Verdana, sans-serif;"><span style="text-d
 ecoration: underline;">Die Wirkung für dein Baby:</span></span></p><p style
 ="margin-bottom: 0cm;">&nbsp;</p><ul><li><p style="margin-bottom: 0cm;"><sp
 an style="font-family: Verdana, sans-serif;">Stärkt das <b>Immunsystem</b> 
 und verbessert die <b>Verdauung.</b> </span></p></li><li><p style="margin-b
 ottom: 0cm;"><span style="font-family: Verdana, sans-serif;">Ist hilfreich 
 bei <b>Schlafstörungen</b>, <b>Zahnen</b>, übermäßiges <b>Schreien</b>, ect
 .</span></p></li><li><p style="margin-bottom: 0cm;"><span style="font-famil
 y: Verdana, sans-serif;"><b>Baby-Handling</b> wirkt sich unter anderem auf 
 die ersten Entwicklungsschritte aus und prägt dein Baby wie es später durch
 s Leben geht.</span></p></li><li><p style="margin-bottom: 0cm;"><span style
 ="font-family: Verdana, sans-serif;">Berührung wirkt sich nachhaltig auf di
 e <b>körperliche und geistige Entwicklung</b> der Kinder aus. </span></p></
 li></ul><p style="margin-bottom: 0cm;">&nbsp;</p><p style="margin-bottom: 0
 cm;"><span style="font-family: Verdana, sans-serif;"><span style="text-deco
 ration: underline;">Der Nutzen für die jungen Eltern:</span></span></p><p s
 tyle="margin-bottom: 0cm;">&nbsp;</p><ul><li><p style="margin-bottom: 0cm;"
 ><span style="font-family: Verdana, sans-serif;">Sicherheit im Umgang mit d
 einem Baby und Stärkung der <b>Eltern-Kind-Bindung</b></span></p></li><li><
 p style="margin-bottom: 0cm;"><span style="font-family: Verdana, sans-serif
 ;"><b>Wohlfühlzeit</b> mit dem Baby</span></p></li><li><p style="margin-bot
 tom: 0cm;"><span style="font-family: Verdana, sans-serif;"><b>Alltagsbeschw
 erden </b>und <b>Wissensvermittlung</b></span></p></li><li><p style="margin
 -bottom: 0cm;"><span style="font-family: Verdana, sans-serif;">Babys kommen
  in <b>Kontakt und Austausch mit gleichgesinnten Familien.</b></span></p></
 li><li><p style="margin-bottom: 0cm;">„<span style="font-family: Verdana, s
 ans-serif;"><b>Survival“Tipps</b> für Eltern – in der Ruhe liegt die Kraft.
  </span></p></li><li><p style="margin-bottom: 0cm;"><span style="font-famil
 y: Verdana, sans-serif;"><b>Spiele und Tipps</b> für ein harmonisches Famil
 ienleben</span></p></li><li><p style="margin-bottom: 0cm;"><span style="fon
 t-family: Verdana, sans-serif;"><b>Stärke-Übungen</b> für Eltern</span></p>
 </li><li><p style="margin-bottom: 0cm;"><span style="font-family: Verdana, 
 sans-serif;"><b>Zauberpunkte</b> für die täglichen Herausforderungen mit de
 inem Baby</span></p></li></ul><p style="margin-bottom: 0cm;">&nbsp;</p><p s
 tyle="margin-bottom: 0cm;"><span style="font-family: Verdana, sans-serif;">
 <i>Ich freue mich, euch kennenzulernen. Und gemeinsam geben wir dem Familie
 n-Glück einen Rahmen, damit ihr einen schönen Start ins Lebens habt.</i></s
 pan></p><p style="margin-bottom: 0cm;"><em><span style="font-family: Verdan
 a, sans-serif;"><span style="font-size: small;">Im japanischen BabyShiatsu 
 arbeiten wir mit achtsamen Finger(shi)-druck(atsu) am leicht bekleideten Kö
 rper. Bringe eine Decke mit und komme 15 Minuten vor Kursbeginn, damit wir 
 ganz entspannt starten können.</span></span></em></p><p style="margin-botto
 m: 0cm;"><em><span style="font-size: small; font-family: Verdana, sans-seri
 f; background-color: inherit; color: inherit; caret-color: auto;">Wenn du b
 ereits an meinem Paar-Geburtsvorbereitung mit Wellmother Shiatsu Kurs teilg
 enommen hast, erhältst du 10% Rabatt auf diesen BabyShiatsu Kurs.</span><sp
 an style="font-family: Verdana, sans-serif;"></span> </em></p><p>&nbsp;</p>
CONTACT:Mag. Susanne Raberger www.shiatsusi.at
X-EXTRAINFO:[preis='13000'][anmeldung='true']
DTSTAMP:20260423T125256
DTSTART:20231122T080000
DTEND:20231122T090000
SEQUENCE:0
TRANSP:OPAQUE
END:VEVENT
END:VCALENDAR