BEGIN:VCALENDAR
VERSION:2.0
PRODID:-//jEvents 2.0 for Joomla//EN
CALSCALE:GREGORIAN
METHOD:PUBLISH
BEGIN:VEVENT
UID:6b01cd3c123d0aa591fbb19f0a19d57b
CATEGORIES:16. Bezirk
CREATED:20231012T214107
SUMMARY:Sand-Spiel-Raum
LOCATION:SpielRaum Atelier\, Thaliastraße 132\, 1160 Wien
DESCRIPTION:Im Sand-Spiel-Raum, können Kinder zwischen 1,5 und &amp; 6 Jahren mit ganz 
 feinem, trockenem Sand und vielen Küchenuntensilien frei spielen. Der Sand 
 lädt zum Schütten, Rieseln, Spuren ziehen und kreativ sein ein. Das Spiel m
 it Sand beruhigt und zentriert.\nMit dem Kauf der Tickets untertstützt du d
 ie Crowdfunding Kampagne von Movimenta!, einem Pikler Bewegungsgeräte Verle
 ih.\nAnmeldung direkt auf der Crowdfunding website von Movimenta! (https://
 www.imgraetzl.at/crowdfunding/movimenta-verleih-von-pikler-bewegungsmateria
 lien)\nMit großem Dank an Brita Guth fürs zur Verfügungstellen ihres Raumes
  und dem Material. \n
X-ALT-DESC;FMTTYPE=text/html:<p><span style="color: #050505; font-family: Roboto, Helvetica, Arial, sans
 -serif; font-size: 15px; white-space-collapse: preserve;">Im <strong>Sand-S
 piel-Raum,</strong> können Kinder zwischen 1,5 und &amp; 6 Jahren mit ganz 
 feinem, trockenem Sand und vielen Küchenuntensilien frei spielen. Der Sand 
 lädt zum Schütten, Rieseln, Spuren ziehen und kreativ sein ein. Das Spiel m
 it Sand beruhigt und zentriert.</span></p><p><span style="color: #050505; f
 ont-family: Roboto, Helvetica, Arial, sans-serif; font-size: 15px; white-sp
 ace-collapse: preserve;">Mit dem Kauf der Tickets untertstützt du die Crowd
 funding Kampagne von Movimenta!, einem Pikler Bewegungsgeräte Verleih.</spa
 n></p><p style="border: none; line-height: 1.5em; margin: 0px; color: #0000
 00; font-family: 'Roboto Condensed', sans-serif; font-size: 15px; text-alig
 n: center;"><strong>Anmeldung</strong> direkt auf der Crowdfunding website 
 von&nbsp;<a href="https://www.imgraetzl.at/crowdfunding/movimenta-verleih-v
 on-pikler-bewegungsmaterialien">Movimenta!</a></p><p><span style="color: #0
 50505; font-family: Roboto, Helvetica, Arial, sans-serif; font-size: 15px; 
 white-space-collapse: preserve;">Mit großem Dank an Brita Guth fürs zur Ver
 fügungstellen ihres Raumes und dem Material. </span></p>
CONTACT:www.spielerisch.at
X-EXTRAINFO:[preis='2500'][anmeldung='true']
DTSTAMP:20260423T141617
DTSTART:20231125T090000
DTEND:20231125T100000
SEQUENCE:0
TRANSP:OPAQUE
END:VEVENT
END:VCALENDAR