BEGIN:VCALENDAR
VERSION:2.0
PRODID:-//jEvents 2.0 for Joomla//EN
CALSCALE:GREGORIAN
METHOD:PUBLISH
BEGIN:VEVENT
UID:4bed7386d2bf7b0ee25200daeb1ec0b5
CATEGORIES:8. Bezirk
CREATED:20231014T083615
SUMMARY:KLASSIK COOL! Babykonzerte
LOCATION:Bezirksmuseum Josefstadt\, 8.\, Schmidgasse 18
DESCRIPTION:KLASSIK COOL! Tastenzauber für Babys\nAuf dem Kuscheldecke oder auf einen S
 essel, sitzend oder  liegend, krabbelnd, herumgehend, klatschend:\nKlassik 
 Cool! Babykonzerte sind kurzweilig, entspannend,  anregend, abwechslungsrei
 ch. Schon die Jüngsten reagieren mit Interesse bis Begeisterung auf die kom
 plexen Töne, wiegen sich zum Rhythmus der Musik und lassen sich von der Mus
 iklust der Eltern anstecken. Dauer: ca 40 Minuten\nKarten: 9 Euro pro Perso
 n (sowohl Erwachsene als auch Babys)\nKartenverkauf über die Webseite www.g
 rossundklein.info (https://www.grossundklein.info)\nEventuelle Restkarten a
 n der Tageskassa.\nWeitere Termine\nMi., 13. Dezember, 10:00 Uhr\nMi., 24. 
 Januar, 10:00  Uhr\nMi., 21. Februar, 10:00 Uhr\nMi., 13 März, 10:00 Uhr\nM
 o., 15 April, 10:00 Uhr\nDi., 14. Mai, 10:00 Uhr\n
X-ALT-DESC;FMTTYPE=text/html:<p><strong>KLASSIK COOL! Tastenzauber für Babys</strong></p><p style="borde
 r: 0px; font-size: 15px; margin: 0px 0px 1.625em; outline: 0px; padding: 0p
 x; vertical-align: baseline; color: #373737;"><strong style="border: 0px; f
 ont-family: inherit; font-style: inherit; margin: 0px; outline: 0px; paddin
 g: 0px; vertical-align: baseline;">A</strong>uf dem Kuscheldecke oder auf e
 inen Sessel, sitzend oder&nbsp; liegend, krabbelnd, herumgehend, klatschend
 :</p><p style="border: 0px; font-size: 15px; margin: 0px 0px 1.625em; outli
 ne: 0px; padding: 0px; vertical-align: baseline; color: #373737;"><strong s
 tyle="border: 0px; font-family: inherit; font-style: inherit; margin: 0px; 
 outline: 0px; padding: 0px; vertical-align: baseline;">Klassik Cool! Babyko
 nzerte</strong>&nbsp;sind kurzweilig, entspannend,&nbsp; anregend, abwechsl
 ungsreich. Schon die Jüngsten reagieren mit Interesse bis Begeisterung auf 
 die komplexen Töne, wiegen sich zum Rhythmus der Musik und lassen sich von 
 der Musiklust der Eltern anstecken. Dauer: ca 40 Minuten</p><p style="borde
 r: 0px; font-size: 15px; margin: 0px 0px 1.625em; outline: 0px; padding: 0p
 x; vertical-align: baseline; color: #373737;">Karten: 9 Euro pro Person (so
 wohl Erwachsene als auch Babys)</p><p>Kartenverkauf über die Webseite <a hr
 ef="https://www.grossundklein.info">www.grossundklein.info</a></p><p>Eventu
 elle Restkarten an der Tageskassa.</p><p style="border: 0px; font-size: 15p
 x; margin: 0px 0px 1.625em; outline: 0px; padding: 0px; vertical-align: bas
 eline; color: #373737;">Weitere Termine</p><p style="border: 0px; font-size
 : 15px; margin: 0px 0px 1.625em; outline: 0px; padding: 0px; vertical-align
 : baseline; color: #373737;">Mi., 13. Dezember, 10:00 Uhr<br />Mi., 24. Jan
 uar, 10:00 &nbsp;Uhr<br />Mi., 21. Februar, 10:00 Uhr<br />Mi., 13 März, 10
 :00 Uhr<br />Mo., 15 April, 10:00 Uhr<br />Di., 14. Mai, 10:00 Uhr</p>
CONTACT:Kulturverein grossundklein / www.grossunklein.info
X-EXTRAINFO:[preis='900'][anmeldung='true']
DTSTAMP:20260423T160235
DTSTART:20231114T090000
DTEND:20231114T094500
SEQUENCE:0
TRANSP:OPAQUE
END:VEVENT
END:VCALENDAR