BEGIN:VCALENDAR
VERSION:2.0
PRODID:-//jEvents 2.0 for Joomla//EN
CALSCALE:GREGORIAN
METHOD:PUBLISH
BEGIN:VEVENT
UID:3e1f5dc308681fc0d1fc715090ef56ce
CATEGORIES:16. Bezirk
CREATED:20231110T194430
SUMMARY:Pikler-Baby Workshop für werdende/ Eltern im 1. Lebensjahr
LOCATION:SpielRaum Atelier\, Thaliastraße 132/1\, 1160 Wien
DESCRIPTION:<div class="elementor-element elementor-element-92178ac elementor-widget el
 ementor-widget-heading" style="box-sizing: border-box; --flex-direction: in
 itial; --flex-wrap: initial; --justify-content: initial; --align-items: ini
 tial; --align-content: initial; --gap: initial; --flex-basis: initial; --fl
 ex-grow: initial; --flex-shrink: initial; --order: initial; --align-self: i
 nitial; flex-basis: var(--flex-basis); flex-grow: var(--flex-grow); flex-sh
 rink: var(--flex-shrink); order: var(--order); align-self: var(--align-self
 ); flex-direction: var(--flex-direction); flex-wrap: var(--flex-wrap); just
 ify-content: var(--justify-content); align-items: var(--align-items); align
 -content: var(--align-content); gap: var(--gap); position: relative; --swip
 er-theme-color: #000; --swiper-navigation-size: 44px; --swiper-pagination-b
 ullet-size: 6px; --swiper-pagination-bullet-horizontal-gap: 6px; --widgets-
 spacing: 20px 20px; width: 509.016px; margin-bottom: 20px; margin-block-end
 : 20px; color: #333333; font-family: Lato, sans-serif; font-size: 16px;" da
 ta-id="92178ac" data-elementtype="widget" data-widgettype="heading.default"
 ><div class="elementor-widget-container" style="box-sizing: border-box; tra
 nsition: background .3s,border .3s,border-radius .3s,box-shadow .3s,transfo
 rm var(--e-transform-transition-duration,.4s);"><h4 class="elementor-headin
 g-title elementor-size-default" style="box-sizing: border-box; margin-block
 : 0.5rem 1rem; font-family: AnnieUseYourTelescope-Regular, sans-serif; font
 -weight: 500; line-height: 1; color: inherit; font-size: 30px; padding: 0px
 ; margin: 0px;">Die Pädagogik von Emmi Pikler für Familien</h4></div></div>
 <div class="elementor-element elementor-element-0b2d136 elementor-widget el
 ementor-widget-text-editor" style="box-sizing: border-box; --flex-direction
 : initial; --flex-wrap: initial; --justify-content: initial; --align-items:
  initial; --align-content: initial; --gap: initial; --flex-basis: initial; 
 --flex-grow: initial; --flex-shrink: initial; --order: initial; --align-sel
 f: initial; flex-basis: var(--flex-basis); flex-grow: var(--flex-grow); fle
 x-shrink: var(--flex-shrink); order: var(--order); align-self: var(--align-
 self); flex-direction: var(--flex-direction); flex-wrap: var(--flex-wrap); 
 justify-content: var(--justify-content); align-items: var(--align-items); a
 lign-content: var(--align-content); gap: var(--gap); position: relative; --
 swiper-theme-color: #000; --swiper-navigation-size: 44px; --swiper-paginati
 on-bullet-size: 6px; --swiper-pagination-bullet-horizontal-gap: 6px; --widg
 ets-spacing: 20px 20px; width: 509.016px; margin-bottom: 20px; margin-block
 -end: 20px; color: var( --e-global-color-text ); font-family: Lato, sans-se
 rif; font-size: 16px;" data-id="0b2d136" data-elementtype="widget" data-wid
 gettype="text-editor.default"><div class="elementor-widget-container" style
 ="box-sizing: border-box; transition: background .3s,border .3s,border-radi
 us .3s,box-shadow .3s,transform var(--e-transform-transition-duration,.4s);
 "><p style="box-sizing: border-box; margin-block: 0px 0.9rem;">Du erwartest
  ein Baby oder hast bereits ein Baby bekommen?<br style="box-sizing: border
 -box;" />Du möchtest wissen:</p><ul style="box-sizing: border-box; margin-b
 lock: 0px; border: 0px; outline: 0px; vertical-align: baseline; background:
  transparent;"><li style="box-sizing: border-box; margin-block: 0px; border
 : 0px; outline: 0px; vertical-align: baseline; background: transparent;">Wi
 e lernt mein Baby selber einzuschlafen und welche Einschlafhilfen sind sinn
 voll?</li><li style="box-sizing: border-box; margin-block: 0px; border: 0px
 ; outline: 0px; vertical-align: baseline; background: transparent;">Wie bau
 t es eine sichere Bindung auf?</li><li style="box-sizing: border-box; margi
 n-block: 0px; border: 0px; outline: 0px; vertical-align: baseline; backgrou
 nd: transparent;">Ab wann versteht es, was wir sagen?</li><li style="box-si
 zing: border-box; margin-block: 0px; border: 0px; outline: 0px; vertical-al
 ign: baseline; background: transparent;">Wie lernt mein Baby, sich selbst z
 u beschäftigen und welche Spielsachen machen im ersten Lebensjahr Sinn?</li
 ><li style="box-sizing: border-box; margin-block: 0px; border: 0px; outline
 : 0px; vertical-align: baseline; background: transparent;">Wie können Pfleg
 esituationen harmonisch gelingen und Freude machen?</li><li style="box-sizi
 ng: border-box; margin-block: 0px; border: 0px; outline: 0px; vertical-alig
 n: baseline; background: transparent;">Wie lernt es Sitzen, Krabbeln und Ge
 hen und wie kann ich es dabei unterstützen?</li></ul><p style="box-sizing: 
 border-box; margin-block: 0px 0.9rem;">Dann bist DU in meinem Workshop “Pik
 ler-Baby” genau richtig!&nbsp;</p><p style="box-sizing: border-box; margin-
 block: 0px 0.9rem;">Hier bekommst du relevantes Wissen und hilfreiche Tipps
  für den Alltag mit deinem Baby – damit der Start ins Familienleben gut gel
 ingen kann!&nbsp;</p></div></div>
CONTACT:https://www.brita-guth.at
X-EXTRAINFO:[preis='4200'][anmeldung='true']
DTSTAMP:20260423T123524
DTSTART:20231117T160000
DTEND:20231117T180000
SEQUENCE:0
TRANSP:OPAQUE
END:VEVENT
END:VCALENDAR