BEGIN:VCALENDAR
VERSION:2.0
PRODID:-//jEvents 2.0 for Joomla//EN
CALSCALE:GREGORIAN
METHOD:PUBLISH
BEGIN:VEVENT
UID:5f6212624637e5abae14b2a30a385421
CATEGORIES:21. Bezirk
CREATED:20231113T172028
SUMMARY:Mitmach-Konzert für Kinder ab 2 Jahren / KLASSIK COOL! Der verlorene Handschuh
LOCATION:Bezirksmuseum Floridsdorf\, 21.\, Pragerstrasse 33
DESCRIPTION:<p style="border: 0px; font-size: 15px; margin: 0px 0px 1.625em; outline: 0
 px; padding: 0px; vertical-align: baseline; color: #373737;"><strong style=
 "border: 0px; font-family: inherit; font-style: inherit; margin: 0px; outli
 ne: 0px; padding: 0px; vertical-align: baseline;">KLASSIK COOL! Der verlore
 ne Handschuh</strong><br />Musikalisches Erzähltheater zum Mitmachen für Ki
 nder von 2 bis 8 Jahren</p><p style="border: 0px; font-size: 15px; margin: 
 0px 0px 1.625em; outline: 0px; padding: 0px; vertical-align: baseline; colo
 r: #373737;"><strong style="border: 0px; font-family: inherit; font-style: 
 inherit; margin: 0px; outline: 0px; padding: 0px; vertical-align: baseline;
 ">Sa., 18. November ab 10:30 Uhr / Bastelstube ab 10:00 Uhr</strong><br />B
 ezirksmuseum Floridsdorf, Pragerstrasse 33</p><p style="border: 0px; font-s
 ize: 15px; margin: 0px 0px 1.625em; outline: 0px; padding: 0px; vertical-al
 ign: baseline; color: #373737;">Ein Handschuh fällt in den Schnee – ein kle
 ines Ereignis mit großer Wirkung!<br />Ein wunderschönes Märchen über Freun
 dschaft, Zusammenhalt und Teilen. Die Tiercharaktere werden mit liebevoller
  Erzählung und stimmungsvoller Musik zum Leben erweckt. Ein Märchen zum Zuh
 ören, Staunen und zum Mitmachen. Mit Erzählung, Musikvermittlung, Flöte(n),
  Klavier. Dauer: ca 45 Minuten. Interessierte Kinder können nach dem Konzer
 t die Instrumente auch ausprobieren.</p><p>Kartenverkauf online über <a hre
 f="https://www.grossundklein.info">www.grossundklein.info</a></p><p>&nbsp;<
 /p><p>Veranstalter / Kontakt</p><p>kulturverein grossundklein</p><p>office@
 grossundklein.info</p><p>0660 581 33 96</p><p>&nbsp;</p><p>&nbsp;</p><p>&nb
 sp;</p>
CONTACT:Kulturverein grossundklein / www.grossunklein.info
X-EXTRAINFO:[preis='1300'][anmeldung='true']
DTSTAMP:20260423T123448
DTSTART:20231118T093000
DTEND:20231118T101500
SEQUENCE:0
TRANSP:OPAQUE
END:VEVENT
END:VCALENDAR