BEGIN:VCALENDAR
VERSION:2.0
PRODID:-//jEvents 2.0 for Joomla//EN
CALSCALE:GREGORIAN
METHOD:PUBLISH
BEGIN:VEVENT
UID:829c14ec0c78335ee0e0fdd20c4147b5
CATEGORIES:1. Bezirk
CREATED:20231113T175712
SUMMARY:Mitmach-Konzert für Kinder ab 2 Jahren / KLASSIK COOL! Der verlorene Handschuh
LOCATION:Haus der Musik\, 1.\, Seilerstätte 30
DESCRIPTION:<p style="border: 0px; line-height: 1.5em; margin: 0px 0px 1.625em; font-fa
 mily: 'Roboto Condensed', sans-serif; font-size: 15px; outline: 0px; paddin
 g: 0px; vertical-align: baseline; color: #373737;"><strong style="border: 0
 px; font-family: inherit; font-style: inherit; margin: 0px; outline: 0px; p
 adding: 0px; vertical-align: baseline;">LASSIK COOL! Der verlorene Handschu
 h</strong><br />Musikalisches Erzähltheater zum Mitmachen für Kinder von 2 
 bis 8 Jahren</p><p style="border: 0px; line-height: 1.5em; margin: 0px 0px 
 1.625em; font-family: 'Roboto Condensed', sans-serif; font-size: 15px; outl
 ine: 0px; padding: 0px; vertical-align: baseline; color: #373737;">Ein Hand
 schuh fällt in den Schnee – ein kleines Ereignis mit großer Wirkung!<br />E
 in wunderschönes Märchen über Freundschaft, Zusammenhalt und Teilen. Die Ti
 ercharaktere werden mit liebevoller Erzählung und stimmungsvoller Musik zum
  Leben erweckt. Ein Märchen zum Zuhören, Staunen und zum Mitmachen. Mit Erz
 ählung, Musikvermittlung, Flöte(n), Klavier. Dauer: ca 45 Minuten. Interess
 ierte Kinder können nach dem Konzert die Instrumente auch ausprobieren.</p>
 <p>Kartenverkauf online über Haus der Musik <a href="https://www.hausdermus
 ik.com/event/klassik-cool-der-verlorene-handschuh-2/">HIER</a></p><p style=
 "border: none; line-height: 1.5em; margin: 0px; color: #000000; font-family
 : 'Roboto Condensed', sans-serif; font-size: 15px;">&nbsp;</p><p style="bor
 der: none; line-height: 1.5em; margin: 0px; color: #000000; font-family: 'R
 oboto Condensed', sans-serif; font-size: 15px;">Veranstalter / Kontakt</p><
 p style="border: none; line-height: 1.5em; margin: 0px; color: #000000; fon
 t-family: 'Roboto Condensed', sans-serif; font-size: 15px;">kulturverein gr
 ossundklein</p><p style="border: none; line-height: 1.5em; margin: 0px; col
 or: #000000; font-family: 'Roboto Condensed', sans-serif; font-size: 15px;"
 >office@grossundklein.info</p><p style="border: none; line-height: 1.5em; m
 argin: 0px; color: #000000; font-family: 'Roboto Condensed', sans-serif; fo
 nt-size: 15px;">0660 581 33 96</p><p style="border: none; line-height: 1.5e
 m; margin: 0px; color: #000000; font-family: 'Roboto Condensed', sans-serif
 ; font-size: 15px;">&nbsp;</p>
CONTACT:Kulturverein grossundklein / www.grossunklein.info
X-EXTRAINFO:[preis='1300'][anmeldung='false']
DTSTAMP:20260423T123539
DTSTART:20231203T143000
SEQUENCE:0
TRANSP:OPAQUE
END:VEVENT
END:VCALENDAR