BEGIN:VCALENDAR
VERSION:2.0
PRODID:-//jEvents 2.0 for Joomla//EN
CALSCALE:GREGORIAN
METHOD:PUBLISH
BEGIN:VEVENT
UID:461d5ed9e251748aa0cab29e61300fc1
CATEGORIES:4. Bezirk
CREATED:20231113T182808
SUMMARY:Mitmach-Konzert für Kinder ab 2 Jahren / KLASSIK COOL! Frau Holle
LOCATION:Amtshaus Wieden\, 4.\, Favoritenstraße 18
DESCRIPTION:<p style="border: 0px; font-size: 15px; margin: 0px 0px 1.625em; outline: 0
 px; padding: 0px; vertical-align: baseline; color: #373737;"><strong style=
 "border: 0px; font-family: inherit; font-style: inherit; margin: 0px; outli
 ne: 0px; padding: 0px; vertical-align: baseline;">KLASSIK COOL! Frau Holle<
 /strong><br />Mitmach-Konzert für Kinder ab 2 Jahren</p><p style="border: 0
 px; font-size: 15px; margin: 0px 0px 1.625em; outline: 0px; padding: 0px; v
 ertical-align: baseline; color: #373737;">Vor langer, langer Zeit, hinter d
 en hohen schneebedeckten Bergen, dort, wo die Wälder alte Sagen erzählen, l
 ebte eine Frau mit ihren zwei Töchtern..."</p><p style="border: 0px; font-s
 ize: 15px; margin: 0px 0px 1.625em; outline: 0px; padding: 0px; vertical-al
 ign: baseline; color: #373737;">Das wunderschöne Märchen über Frau Holle ve
 rwebt mit klassischer Musik: Ob sprechende Äpfel, singende Brötchen, riesel
 nder Schnee, das alles und noch mehr steckt in der Musik! Die zahlreichen M
 itmachmöglichkeiten, stimmungsvolle Musikstücke und traditionelle Erzählkun
 st machen schon für die Kleinsten großen Spaß! Nach dem Konzert können inte
 ressierte Kinder die Instrumente auch ausprobieren.&nbsp; Dauer: ca. 45 Min
 uten</p><p style="border: 0px; font-size: 15px; margin: 0px 0px 1.625em; ou
 tline: 0px; padding: 0px; vertical-align: baseline; color: #373737;">Mit Er
 zählung, Blockflöten, Klavier</p><p style="border: 0px; font-size: 15px; ma
 rgin: 0px 0px 1.625em; outline: 0px; padding: 0px; vertical-align: baseline
 ; color: #373737;">Eintritt frei, online Anmeldung erforderlich <a href="ht
 tps://www.eventbrite.at/myevent?eid=647138658147">HIER</a></p>
CONTACT:Kulturverein grossundklein / www.grossunklein.info
DTSTAMP:20260423T123637
DTSTART:20231204T140000
SEQUENCE:0
TRANSP:OPAQUE
END:VEVENT
END:VCALENDAR