BEGIN:VCALENDAR
VERSION:2.0
PRODID:-//jEvents 2.0 for Joomla//EN
CALSCALE:GREGORIAN
METHOD:PUBLISH
BEGIN:VEVENT
UID:d2da164a9c34372e8015e79143bbe703
CATEGORIES:23. Bezirk
CREATED:20231113T183440
SUMMARY:Mitmach-Konzert für Kinder ab 2 Jahren / KLASSIK COOL! Frau Holle
LOCATION:VHS Erlaa\, 23.\, Putzendoplergasse 4
DESCRIPTION:<p style="border: 0px; font-size: 15px; margin: 0px 0px 1.625em; outline: 0
 px; padding: 0px; vertical-align: baseline; color: #373737;"><strong style=
 "border: 0px; font-family: inherit; font-style: inherit; margin: 0px; outli
 ne: 0px; padding: 0px; vertical-align: baseline;">KLASSIK COOL! Frau Holle<
 /strong><br />Mitmach-Konzert für Kinder ab 2 Jahren</p><p style="border: 0
 px; font-size: 15px; margin: 0px 0px 1.625em; outline: 0px; padding: 0px; v
 ertical-align: baseline; color: #373737;">Vor langer, langer Zeit, hinter d
 en hohen schneebedeckten Bergen, dort, wo die Wälder alte Sagen erzählen, l
 ebte eine Frau mit ihren zwei Töchtern..."</p><p style="border: 0px; font-s
 ize: 15px; margin: 0px 0px 1.625em; outline: 0px; padding: 0px; vertical-al
 ign: baseline; color: #373737;">Das wunderschöne Märchen über Frau Holle ve
 rwebt mit klassischer Musik: Ob sprechende Äpfel, singende Brötchen, riesel
 nder Schnee, das alles und noch mehr steckt in der Musik! Die zahlreichen M
 itmachmöglichkeiten, stimmungsvolle Musikstücke und traditionelle Erzählkun
 st machen schon für die Kleinsten großen Spaß! Nach dem Konzert können inte
 ressierte Kinder die Instrumente auch ausprobieren.&nbsp; Dauer: ca. 45 Min
 uten</p><p style="border: 0px; font-size: 15px; margin: 0px 0px 1.625em; ou
 tline: 0px; padding: 0px; vertical-align: baseline; color: #373737; text-al
 ign: justify;">Mit Erzählung, Blockflöten, Klavier</p><p style="border: 0px
 ; font-size: 15px; margin: 0px 0px 1.625em; outline: 0px; padding: 0px; ver
 tical-align: baseline; color: #373737; text-align: justify;">Karten: 13 Eur
 o pro Person (sowohl Erw. als auch Kinder ab 1 Jahr)</p><p style="border: 0
 px; font-size: 15px; margin: 0px 0px 1.625em; outline: 0px; padding: 0px; v
 ertical-align: baseline; color: #373737; text-align: justify;">Kartenverkau
 f online über die webseite <a href="https://www.grossundklein.info">www.gro
 ssundklein.info</a></p><ul><li style="text-align: justify;">Veranstalter/ K
 ontakt</li><li style="text-align: justify;">kulturverein grossundklein</li>
 <li style="text-align: justify;"><a href="https://www.grossundklein.info">w
 ww.grossundklein.info</a></li><li style="text-align: justify;"><a href="mai
 lto:office@grossundklein.info">office@grossundklein.info</a></li><li style=
 "text-align: justify;">0660 581 33 96</li></ul>
CONTACT:Kulturverein grossundklein / www.grossunklein.info
X-EXTRAINFO:[preis='1300'][anmeldung='true']
DTSTAMP:20260423T111645
DTSTART:20231216T150000
SEQUENCE:0
TRANSP:OPAQUE
END:VEVENT
END:VCALENDAR