BEGIN:VCALENDAR
VERSION:2.0
PRODID:-//jEvents 2.0 for Joomla//EN
CALSCALE:GREGORIAN
METHOD:PUBLISH
BEGIN:VEVENT
UID:d885aafa7bad0dd3825dce82a5e4220f
CATEGORIES:9. Bezirk
CREATED:20231114T232123
SUMMARY:Babykino DIE MITTAGSFRAU
LOCATION:Währingerstraße 12
DESCRIPTION:Jeden zweiten Dienstag laufen die wichtigsten Filme aus unserem Programm al
 s Babykino Vorstellungen in einem nicht gänzlich abgedunkeltem Saal mit etw
 as leiserem Ton. Vor der Vorstellung kann man sich in unserem Café zu Kaffe
 e und Kuchen treffen, und während des Films stehen Wickeltische und ein\nFl
 äschchenwärmer zur Verfügung.\n11:00 Uhr DIE MITTAGSFRAU (https://www.votiv
 kino.at/film/die-mittagsfrau/)\n11:30 Uhr THE LOST KING (https://www.votivk
 ino.at/film/the-lost-king/)\nTickets und Informationen unter www.votivkino.
 at/specials/babykino (https://www.votivkino.at/specials/babykino)\n
X-ALT-DESC;FMTTYPE=text/html:<p style="margin: 0px; font-stretch: normal; font-size: 12px; line-height: 
 normal; font-family: Helvetica;">Jeden zweiten Dienstag laufen die wichtigs
 ten Filme aus unserem Programm als Babykino Vorstellungen in einem nicht gä
 nzlich abgedunkeltem Saal mit etwas leiserem Ton. Vor der Vorstellung kann 
 man sich in unserem Café zu Kaffee und Kuchen treffen, und während des Film
 s stehen Wickeltische und ein</p><p style="margin: 0px; font-stretch: norma
 l; font-size: 12px; line-height: normal; font-family: Helvetica;">Fläschche
 nwärmer zur Verfügung.</p><p style="margin: 0px; font-stretch: normal; font
 -size: 12px; line-height: normal; font-family: Helvetica;">11:00 Uhr <a hre
 f="https://www.votivkino.at/film/die-mittagsfrau/">DIE MITTAGSFRAU</a></p><
 p style="margin: 0px; font-stretch: normal; font-size: 12px; line-height: n
 ormal; font-family: Helvetica;">11:30 Uhr <a href="https://www.votivkino.at
 /film/the-lost-king/">THE LOST KING</a></p><p style="margin: 0px; font-stre
 tch: normal; font-size: 12px; line-height: normal; font-family: Helvetica;"
 >Tickets und Informationen unter <a href="https://www.votivkino.at/specials
 /babykino">www.votivkino.at/specials/babykino</a></p>
CONTACT:Votiv Kino
X-EXTRAINFO:[preis='750'][anmeldung='false']
DTSTAMP:20260425T121658
DTSTART:20231121T100000
DTEND:20231121T130000
SEQUENCE:0
TRANSP:OPAQUE
END:VEVENT
END:VCALENDAR