BEGIN:VCALENDAR
VERSION:2.0
PRODID:-//jEvents 2.0 for Joomla//EN
CALSCALE:GREGORIAN
METHOD:PUBLISH
BEGIN:VEVENT
UID:2ef320782d7820a8545374bee82c8021
CATEGORIES:18. Bezirk
CREATED:20231122T102846
SUMMARY:Stillgruppe / Babytreff
LOCATION:Spielringel\, Mollgasse 11-13
DESCRIPTION:Stillgruppe / BabytreffAustauschgruppe für BabymamasMit: Bianca (https://sp
 ielringel.at/angebote/das-team/martina-dorothea-sommersguter-1-1-1)\nKursta
 g:  Dienstag 09:30-11:00\nKosten:  €14,- (pro Termin)\nDiese gemütliche Gru
 ppe bietet die Möglichkeit, sich mit anderen Müttern auszutauschen sowie In
 formationen und Unterstützung zu vielen aktuellen Themen wie Stillen, Fütte
 rn, Blähungen, Schlafen, Weinen, Verwöhnen, Beikost, Abstillen zu holen. Se
 lbst wenn dich kein spezielles Thema beschäftigt und du keine Stillprobleme
  hast, ist eine Stillgruppe ein toller Ort um andere Mamas und Kinder kenne
 n zu lernen. Die Gruppe ist geleitet von einer IBCLC aber auch nicht stille
 nde Mütter sind herzlich willkommen - Frauen lernen andere Frauen kennen, d
 ie ähnliche Themen, Sorgen, Ängste und Erlebnisse haben wie sie selbst.\nNä
 chste Termine:\n28.11.\n \nDie Stillgruppe findet ab 3 Anmeldungen statt!\n
  \n \n
X-ALT-DESC;FMTTYPE=text/html:<header class="frame-header"><h2 class="element-header">Stillgruppe / Babyt
 reff</h2><h4>Austauschgruppe für Babymamas</h4><p><span class="text-primary
  font-weight-bold">Mit: </span><a href="https://spielringel.at/angebote/das
 -team/martina-dorothea-sommersguter-1-1-1">Bianca</a></p><p><span class="te
 xt-primary font-weight-bold">Kurstag: </span> Dienstag 09:30-11:00</p><p><s
 pan class="text-primary font-weight-bold">Kosten: </span> €14,- (pro Termin
 )</p><p>Diese gemütliche Gruppe bietet die Möglichkeit, sich mit anderen Mü
 ttern auszutauschen sowie Informationen und Unterstützung zu vielen aktuell
 en Themen wie Stillen, Füttern, Blähungen, Schlafen, Weinen, Verwöhnen, Bei
 kost, Abstillen zu holen. Selbst wenn dich kein spezielles Thema beschäftig
 t und du keine Stillprobleme hast, ist eine Stillgruppe ein toller Ort um a
 ndere Mamas und Kinder kennen zu lernen. Die Gruppe ist geleitet von einer 
 IBCLC aber auch nicht stillende Mütter sind herzlich willkommen - Frauen le
 rnen andere Frauen kennen, die ähnliche Themen, Sorgen, Ängste und Erlebnis
 se haben wie sie selbst.</p><p><strong>Nächste Termine:</strong></p><p><str
 ong>28.11.</strong></p><p>&nbsp;</p><p>Die Stillgruppe findet ab 3 Anmeldun
 gen statt!</p><p>&nbsp;</p></header><p>&nbsp;</p>
CONTACT:www.spielringel.at
X-EXTRAINFO:[preis='1400'][anmeldung='true']
DTSTAMP:20260423T144337
DTSTART:20231128T083000
DTEND:20231128T100000
SEQUENCE:0
TRANSP:OPAQUE
END:VEVENT
END:VCALENDAR