BEGIN:VCALENDAR
VERSION:2.0
PRODID:-//jEvents 2.0 for Joomla//EN
CALSCALE:GREGORIAN
METHOD:PUBLISH
BEGIN:VEVENT
UID:18cc93e9cfd230f4cf2aa7180db8a4af
CATEGORIES:14. Bezirk
CREATED:20231123T121243
SUMMARY:Mantrasingen für Mama und Baby 
LOCATION:Amazing Yoga Studio\, Penzingerstr.48\, 1140 Wien
DESCRIPTION:<div class="x1e56ztr" style="margin-bottom: 8px; font-family: system-ui, -a
 pple-system, BlinkMacSystemFont, '.SFNSText-Regular', sans-serif; caret-col
 or: #050505; color: #050505; font-size: 15px;"><span class="x193iq5w xeuugl
 i x13faqbe x1vvkbs xlh3980 xvmahel x1n0sxbx x6prxxf xvq8zen xo1l8bm xzsf02u
 " style="overflow-wrap: break-word; font-size: 0.9375rem; max-width: 100%; 
 min-width: 0px; word-break: break-word; font-family: inherit; -webkit-font-
 smoothing: antialiased; line-height: 1.3333;">Für alle Schwangeren und Mama
 s mit Baby oder Kleinkind</span></div><div class="x1e56ztr" style="margin-b
 ottom: 8px; font-family: system-ui, -apple-system, BlinkMacSystemFont, '.SF
 NSText-Regular', sans-serif; caret-color: #050505; color: #050505; font-siz
 e: 15px;"><span class="x193iq5w xeuugli x13faqbe x1vvkbs xlh3980 xvmahel x1
 n0sxbx x6prxxf xvq8zen xo1l8bm xzsf02u" style="overflow-wrap: break-word; f
 ont-size: 0.9375rem; max-width: 100%; min-width: 0px; word-break: break-wor
 d; font-family: inherit; -webkit-font-smoothing: antialiased; line-height: 
 1.3333;">"Singen ist die eigentliche Muttersprache des Menschen", sagte Yeh
 udi Menuhin</span></div><div class="x1e56ztr" style="margin-bottom: 8px; fo
 nt-family: system-ui, -apple-system, BlinkMacSystemFont, '.SFNSText-Regular
 ', sans-serif; caret-color: #050505; color: #050505; font-size: 15px;"><spa
 n class="x193iq5w xeuugli x13faqbe x1vvkbs xlh3980 xvmahel x1n0sxbx x6prxxf
  xvq8zen xo1l8bm xzsf02u" style="overflow-wrap: break-word; font-size: 0.93
 75rem; max-width: 100%; min-width: 0px; word-break: break-word; font-family
 : inherit; -webkit-font-smoothing: antialiased; line-height: 1.3333;">Mantr
 as sind Kraftquellen und Segenslieder für Mutter und Kind. Das ist vor alle
 m in den ersten Lebensjahren sehr wertvoll. Dafür musst du auch gar nicht “
 schön singen” können. Dein Baby liebt deine Stimme so wie sie ist. Wir werd
 en einfache Mantras singen, die dein Herz öffnen und Liebe und Verbundenhei
 t auslösen oder einfach die Lebensfreude fördern. Mit einem gemeinsamen Sch
 utzmantra, einer Tasse Tee und ein paar Keksen beschließen wir die Runde un
 d es bleibt noch genug Zeit für Austausch mit anderen Mamis.</span></div><d
 iv class="x1e56ztr" style="margin-bottom: 8px; font-family: system-ui, -app
 le-system, BlinkMacSystemFont, '.SFNSText-Regular', sans-serif; caret-color
 : #050505; color: #050505; font-size: 15px;"><span class="x193iq5w xeuugli 
 x13faqbe x1vvkbs xlh3980 xvmahel x1n0sxbx x6prxxf xvq8zen xo1l8bm xzsf02u" 
 style="overflow-wrap: break-word; font-size: 0.9375rem; max-width: 100%; mi
 n-width: 0px; word-break: break-word; font-family: inherit; -webkit-font-sm
 oothing: antialiased; line-height: 1.3333;">(Weitere Infos zum Mantrasingen
  siehe unter&nbsp;<span style="font-family: inherit;"><a href="http://www.y
 ogavibe.at/?fbclid=IwAR2WHfOXCigIAoqWEvj8EgxXCV0gfdGt7yNdkHla6_-HXvBDmGcj-h
 sADyg" target="_blank" rel="nofollow noopener noreferrer" class="x1i10hfl x
 jbqb8w x6umtig x1b1mbwd xaqea5y xav7gou x9f619 x1ypdohk xt0psk2 xe8uvvx xdj
 266r x11i5rnm xat24cr x1mh8g0r xexx8yu x4uap5 x18d9i69 xkhd6sd x16tdsg8 x1h
 l2dhg xggy1nq x1a2a7pz xt0b8zv x1fey0fg" style="color: #050505; cursor: poi
 nter; text-decoration: none; outline: currentcolor; list-style: none; margi
 n: 0px; text-align: inherit; padding: 0px; box-sizing: border-box; touch-ac
 tion: manipulation; display: inline; font-family: inherit; border: 0px none
  currentcolor;" tabindex="0" role="link">www.yogavibe.at.</a></span>)</span
 ></div><div class="x1e56ztr" style="margin-bottom: 8px; font-family: system
 -ui, -apple-system, BlinkMacSystemFont, '.SFNSText-Regular', sans-serif; ca
 ret-color: #050505; color: #050505; font-size: 15px;"><span class="x193iq5w
  xeuugli x13faqbe x1vvkbs xlh3980 xvmahel x1n0sxbx x6prxxf xvq8zen xo1l8bm 
 xzsf02u" style="overflow-wrap: break-word; font-size: 0.9375rem; max-width:
  100%; min-width: 0px; word-break: break-word; font-family: inherit; -webki
 t-font-smoothing: antialiased; line-height: 1.3333;">Termin: 1.12 - vormitt
 ags um 11 UHR - ca. 60 Minuten&nbsp;</span></div><div class="x1e56ztr" styl
 e="margin-bottom: 8px; font-family: system-ui, -apple-system, BlinkMacSyste
 mFont, '.SFNSText-Regular', sans-serif; caret-color: #050505; color: #05050
 5; font-size: 15px;"><span class="x193iq5w xeuugli x13faqbe x1vvkbs xlh3980
  xvmahel x1n0sxbx x6prxxf xvq8zen xo1l8bm xzsf02u" style="overflow-wrap: br
 eak-word; font-size: 0.9375rem; max-width: 100%; min-width: 0px; word-break
 : break-word; font-family: inherit; -webkit-font-smoothing: antialiased; li
 ne-height: 1.3333;">Ort: Amazing Yoga Studio, Penzinger Str. 48, 1140 Wien.
 </span></div><div class="x1e56ztr" style="margin-bottom: 8px; font-family: 
 system-ui, -apple-system, BlinkMacSystemFont, '.SFNSText-Regular', sans-ser
 if; caret-color: #050505; color: #050505; font-size: 15px;"><span class="x1
 93iq5w xeuugli x13faqbe x1vvkbs xlh3980 xvmahel x1n0sxbx x6prxxf xvq8zen xo
 1l8bm xzsf02u" style="overflow-wrap: break-word; font-size: 0.9375rem; max-
 width: 100%; min-width: 0px; word-break: break-word; font-family: inherit; 
 -webkit-font-smoothing: antialiased; line-height: 1.3333;">pay as you can -
  10-20 Euro</span></div><div class="x1e56ztr" style="margin-bottom: 8px; fo
 nt-family: system-ui, -apple-system, BlinkMacSystemFont, '.SFNSText-Regular
 ', sans-serif; caret-color: #050505; color: #050505; font-size: 15px;"><spa
 n class="x193iq5w xeuugli x13faqbe x1vvkbs xlh3980 xvmahel x1n0sxbx x6prxxf
  xvq8zen xo1l8bm xzsf02u" style="overflow-wrap: break-word; font-size: 0.93
 75rem; max-width: 100%; min-width: 0px; word-break: break-word; font-family
 : inherit; -webkit-font-smoothing: antialiased; line-height: 1.3333;">Anmel
 dung und Info bitte über die website:&nbsp;<span style="font-family: inheri
 t;"><a href="http://www.yogavibe.at/?fbclid=IwAR2pXwy0yijkbipNyRH-QJPzPzoF_
 wtvKE1pHLuZJs9mZYY8drnpAYaoc5k" target="_blank" rel="nofollow noopener nore
 ferrer" class="x1i10hfl xjbqb8w x6umtig x1b1mbwd xaqea5y xav7gou x9f619 x1y
 pdohk xt0psk2 xe8uvvx xdj266r x11i5rnm xat24cr x1mh8g0r xexx8yu x4uap5 x18d
 9i69 xkhd6sd x16tdsg8 x1hl2dhg xggy1nq x1a2a7pz xt0b8zv x1fey0fg" style="co
 lor: #050505; cursor: pointer; text-decoration: none; outline: currentcolor
 ; list-style: none; margin: 0px; text-align: inherit; padding: 0px; box-siz
 ing: border-box; touch-action: manipulation; display: inline; font-family: 
 inherit; border: 0px none currentcolor;" tabindex="0" role="link">www.yogav
 ibe.a</a>t</span></span></div><div>&nbsp;</div>
CONTACT:office@yogavibe.at
X-EXTRAINFO:[preis='1000'][anmeldung='true']
DTSTAMP:20260423T082438
DTSTART:20231201T100000
DTEND:20231201T110000
SEQUENCE:0
TRANSP:OPAQUE
END:VEVENT
END:VCALENDAR