BEGIN:VCALENDAR
VERSION:2.0
PRODID:-//jEvents 2.0 for Joomla//EN
CALSCALE:GREGORIAN
METHOD:PUBLISH
BEGIN:VEVENT
UID:f530cee52d3a3023f04fc859953ccc67
CATEGORIES:19. Bezirk
CREATED:20231127T140353
SUMMARY:Waldspielgruppe
LOCATION:Cobenzl
DESCRIPTION:<p><span style="color: #000000; font-family: 'Roboto Condensed', sans-serif
 ; font-size: 15px;">Mit einer kleinen Wanderung (ca. 1 km) kommen wir zu un
 serm Platz im Wald. Hier gibt es einen gemeinsamen Beginn mit Begrüßungslie
 dern und Jause. Nach der Stärkung lassen wir uns von den Kindern und vom Wa
 ld leiten: Gemeinsam spielen, singen, den Wald erkunden und mit allen Sinne
 n erfahren, Stöcke sammeln, Tiere finden, balancieren, Zapfen werfen,… Das 
 Unterwegssein in der Natur (über Wurzeln, durchs Laub und auf unebenem Bode
 n) bietet vielseitige Sinneserfahrungen und Spielanregungen. Durch das frei
 e Spiel wird der Umgang mit der Natur auf achtsame Weise erfahren. Nach der
  Freispielzeit gibt es ein Abschlusslied, und wir machen uns auf den Weg zu
 rück.</span></p><p>2. Termin: 15.12.</p>
CONTACT: rundumgeburt@nanaya.at
X-EXTRAINFO:[preis='3200'][anmeldung='true']
DTSTAMP:20260423T082652
DTSTART:20231201T090000
DTEND:20231201T103000
SEQUENCE:0
TRANSP:OPAQUE
END:VEVENT
END:VCALENDAR