BEGIN:VCALENDAR
VERSION:2.0
PRODID:-//jEvents 2.0 for Joomla//EN
CALSCALE:GREGORIAN
METHOD:PUBLISH
BEGIN:VEVENT
UID:4f72c1ecaf7ddd0680fa9b139ceb3eb5
CATEGORIES:2. Bezirk
CREATED:19700101T010000
SUMMARY:Eltern-Kind-Spielgruppe 1-2 Jahre SOMMER
LOCATION:Eltern-Kind-Zentrum Kind&amp;Kegel\, Praterstraße 14/8\, 1020 Wien
DESCRIPTION:<h2 style="color: #78c752;"><span style="font-size: 146%;">E</span>ltern-Ki
 nd-Spielgruppen&nbsp;</h2><h3>Für Kinder von 1-2 Jahren mit einer Begleitpe
 rson</h3><p>Finger-, Schoß- und Kreisspiele&nbsp; in einer Gruppe von Gleic
 haltrigen machen gleich doppelt so viel Spaß. Eine vorbereitete Umgebung lä
 dt zum Entdecken ein und für den Austausch unter den Eltern/Begleitpersonen
  ist auch genügend Zeit!</p><p>Termine:</p><p>Di, 9:30-11:00, 2.7., 9.7., 2
 3.7.24</p><p>Mi, 9:30-11:00, 31.7., 7.8., 14.8., 21.8., 28.8.24</p><p>Somme
 rspielgruppen können auch einzeln gebucht werden!</p><p>Anmeldung notwendig
  (per mail, telefonisch oder persönlich).</p><p>Kosten: 8 Einheiten € 123.-
 , 5 Einheiten € 77.-, Einzeleinheit € 16.-</p><p>&nbsp;</p>
CONTACT:info@kind-und-kegel.at, 01 503 71 88
X-EXTRAINFO:[preis='1600'][anmeldung='true']
DTSTAMP:20260425T134920
DTSTART:20240702T073000
DTEND:20240702T090000
SEQUENCE:0
RRULE:FREQ=WEEKLY;UNTIL=20240724T000000Z;INTERVAL=1;BYDAY=TU
TRANSP:OPAQUE
END:VEVENT
END:VCALENDAR