BEGIN:VCALENDAR
VERSION:2.0
PRODID:-//jEvents 2.0 for Joomla//EN
CALSCALE:GREGORIAN
METHOD:PUBLISH
BEGIN:VEVENT
UID:6c2b83c6b22add1cc8fc6b0659f02fda
CATEGORIES:Online
CREATED:20240627T221719
SUMMARY:Moms in Motion
LOCATION:Online per Zoom
DESCRIPTION:Du möchtest gerne Sport machen, aber schaffst es mit den Kids nicht?Bist du
  jemand, der nicht gerne allein trainiert und jemanden braucht, der dir ein
 en Schupser in den Allerwertesten verpasst?Dann ist Moms in Motion genau da
 s Richtige für dich ;)Wir trainieren 3 x Woche für ca. 1 Std. ... und das g
 anz gemütlich von zu Hause per Zoom! Dh, auch wenn die Kids zu Hause sind, 
 kannst du deinem Training nachgehen. Nachdem wir vorwiegend Mamis mitmachen
 , kennt das jede und alle haben Verständis dafür, wenn die Kinder mal vorbe
 i huschen oder mitmachen wollen ;)Was du dafür brauchst?- Handy, Tablet od.
  Laptop- Matte- Trinkflasche- evtl. Bänder oder HantelnWir trainieren mit d
 em eigenen Körpergewicht, aber auch mit Bändern oder Hanteln, um das Traini
 ng gut steigern zu können.\nFalls du keine Bänder oder Hanteln hast, kann i
 ch dir gerne welche empfehlen.Schnapp dir diesen 10er-Block für mein Online
 -Live-Training und stärke deinen Körper ;)Wann findet das Training statt?Mo
 ntag, Mittwoch und Samstag um 10 Uhr (Terminänderungen vorbehalten)\nHier f
 indest du alle Details und den Direktlink zur Anmeldung: \nhttps://elopage.
 com/s/sanja-coaching/moms-in-motion/payment (https://elopage.com/s/sanja-co
 aching/moms-in-motion/payment)\n \nIch freue mich auf dich :)\n \n
X-ALT-DESC;FMTTYPE=text/html:<p style="box-sizing: border-box; margin-bottom: 1rem; margin-top: 0px; col
 or: #414141; font-family: sans-serif; font-size: 14px;">Du möchtest gerne S
 port machen, aber schaffst es mit den Kids nicht?<br style="box-sizing: bor
 der-box;" /><br style="box-sizing: border-box;" />Bist du jemand, der&nbsp;
 <span style="box-sizing: border-box; font-weight: bold;">nicht gerne allein
  trainiert</span>&nbsp;und jemanden braucht, der dir einen&nbsp;<span style
 ="box-sizing: border-box; font-weight: bold;">Schupser in den Allerwerteste
 n</span>&nbsp;verpasst?<br style="box-sizing: border-box;" /><br style="box
 -sizing: border-box;" />Dann ist&nbsp;<span style="box-sizing: border-box; 
 font-weight: bold;"><span style="box-sizing: border-box; text-decoration: u
 nderline;"><span style="box-sizing: border-box; color: #ccaba2;">Moms in Mo
 tion&nbsp;</span></span></span>genau&nbsp;<span style="box-sizing: border-b
 ox; font-weight: bold;">das Richtige für dich</span>&nbsp;;)<br style="box-
 sizing: border-box;" /><br style="box-sizing: border-box;" />Wir trainieren
 &nbsp;<span style="box-sizing: border-box; font-weight: bold;">3 x Woche fü
 r ca. 1 Std</span>. ... und das ganz gemütlich&nbsp;<span style="box-sizing
 : border-box; font-weight: bold;">von zu Hause per Zoom</span>! Dh, auch we
 nn die Kids zu Hause sind, kannst du deinem Training nachgehen. Nachdem wir
  vorwiegend Mamis mitmachen, kennt das jede und alle haben Verständis dafür
 , wenn die Kinder mal vorbei huschen oder mitmachen wollen ;)<br style="box
 -sizing: border-box;" /><br style="box-sizing: border-box;" /><span style="
 box-sizing: border-box; text-decoration: underline;"><span style="box-sizin
 g: border-box; font-weight: bold;">Was du dafür brauchst?</span></span><br 
 style="box-sizing: border-box;" /><br style="box-sizing: border-box;" />- H
 andy, Tablet od. Laptop<br style="box-sizing: border-box;" />- Matte<br sty
 le="box-sizing: border-box;" />- Trinkflasche<br style="box-sizing: border-
 box;" />- evtl. Bänder oder Hanteln<br style="box-sizing: border-box;" /><b
 r style="box-sizing: border-box;" />Wir trainieren mit dem&nbsp;<span style
 ="box-sizing: border-box; font-weight: bold;">eigenen Körpergewicht,</span>
 &nbsp;aber auch mit&nbsp;<span style="box-sizing: border-box; font-weight: 
 bold;">Bändern</span>&nbsp;oder&nbsp;<span style="box-sizing: border-box; f
 ont-weight: bold;">Hanteln</span>, um das Training gut steigern zu können.<
 /p><p style="box-sizing: border-box; margin-bottom: 1rem; margin-top: 0px; 
 color: #414141; font-family: sans-serif; font-size: 14px;">Falls du keine B
 änder oder Hanteln hast, kann ich dir gerne welche empfehlen.<br style="box
 -sizing: border-box;" /><br style="box-sizing: border-box;" /><span style="
 box-sizing: border-box; color: #ccaba2;"><span style="box-sizing: border-bo
 x; font-weight: bold;">Schnapp dir diesen 10er-Block für mein Online-Live-T
 raining und stärke deinen Körper ;)</span></span><br style="box-sizing: bor
 der-box;" /><br style="box-sizing: border-box;" /><span style="box-sizing: 
 border-box; text-decoration: underline;"><span style="box-sizing: border-bo
 x; font-weight: bold;">Wann findet das Training statt?</span></span><br sty
 le="box-sizing: border-box;" /><br style="box-sizing: border-box;" />Montag
 , Mittwoch und Samstag um 10 Uhr (Terminänderungen vorbehalten)</p><p style
 ="box-sizing: border-box; margin-bottom: 1rem; margin-top: 0px; color: #414
 141; font-family: sans-serif; font-size: 14px;"><br style="box-sizing: bord
 er-box;" /><br style="box-sizing: border-box;" /><strong>Hier findest du al
 le Details und den Direktlink zur Anmeldung:&nbsp;</strong></p><p><a href="
 https://elopage.com/s/sanja-coaching/moms-in-motion/payment">https://elopag
 e.com/s/sanja-coaching/moms-in-motion/payment</a></p><p>&nbsp;</p><p>Ich fr
 eue mich auf dich :)</p><p>&nbsp;</p>
CONTACT:kontakt@sanja-coaching.com
X-EXTRAINFO:[preis='000'][anmeldung='true']
DTSTAMP:20260423T151948
DTSTART:20240701T080000
DTEND;VALUE=DATE:20250101
SEQUENCE:0
TRANSP:OPAQUE
END:VEVENT
END:VCALENDAR