BEGIN:VCALENDAR
VERSION:2.0
PRODID:-//jEvents 2.0 for Joomla//EN
CALSCALE:GREGORIAN
METHOD:PUBLISH
BEGIN:VEVENT
UID:06e151620bdb05c52c91d3f05c336ba6
CATEGORIES:23. Bezirk
CREATED:20240715T134825
SUMMARY:Babyturnen (9-8 Monate)
LOCATION:VHS Mauer\, Speisinger Straße 256\, 1230 Wien
DESCRIPTION:<p style="text-align: left;">Ziel des Babyturnens ist es, die Babys mit ein
 fachen, spielerischen Übungen in ihrer Bewegungsentwicklung zu fördern. Gle
 ichzeitig werden die Sinne geschärft und die Körperwahrnehmung positiv beei
 nflusst. Vor allem aber sollen Kinder und Eltern Spaß an der gemeinsamen Be
 wegung haben.</p><p style="text-align: justify;">Anmeldung per Mail an <a h
 ref="mailto:mauer@vhs.at">mauer@vhs.at</a>&nbsp;oder online unter&nbsp;<a h
 ref="https://www.vhs.at/de/k/285693520">https://www.vhs.at/de/k/285693520</
 a></p><p style="text-align: left;">&nbsp;</p><p>&nbsp;</p>
CONTACT:0189174/123001
X-EXTRAINFO:[preis='5700'][anmeldung='true']
DTSTAMP:20260423T171946
DTSTART:20241004T084500
DTEND:20241122T104500
SEQUENCE:0
TRANSP:OPAQUE
END:VEVENT
END:VCALENDAR