BEGIN:VCALENDAR
VERSION:2.0
PRODID:-//jEvents 2.0 for Joomla//EN
CALSCALE:GREGORIAN
METHOD:PUBLISH
BEGIN:VEVENT
UID:08abfa4f292b2088403c999f48bc37d9
CATEGORIES:2. Bezirk
CREATED:20250324T111858
SUMMARY:Kinderflohmarkt "Kinder helfen Kindern"
LOCATION:Wurstelprater
DESCRIPTION:Beschreibung:\nJunge Kaufleute stellen am 14. September 2025 ihr Verkaufsge
 schick unter Beweis: Puppen, Matchbox-Autos oder auch Elektronisches wurden
  beim Frühjahrsputz aussortiert und sollen nun anderen Kindern eine Freude 
 machen. So verwandelt sich der Wurstelprater in ein Kinderparadies zum Wühl
 en und Stöbern.Kinder helfen KindernDie Prater Wien GmbH spendet die Einnah
 men aus den Standgebühren dem Kinderhospiz Sterntalerhof. Das Schweizerhaus
  von Familie Karl Kolarik unterstützt die Veranstaltung seit vielen Jahren 
 und verdoppelt auch heuer die eingenommene Summe zugunsten des Kinderhospiz
 es.Die Standplätze sind limitiert und werden nur an angemeldete Kinder verg
 eben.Anmeldungen werden ab sofort per E-Mail unter kinderflohmarkt@praterwi
 en.com mit Angabe des Vornamens, Nachnamens sowie des Geburtsjahres des mit
 machenden Kindes entgegengenommen.Es gibt keine Standvergabe vor Ort und au
 ch keine Warteliste.Es werden maximal 2 Standplätze pro Familie vergeben.Ti
 sche sind mitzunehmen.Programm / TermineDetails zum Kinderflohmarkt im Wien
 er Prater:Wann: Sonntag, 14. September 2025, 8.00 - 13.00 UhrWo: Wurstelpra
 terNur bei Schönwetter (kein Regen)!BesucherinformationenEin Beitrag von EU
 R 15,00/Standplatz wird eingehoben.Die Standmieten kommen in lieb gewonnene
 r Pratertradition dem Sterntalerhof, welcher sich um Familien mit schwer-, 
 chronisch- und sterbenskranken Kindern kümmert, zugute.Das Schweizerhaus ve
 rdoppelt die Spenden.Mehr Infos unter www.sterntalerhof.atIm Sterntalerhof 
 im Südburgenland hilft ein interdisziplinäres Team schwerkranken Kindern un
 d ihren Familien durch schwere Zeiten. Der Verein finanziert sich ausschlie
 ßlich über private Mittel und ist das einzige Hospiz für chronisch und ster
 benskranke Kinder in Österreich, in dem die ganze betroffene Familie versor
 gt wird.Der Kinderflohmarkt wird NUR bei Regen abgesagt!\nHomepage: Kinderf
 lohmarkt | Prater Wien (https://www.praterwien.com/veranstaltungen/details/
 kinderflohmarkt-13)\n
X-ALT-DESC;FMTTYPE=text/html:<p class="bodytext" style="box-sizing: border-box; margin: 0px 0px 1em; pad
 ding: 0px; color: #222222; font-family: Verdana; outline: none !important;"
 ><b style="font-size: 1rem; color: #6c6c6c; font-family: Verdana, Tahoma, A
 rial, sans-serif;">Beschreibung:</b></p><p><span style="color: #484848; fon
 t-family: Verdana, Tahoma, Arial, sans-serif;">Junge Kaufleute stellen am 1
 4. September 2025 ihr Verkaufsgeschick unter Beweis: Puppen, Matchbox-Autos
  oder auch Elektronisches wurden beim Frühjahrsputz aussortiert und sollen 
 nun anderen Kindern eine Freude machen. So verwandelt sich der Wurstelprate
 r in ein Kinderparadies zum Wühlen und Stöbern.</span><br style="color: #48
 4848; font-family: Verdana, Tahoma, Arial, sans-serif;" /><br style="color:
  #484848; font-family: Verdana, Tahoma, Arial, sans-serif;" /><span style="
 color: #484848; font-family: Verdana, Tahoma, Arial, sans-serif;">Kinder he
 lfen Kindern</span><br style="color: #484848; font-family: Verdana, Tahoma,
  Arial, sans-serif;" /><span style="color: #484848; font-family: Verdana, T
 ahoma, Arial, sans-serif;">Die Prater Wien GmbH spendet die Einnahmen aus d
 en Standgebühren dem Kinderhospiz Sterntalerhof. Das Schweizerhaus von Fami
 lie Karl Kolarik unterstützt die Veranstaltung seit vielen Jahren und verdo
 ppelt auch heuer die eingenommene Summe zugunsten des Kinderhospizes.</span
 ><br style="color: #484848; font-family: Verdana, Tahoma, Arial, sans-serif
 ;" /><br style="color: #484848; font-family: Verdana, Tahoma, Arial, sans-s
 erif;" /><span style="color: #484848; font-family: Verdana, Tahoma, Arial, 
 sans-serif;">Die Standplätze sind limitiert und werden nur an angemeldete K
 inder vergeben.</span><br style="color: #484848; font-family: Verdana, Taho
 ma, Arial, sans-serif;" /><span style="color: #484848; font-family: Verdana
 , Tahoma, Arial, sans-serif;">Anmeldungen werden ab sofort per E-Mail unter
  kinderflohmarkt@praterwien.com mit Angabe des Vornamens, Nachnamens sowie 
 des Geburtsjahres des mitmachenden Kindes entgegengenommen.</span><br style
 ="color: #484848; font-family: Verdana, Tahoma, Arial, sans-serif;" /><br s
 tyle="color: #484848; font-family: Verdana, Tahoma, Arial, sans-serif;" /><
 span style="color: #484848; font-family: Verdana, Tahoma, Arial, sans-serif
 ;">Es gibt keine Standvergabe vor Ort und auch keine Warteliste.</span><br 
 style="color: #484848; font-family: Verdana, Tahoma, Arial, sans-serif;" />
 <span style="color: #484848; font-family: Verdana, Tahoma, Arial, sans-seri
 f;">Es werden maximal 2 Standplätze pro Familie vergeben.</span><br style="
 color: #484848; font-family: Verdana, Tahoma, Arial, sans-serif;" /><span s
 tyle="color: #484848; font-family: Verdana, Tahoma, Arial, sans-serif;">Tis
 che sind mitzunehmen.</span><br style="color: #484848; font-family: Verdana
 , Tahoma, Arial, sans-serif;" /><br style="color: #484848; font-family: Ver
 dana, Tahoma, Arial, sans-serif;" /><span style="color: #484848; font-famil
 y: Verdana, Tahoma, Arial, sans-serif;">Programm / Termine</span><br style=
 "color: #484848; font-family: Verdana, Tahoma, Arial, sans-serif;" /><span 
 style="color: #484848; font-family: Verdana, Tahoma, Arial, sans-serif;">De
 tails zum Kinderflohmarkt im Wiener Prater:</span><br style="color: #484848
 ; font-family: Verdana, Tahoma, Arial, sans-serif;" /><span style="color: #
 484848; font-family: Verdana, Tahoma, Arial, sans-serif;">Wann: Sonntag, 14
 . September 2025, 8.00 - 13.00 Uhr</span><br style="color: #484848; font-fa
 mily: Verdana, Tahoma, Arial, sans-serif;" /><span style="color: #484848; f
 ont-family: Verdana, Tahoma, Arial, sans-serif;">Wo: Wurstelprater</span><b
 r style="color: #484848; font-family: Verdana, Tahoma, Arial, sans-serif;" 
 /><span style="color: #484848; font-family: Verdana, Tahoma, Arial, sans-se
 rif;">Nur bei Schönwetter (kein Regen)!</span><br style="color: #484848; fo
 nt-family: Verdana, Tahoma, Arial, sans-serif;" /><br style="color: #484848
 ; font-family: Verdana, Tahoma, Arial, sans-serif;" /><span style="color: #
 484848; font-family: Verdana, Tahoma, Arial, sans-serif;">Besucherinformati
 onen</span><br style="color: #484848; font-family: Verdana, Tahoma, Arial, 
 sans-serif;" /><span style="color: #484848; font-family: Verdana, Tahoma, A
 rial, sans-serif;">Ein Beitrag von EUR 15,00/Standplatz wird eingehoben.</s
 pan><br style="color: #484848; font-family: Verdana, Tahoma, Arial, sans-se
 rif;" /><br style="color: #484848; font-family: Verdana, Tahoma, Arial, san
 s-serif;" /><span style="color: #484848; font-family: Verdana, Tahoma, Aria
 l, sans-serif;">Die Standmieten kommen in lieb gewonnener Pratertradition d
 em Sterntalerhof, welcher sich um Familien mit schwer-, chronisch- und ster
 benskranken Kindern kümmert, zugute.</span><br style="color: #484848; font-
 family: Verdana, Tahoma, Arial, sans-serif;" /><span style="color: #484848;
  font-family: Verdana, Tahoma, Arial, sans-serif;">Das Schweizerhaus verdop
 pelt die Spenden.</span><br style="color: #484848; font-family: Verdana, Ta
 homa, Arial, sans-serif;" /><br style="color: #484848; font-family: Verdana
 , Tahoma, Arial, sans-serif;" /><span style="color: #484848; font-family: V
 erdana, Tahoma, Arial, sans-serif;">Mehr Infos unter www.sterntalerhof.at</
 span><br style="color: #484848; font-family: Verdana, Tahoma, Arial, sans-s
 erif;" /><br style="color: #484848; font-family: Verdana, Tahoma, Arial, sa
 ns-serif;" /><span style="color: #484848; font-family: Verdana, Tahoma, Ari
 al, sans-serif;">Im Sterntalerhof im Südburgenland hilft ein interdisziplin
 äres Team schwerkranken Kindern und ihren Familien durch schwere Zeiten. De
 r Verein finanziert sich ausschließlich über private Mittel und ist das ein
 zige Hospiz für chronisch und sterbenskranke Kinder in Österreich, in dem d
 ie ganze betroffene Familie versorgt wird.</span><br style="color: #484848;
  font-family: Verdana, Tahoma, Arial, sans-serif;" /><br style="color: #484
 848; font-family: Verdana, Tahoma, Arial, sans-serif;" /><span style="color
 : #484848; font-family: Verdana, Tahoma, Arial, sans-serif;">Der Kinderfloh
 markt wird NUR bei Regen abgesagt!</span><br style="color: #484848; font-fa
 mily: Verdana, Tahoma, Arial, sans-serif;" /></p><p>Homepage:&nbsp;<a href=
 "https://www.praterwien.com/veranstaltungen/details/kinderflohmarkt-13" sty
 le="font-family: inherit; font-size: 1rem;">Kinderflohmarkt | Prater Wien</
 a></p>
CONTACT:kinderflohmarkt@praterwien.com
X-EXTRAINFO:[preis='1500'][anmeldung='true']
DTSTAMP:20260425T155606
DTSTART:20250914T060000
DTEND:20250914T110000
SEQUENCE:0
TRANSP:OPAQUE
END:VEVENT
END:VCALENDAR