BEGIN:VCALENDAR
VERSION:2.0
PRODID:-//jEvents 2.0 for Joomla//EN
CALSCALE:GREGORIAN
METHOD:PUBLISH
BEGIN:VEVENT
UID:cf750a8117d0bdef4737976f18224221
CATEGORIES:6. Bezirk
CREATED:19700101T010000
SUMMARY:Ballett für Kinder (ab 6 Jahre)
LOCATION:VHS Mariahilf\, Damböckgasse 4\, 1060 Wien
DESCRIPTION:Ballett für Kinder (ab 6 Jahre)\n \nMo 4x, 07.-28.07.2025, 15-16 Uhr\nVHS M
 ariahilf, Neubau, Josefstadt\n \nOlivia Griensteidl\nGebühr: 32 €\n \nIn di
 esem Kurs wird der natürlichen Bewegungsfreude viel Raum gegeben und gleich
 zeitig lernst du die ersten Elemente des Balletts kennen. Wir üben alles ru
 nd um Haltung, Beinpositionen und einfache Schrittfolgen, trainieren Koordi
 nation und Körperbeherrschung und haben viel Spaß am gemeinsamen Bewegen zu
 r Musik.\n \nAnmeldung online (https://www.vhs.at/de/k/279722813), per E-Ma
 il mariahilf@vhs.at (mailto:mariahilf@vhs.at) oder telefonisch unter :+43 1
  89 174 106 000\n
X-ALT-DESC;FMTTYPE=text/html:<p><strong>Ballett für Kinder (ab 6 Jahre)</strong></p><p>&nbsp;</p><p>Mo 4
 x, 07.-28.07.2025, 15-16 Uhr</p><p>VHS Mariahilf, Neubau, Josefstadt</p><p>
 &nbsp;</p><p>Olivia Griensteidl</p><p>Gebühr: 32 €</p><p>&nbsp;</p><p>In di
 esem Kurs wird der natürlichen Bewegungsfreude viel Raum gegeben und gleich
 zeitig lernst du die ersten Elemente des Balletts kennen. Wir üben alles ru
 nd um Haltung, Beinpositionen und einfache Schrittfolgen, trainieren Koordi
 nation und Körperbeherrschung und haben viel Spaß am gemeinsamen Bewegen zu
 r Musik.</p><p>&nbsp;</p><p>Anmeldung <a href="https://www.vhs.at/de/k/2797
 22813" target="_blank" rel="noopener">online</a>, per E-Mail <a href="mailt
 o:mariahilf@vhs.at">mariahilf@vhs.at</a>&nbsp;oder telefonisch unter&nbsp;<
 span style="font-family: Calibri, sans-serif; font-size: 11pt; background-c
 olor: inherit; color: inherit; caret-color: auto;">:+43 1 89 174 106 000</s
 pan></p>
CONTACT:mariahilf@vhs.at
X-EXTRAINFO:[preis='3200'][anmeldung='true']
DTSTAMP:20260425T014230
DTSTART:20250707T130000
DTEND:20250707T140000
SEQUENCE:0
RRULE:FREQ=WEEKLY;UNTIL=20250729T000000Z;INTERVAL=1;BYDAY=MO
TRANSP:OPAQUE
END:VEVENT
END:VCALENDAR