BEGIN:VCALENDAR
VERSION:2.0
PRODID:-//jEvents 2.0 for Joomla//EN
CALSCALE:GREGORIAN
METHOD:PUBLISH
BEGIN:VEVENT
UID:48afd64dc146c6c728cb095d3514feec
CATEGORIES:2. Bezirk
CREATED:19700101T010000
SUMMARY:Sommer Eltern-Kind-Spielgruppe 6-12M
LOCATION:Eltern-Kind-Zentrum Kind&amp;Kegel\, Praterstraße 14/8\, 1020 Wien
DESCRIPTION:<h2>Sommer Eltern-Kind-Spielgruppe</h2><h3>6-12 Monate</h3><p>In einer vorb
 ereiteten Umgebung erforschen die Kinder allerlei Material, machen die erst
 en Erfahrungen mit Kontakt zu anderen Babys. Wir regen die Sensorik an, sin
 gen einige Kniereiter- und Kuschellieder und besprechen alles, was im Leben
  mit dem Baby wichtig ist – Schlafen, Stillen und/oder Fläschchen-Ernährung
 , Zufüttern,... Eine gute Gelegenheit, die Kind &amp; Kegel Eltern-Kind-Spi
 elgruppen kennen zu lernen, im Sommer kann man die Termine auch einzeln buc
 hen!</p><table><tbody><tr><td><span class="fett">Termine</span>: 15.7.,22.7
 ., 29.7.25<br />&nbsp;von 09:<span class="kleinhoch">30</span> - 11:<span c
 lass="kleinhoch">00</span> Uhr<br /> <br /> <span class="fett">Kosten</span
 >: € 16,- pro Einheit |3 Einheiten € 45.-<br /> Anmeldung erforderlich!</td
 ></tr></tbody></table><p class="klein">&nbsp;</p><p>&nbsp;</p>
CONTACT:info@kind-und-kegel.at, 01 503 71 88, www.kind-und-kegel.at
X-EXTRAINFO:[preis='1600'][anmeldung='true']
DTSTAMP:20260425T233822
DTSTART:20250715T073000
DTEND:20250715T090000
SEQUENCE:0
RRULE:FREQ=WEEKLY;COUNT=3;INTERVAL=1;BYDAY=TU
TRANSP:OPAQUE
END:VEVENT
END:VCALENDAR