BEGIN:VCALENDAR
VERSION:2.0
PRODID:-//jEvents 2.0 for Joomla//EN
CALSCALE:GREGORIAN
METHOD:PUBLISH
BEGIN:VEVENT
UID:4581264f0175298729e925de5e339ded
CATEGORIES:2. Bezirk
CREATED:19700101T010000
SUMMARY:Sommer Eltern-Kind-Spielgruppe 1-2J
LOCATION:Eltern-Kind-Zentrum Kind&amp;Kegel\, Praterstraße 14/8\, 1020 Wien
DESCRIPTION:Sommer Eltern-Kind-Spielgruppe 1-2J In einer vorbereiteten Umgebung erforsc
 hen die Kinder allerlei Material, machen die ersten Erfahrungen mit Kontakt
  zu anderen Babys. Wir regen die Sensorik an, singen einige Kniereiter- und
  Kuschellieder und besprechen alles, was im Leben mit dem Kind wichtig ist 
 – Schlafen, Stillen und/oder Fläschchen-Ernährung, Kindergarteneintritt, Fr
 emdbetreuung, Autonomie, Grenzen,... Eine gute Gelegenheit, die Kind &amp; 
 Kegel Eltern-Kind-Spielgruppen kennen zu lernen, Sommertermine können auch 
 einzeln besucht werden!\nTermine: 16.7., 23.7., 30.7.25,\n Dienstag, von 09
 :30 - 11:00 Uhr\n \n Kosten: € 16,- pro Einheit | 3 EH € 45.-\n Anmeldung e
 rforderlich! \n
X-ALT-DESC;FMTTYPE=text/html:<h2>Sommer Eltern-Kind-Spielgruppe 1-2J</h2><h3>&nbsp;</h3><p>In einer vorb
 ereiteten Umgebung erforschen die Kinder allerlei Material, machen die erst
 en Erfahrungen mit Kontakt zu anderen Babys. Wir regen die Sensorik an, sin
 gen einige Kniereiter- und Kuschellieder und besprechen alles, was im Leben
  mit dem Kind wichtig ist – Schlafen, Stillen und/oder Fläschchen-Ernährung
 , Kindergarteneintritt, Fremdbetreuung, Autonomie, Grenzen,... Eine gute Ge
 legenheit, die Kind &amp; Kegel Eltern-Kind-Spielgruppen kennen zu lernen, 
 Sommertermine können auch einzeln besucht werden!</p><table><tbody><tr><td>
 <span class="fett">Termine</span>: 16.7., 23.7., 30.7.25,<br />&nbsp;Dienst
 ag, von 09:<span class="kleinhoch">30</span> - 11:<span class="kleinhoch">0
 0</span> Uhr<br /> <br /> <span class="fett">Kosten</span>: € 16,- pro Einh
 eit | 3 EH € 45.-<br /> Anmeldung erforderlich!</td></tr></tbody></table><p
  class="klein">&nbsp;</p>
CONTACT:info@kind-und-kegel.at, 01 503 71 88, www.kind-und-kegel.at
X-EXTRAINFO:[preis='1600'][anmeldung='true']
DTSTAMP:20260425T202617
DTSTART:20250716T073000
DTEND:20250716T090000
SEQUENCE:0
RRULE:FREQ=WEEKLY;COUNT=3;INTERVAL=1;BYDAY=WE
TRANSP:OPAQUE
END:VEVENT
END:VCALENDAR