BEGIN:VCALENDAR
VERSION:2.0
PRODID:-//jEvents 2.0 for Joomla//EN
CALSCALE:GREGORIAN
METHOD:PUBLISH
BEGIN:VEVENT
UID:a743912712ff2e04c5731c6c0f6a13a1
CATEGORIES:2. Bezirk
CREATED:20250519T173602
SUMMARY:Mitmachkonzert in der Grätzeloase Kind&Kegel
LOCATION:Eltern-Kind-Zentrum Kind&amp;Kegel\, Praterstraße 14/8\, 1020 Wien
DESCRIPTION:Mitmachkonzert in der GrätzloaseFür Kinder und Erwachsene aller Altersstufe
 nGemeinsam singen wir mit der Musikgruppenleiterin Michiko verschiedene Lie
 der. Ebenso können die Kinder einfache Musikinstrumente ausprobieren.\nBei 
 Schönwetter findet das Mitmachkonzert direkt vor dem Kind&amp;Kegel in unse
 rer Grätzloase statt (bei Regen singen wir indoor).\nTermineDienstag 24.06.
  | 16:00 Uhr\nDonnerstag, 7.8. 16:00\nDonnerstag, 28.8., 16:00\nKosten: fre
 ie Spende\nKEINE Anmeldung erforderlich!\n
X-ALT-DESC;FMTTYPE=text/html:<div class="et_pb_module et_pb_text et_pb_text_45 et_pb_text_align_left et_
 pb_bg_layout_light"><div class="et_pb_text_inner"><h2 style="text-align: le
 ft;"><strong>Mitmachkonzert in der Grätzloase</strong></h2></div></div><div
  class="et_pb_module et_pb_text et_pb_text_46 et_pb_text_align_left et_pb_b
 g_layout_light"><div class="et_pb_text_inner"><h4>Für Kinder und Erwachsene
  aller Altersstufen</h4><p><span>Gemeinsam singen wir mit der Musikgruppenl
 eiterin Michiko verschiedene Lieder. Ebenso können die Kinder einfache Musi
 kinstrumente ausprobieren.</span></p><p><span>Bei Schönwetter findet das Mi
 tmachkonzert direkt vor dem Kind&amp;Kegel in unserer Grätzloase statt (bei
  Regen singen wir indoor).</span></p></div></div><div class="et_pb_module e
 t_pb_toggle et_pb_toggle_40 et_pb_toggle_item et_pb_toggle_open"><h5 class=
 "et_pb_toggle_title">Termine</h5><div class="et_pb_toggle_content clearfix"
  style="display: block;"><p><span>Dienstag 24.06.</span><span> | 16:00 Uhr<
 /span></p><p>Donnerstag, 7.8. 16:00</p><p>Donnerstag, 28.8., 16:00</p><p><s
 pan class="fett"><strong>Kosten:</strong><span> </span></span><strong>freie
  Spende</strong></p></div></div><p>KEINE Anmeldung erforderlich!</p>
CONTACT:info@kind-und-kegel.at, 01 503 71 88, www.kind-und-kegel.at
DTSTAMP:20260425T172241
DTSTART:20250828T140000
DTEND:20250828T150000
SEQUENCE:0
TRANSP:OPAQUE
END:VEVENT
END:VCALENDAR