BEGIN:VCALENDAR
VERSION:2.0
PRODID:-//jEvents 2.0 for Joomla//EN
CALSCALE:GREGORIAN
METHOD:PUBLISH
BEGIN:VEVENT
UID:1367b02408b44d42946a4520370ca0bb
CATEGORIES:2. Bezirk
CREATED:20250519T174454
SUMMARY:offenes Schlafberatungscafe
LOCATION:Eltern-Kind-Zentrum Kind&amp;Kegel\, Praterstraße 14/8\, 1020 Wien
DESCRIPTION:<h2>Offenes Schlafberatungscafé</h2><p>Das Schlafverhalten von Babys und Kl
 einkindern kann herausfordernd sein und viele Fragen aufwerfen wie z.B.: Wi
 eso will mein Kind nur im Arm oder bei mir im Bett schlafen? Wieso schläft 
 mein Kind nicht durch? Ist es in Ordnung wenn ich mein Kind beim Einschlafe
 n stille? Verwöhne ich mein Kind wenn ich es beim Einschlafen begleite? Das
  ist ganz normal, vielen Eltern geht es ähnlich.</p><p>Bei einer heißen Tas
 se Kaffee oder Tee seid ihr eingeladen, euch mit anderen Eltern auszutausch
 en und lernt dabei verschiedene Schlafsituationen kennen. Für eure individu
 ellen Fragen und Anliegen steht Eva Dittinger (Neurowissenschafterin, Mutte
 r und zertifizierte Baby- und Kinderschlafbegleiterin) bereit und zeigt Mög
 lichkeiten auf, wie sich eure Schlafsituation entspannen könnte.</p><p><spa
 n class="fett">Termine im Sommer:</span> 3.7., 7.8., 21.8..25,<br /><strong
 >Donnerstag, von 09:<span class="kleinhoch">30</span> - 10:<span class="kle
 inhoch">45</span> Uhr<br /></strong>&nbsp;<br /><span class="fett">Kosten:<
 /span> € 16,-, 5er Block € 77.-<br /> Anmeldung erforderlich!</p><p>&nbsp;<
 /p>
CONTACT:info@kind-und-kegel.at, 01 503 71 88, www.kind-und-kegel.at
X-EXTRAINFO:[preis='1600'][anmeldung='true']
DTSTAMP:20260425T203132
DTSTART:20250807T073000
DTEND:20250807T084500
SEQUENCE:0
TRANSP:OPAQUE
END:VEVENT
END:VCALENDAR