BEGIN:VCALENDAR
VERSION:2.0
PRODID:-//jEvents 2.0 for Joomla//EN
CALSCALE:GREGORIAN
METHOD:PUBLISH
BEGIN:VEVENT
UID:b15040cb4b0e5f6ef20e16249f5adb01
CATEGORIES:19. Bezirk
CREATED:20250521T001209
SUMMARY:Musik & Theaterwerkstatt für Kinder (Sommerkurs)
LOCATION:Sickenberggasse 13\, 1190 Wien
DESCRIPTION:SOMMERKURS FÜR KINDER (1 Woche)\n\n21. - 25. Juli (täglich 9:00 - 17:30) \n
 Inklusive vegetarischem Mittagessen und gesunden Snacks. \n\nWir sind Magda
 lena Wawra und Johanna Seitinger (ausgebildete Musikerinnen und Musik/Theat
 erpädagoginnen). Für den Sommer 2025 bieten wir einen musikalisch-kreativen
  Ferienkurs für Kinder zwischen 7 und 14 Jahren. \nOb Singen, Tanzen, Schau
 spielern, Texten, Bühnenbild gestalten oder Komponieren – hier ist Platz fü
 r alles! Denn wir wollen die Individualität sowie die kreativen Potenziale 
 stärken und gemeinsam die Magie des Ensembles erleben.\nIn unserer MUSIK &a
 mp; THEATERWERKSTATT fördern wir neben künstlerischer Kreativität vor allem
  auch die Selbstwirksamkeit und Selbstbestimmtheit. Gemeinsam überwinden wi
 r Ängste und schaffen Raum für eine nachhaltige Entfaltung der Persönlichke
 it.\n\nGenauere INFOS und einen EINBLICK in den Kurs des letzten Jahres fin
 det ihr HIER (https://drive.google.com/file/d/1YUH8S5ZuHQ6IFaVUafjXDWW68bYP
 uRva/view?usp=share_link). (Gerne könnt ihr euch dazu aber auch direkt bei 
 uns melden.) \n\nWir freuen uns schon sehr auf eine spannende Zeit, viel ge
 meinsames Gelächter und Staunen! \n\nAlles Liebe,\nMagdalena &amp; Johanna 
 \n\n\n\n\n
X-ALT-DESC;FMTTYPE=text/html:<p dir="ltr" style="line-height: 1.295; margin-top: 0pt; margin-bottom: 8pt
 ;"><span style="font-size: 12pt; font-family: Calibri, sans-serif; color: #
 000000; background-color: transparent; font-style: normal; font-variant-lig
 atures: normal; font-variant-caps: normal; font-variant-alternates: normal;
  font-variant-numeric: normal; font-variant-east-asian: normal; font-varian
 t-position: normal; text-decoration: none; vertical-align: baseline; white-
 space: pre-wrap;">SOMMERKURS FÜR KINDER (1 Woche)<br /><br />21. - 25. Juli
  (täglich 9:00 - 17:30) <br />Inklusive vegetarischem Mittagessen und gesun
 den Snacks. <br /><br />Wir sind Magdalena Wawra und Johanna Seitinger (aus
 gebildete Musikerinnen und Musik/Theaterpädagoginnen). Für den Sommer 2025 
 bieten wir einen musikalisch-kreativen Ferienkurs für Kinder zwischen 7 und
  14 Jahren.&nbsp;</span></p><p dir="ltr" style="line-height: 1.295; margin-
 top: 0pt; margin-bottom: 8pt;"><span style="font-size: 12pt; font-family: C
 alibri, sans-serif; color: #000000; background-color: transparent; font-sty
 le: normal; font-variant-ligatures: normal; font-variant-caps: normal; font
 -variant-alternates: normal; font-variant-numeric: normal; font-variant-eas
 t-asian: normal; font-variant-position: normal; text-decoration: none; vert
 ical-align: baseline; white-space: pre-wrap;">Ob Singen, Tanzen, Schauspiel
 ern, Texten, Bühnenbild gestalten oder Komponieren – hier ist Platz für all
 es! Denn wir wollen die Individualität sowie die kreativen Potenziale stärk
 en und gemeinsam die Magie des Ensembles erleben.</span></p><p dir="ltr" st
 yle="line-height: 1.38; margin-top: 0pt; margin-bottom: 0pt;"><span style="
 font-size: 12pt; font-family: Calibri, sans-serif; color: #000000; backgrou
 nd-color: transparent; font-style: normal; font-variant-ligatures: normal; 
 font-variant-caps: normal; font-variant-alternates: normal; font-variant-nu
 meric: normal; font-variant-east-asian: normal; font-variant-position: norm
 al; text-decoration: none; vertical-align: baseline; white-space: pre-wrap;
 ">In unserer MUSIK &amp; THEATERWERKSTATT fördern wir neben künstlerischer 
 Kreativität vor allem auch die Selbstwirksamkeit und Selbstbestimmtheit. Ge
 meinsam überwinden wir Ängste und schaffen Raum für eine nachhaltige Entfal
 tung der Persönlichkeit.<br /><br />Genauere INFOS und einen EINBLICK in de
 n Kurs des letzten Jahres findet ihr <a href="https://drive.google.com/file
 /d/1YUH8S5ZuHQ6IFaVUafjXDWW68bYPuRva/view?usp=share_link">HIER</a>. (Gerne 
 könnt ihr euch dazu aber auch direkt bei uns melden.) <br /><br />Wir freue
 n uns schon sehr auf eine spannende Zeit, viel gemeinsames Gelächter und St
 aunen! <br /><br />Alles Liebe,<br />Magdalena &amp; Johanna <br /></span><
 span style="font-size: 12pt; font-family: Calibri, sans-serif; color: #0000
 00; background-color: transparent; font-style: normal; font-variant-ligatur
 es: normal; font-variant-caps: normal; font-variant-alternates: normal; fon
 t-variant-numeric: normal; font-variant-east-asian: normal; font-variant-po
 sition: normal; text-decoration: none; vertical-align: baseline; white-spac
 e: pre-wrap;"><span id="docs-internal-guid-4e64812f-7fff-a638-4fe1-bf741f7b
 8d2d" style="white-space: normal;"><span style="font-size: 11pt; font-famil
 y: Aptos; font-variant-ligatures: normal; font-variant-alternates: normal; 
 font-variant-numeric: normal; font-variant-east-asian: normal; font-variant
 -position: normal; vertical-align: baseline; white-space: pre-wrap;"></span
 ></span><br /><br /><br /></span></p>
CONTACT:musikundtheaterwerkstatt@gmail.com 
X-EXTRAINFO:[preis='39500'][anmeldung='true']
DTSTAMP:20260424T231451
DTSTART:20250721T070000
DTEND:20250725T153000
SEQUENCE:0
TRANSP:OPAQUE
END:VEVENT
END:VCALENDAR