BEGIN:VCALENDAR
VERSION:2.0
PRODID:-//jEvents 2.0 for Joomla//EN
CALSCALE:GREGORIAN
METHOD:PUBLISH
BEGIN:VEVENT
UID:4061c541ade5ec94f604935dcbd0d4b3
CATEGORIES:19. Bezirk
CREATED:20250521T001448
SUMMARY:Musik & Theaterwerkstatt für Kinder (Sommerkurs)
LOCATION:Sickenberggasse 13\, 1190 Wien
DESCRIPTION:SOMMERKURS FÜR KINDER (1 Woche)\n\n04. - 08. August (täglich 9:00 - 17:30) 
 \nInklusive vegetarischem Mittagessen und gesunden Snacks. \n\nWir sind Mag
 dalena Wawra und Johanna Seitinger (ausgebildete Musikerinnen und Musik/The
 aterpädagoginnen). Für den Sommer 2025 bieten wir einen musikalisch-kreativ
 en Ferienkurs für Kinder zwischen 7 und 14 Jahren. \nOb Singen, Tanzen, Sch
 auspielern, Texten, Bühnenbild gestalten oder Komponieren – hier ist Platz 
 für alles! Denn wir wollen die Individualität sowie die kreativen Potenzial
 e stärken und gemeinsam die Magie des Ensembles erleben.\nIn unserer MUSIK 
 &amp; THEATERWERKSTATT fördern wir neben künstlerischer Kreativität vor all
 em auch die Selbstwirksamkeit und Selbstbestimmtheit. Gemeinsam überwinden 
 wir Ängste und schaffen Raum für eine nachhaltige Entfaltung der Persönlich
 keit.\n\nGenauere INFOS und einen EINBLICK in den Kurs des letzten Jahres f
 indet ihr HIER (https://drive.google.com/file/d/1YUH8S5ZuHQ6IFaVUafjXDWW68b
 YPuRva/view?usp=share_link). (Gerne könnt ihr euch dazu aber auch direkt be
 i uns melden.) \n\nWir freuen uns schon sehr auf eine spannende Zeit, viel 
 gemeinsames Gelächter und Staunen! \n\nAlles Liebe,\nMagdalena &amp; Johann
 a \n\n\n\n
X-ALT-DESC;FMTTYPE=text/html:<p dir="ltr" style="line-height: 1.295; margin-top: 0pt; margin-bottom: 8pt
 ;"><span style="font-size: 12pt; font-family: Calibri, sans-serif; color: #
 000000; background-color: transparent; font-style: normal; font-variant-lig
 atures: normal; font-variant-caps: normal; font-variant-alternates: normal;
  font-variant-numeric: normal; font-variant-east-asian: normal; font-varian
 t-position: normal; text-decoration: none; vertical-align: baseline; white-
 space: pre-wrap;">SOMMERKURS FÜR KINDER (1 Woche)<br /><br />04. - 08. Augu
 st (täglich 9:00 - 17:30) <br />Inklusive vegetarischem Mittagessen und ges
 unden Snacks. <br /><br />Wir sind Magdalena Wawra und Johanna Seitinger (a
 usgebildete Musikerinnen und Musik/Theaterpädagoginnen). Für den Sommer 202
 5 bieten wir einen musikalisch-kreativen Ferienkurs für Kinder zwischen 7 u
 nd 14 Jahren.&nbsp;</span></p><p dir="ltr" style="line-height: 1.295; margi
 n-top: 0pt; margin-bottom: 8pt;"><span style="font-size: 12pt; font-family:
  Calibri, sans-serif; color: #000000; background-color: transparent; font-s
 tyle: normal; font-variant-ligatures: normal; font-variant-caps: normal; fo
 nt-variant-alternates: normal; font-variant-numeric: normal; font-variant-e
 ast-asian: normal; font-variant-position: normal; text-decoration: none; ve
 rtical-align: baseline; white-space: pre-wrap;">Ob Singen, Tanzen, Schauspi
 elern, Texten, Bühnenbild gestalten oder Komponieren – hier ist Platz für a
 lles! Denn wir wollen die Individualität sowie die kreativen Potenziale stä
 rken und gemeinsam die Magie des Ensembles erleben.</span></p><p dir="ltr" 
 style="line-height: 1.38; margin-top: 0pt; margin-bottom: 0pt;"><span style
 ="font-size: 12pt; font-family: Calibri, sans-serif; color: #000000; backgr
 ound-color: transparent; font-style: normal; font-variant-ligatures: normal
 ; font-variant-caps: normal; font-variant-alternates: normal; font-variant-
 numeric: normal; font-variant-east-asian: normal; font-variant-position: no
 rmal; text-decoration: none; vertical-align: baseline; white-space: pre-wra
 p;">In unserer MUSIK &amp; THEATERWERKSTATT fördern wir neben künstlerische
 r Kreativität vor allem auch die Selbstwirksamkeit und Selbstbestimmtheit. 
 Gemeinsam überwinden wir Ängste und schaffen Raum für eine nachhaltige Entf
 altung der Persönlichkeit.<br /><br />Genauere INFOS und einen EINBLICK in 
 den Kurs des letzten Jahres findet ihr <a href="https://drive.google.com/fi
 le/d/1YUH8S5ZuHQ6IFaVUafjXDWW68bYPuRva/view?usp=share_link">HIER</a>. (Gern
 e könnt ihr euch dazu aber auch direkt bei uns melden.) <br /><br />Wir fre
 uen uns schon sehr auf eine spannende Zeit, viel gemeinsames Gelächter und 
 Staunen! <br /><br />Alles Liebe,<br />Magdalena &amp; Johanna <br /></span
 ><span style="font-size: 12pt; font-family: Calibri, sans-serif; color: #00
 0000; background-color: transparent; font-style: normal; font-variant-ligat
 ures: normal; font-variant-caps: normal; font-variant-alternates: normal; f
 ont-variant-numeric: normal; font-variant-east-asian: normal; font-variant-
 position: normal; text-decoration: none; vertical-align: baseline; white-sp
 ace: pre-wrap;"><span id="docs-internal-guid-4e64812f-7fff-a638-4fe1-bf741f
 7b8d2d" style="white-space: normal;"><span style="font-size: 11pt; font-fam
 ily: Aptos; font-variant-ligatures: normal; font-variant-alternates: normal
 ; font-variant-numeric: normal; font-variant-east-asian: normal; font-varia
 nt-position: normal; vertical-align: baseline; white-space: pre-wrap;"></sp
 an></span><br /><br /></span></p>
CONTACT:musikundtheaterwerkstatt@gmail.com 
X-EXTRAINFO:[preis='39500'][anmeldung='true']
DTSTAMP:20260424T231438
DTSTART:20250804T070000
DTEND:20250808T153000
SEQUENCE:0
TRANSP:OPAQUE
END:VEVENT
END:VCALENDAR