BEGIN:VCALENDAR
VERSION:2.0
PRODID:-//jEvents 2.0 for Joomla//EN
CALSCALE:GREGORIAN
METHOD:PUBLISH
BEGIN:VEVENT
UID:70bdaf949a7c307d62aa3e99935977e2
CATEGORIES:2. Bezirk
CREATED:20250521T152705
SUMMARY:Gehirnentwicklung in den ersten 3 Lebensjahren - Vortrag
LOCATION:Eltern-Kind-Zentrum Kind&amp;Kegel\, Praterstraße 14/8\, 1020 Wien
DESCRIPTION:Gehirnentwicklung in den ersten 3 LebensjahrenUnd wie wir sie fördern könne
 n.Das Gehirn entwickelt sich bis zum 3. Geburtstag regelrecht explosionsart
 ig. Gemeinsam schauen wir uns an, wie sich das Gehirn entwickelt, warum Sch
 laf fundamental ist für die gesunde Gehirnentwicklung.\nTerminFreitag, 22.0
 8.25, 10:00 – 11:30\nKosten: € 28,- \nAnmeldung erforderlich!\nLeitung: Eva
  Dittinger, PhD\nNeurowissenschafterin, Mutter und zertifizierte Baby- und 
 Kinderschlafbegleiterin\nVortrag\n \n
X-ALT-DESC;FMTTYPE=text/html:<div class="et_pb_column et_pb_column_1_2 et_pb_column_11 et_pb_css_mix_ble
 nd_mode_passthrough"><div class="et_pb_with_border et_pb_module et_pb_text 
 et_pb_text_17 et_pb_text_align_left et_pb_bg_layout_light"><div class="et_p
 b_text_inner"><h3 class="unterstrich"><span style="text-decoration: underli
 ne;"><strong>Gehirnentwicklung in den ersten 3 </strong><strong>Lebensjahre
 n</strong></span></h3></div></div><div class="et_pb_with_border et_pb_modul
 e et_pb_text et_pb_text_18 et_pb_text_align_left et_pb_bg_layout_light"><di
 v class="et_pb_text_inner"><h4><em>Und wie wir sie fördern können.</em></h4
 ><p><span>Das Gehirn entwickelt sich bis zum 3. Geburtstag regelrecht explo
 sionsartig. Gemeinsam schauen wir uns an, wie sich das Gehirn entwickelt, w
 arum Schlaf fundamental ist für die gesunde Gehirnentwicklung.</span><span>
 </span></p></div></div><div class="et_pb_module et_pb_toggle et_pb_toggle_6
  et_pb_toggle_item et_pb_toggle_open"><h5 class="et_pb_toggle_title">Termin
 </h5><div class="et_pb_toggle_content clearfix" style="display: block;"><p>
 Freitag, 22.08.25, 10:00 – 11:30</p><p><strong>Kosten:</strong> € 28,- <br 
 />Anmeldung erforderlich!</p><p><strong>Leitung:</strong> Eva Dittinger, Ph
 D<br />Neurowissenschafterin, Mutter und zertifizierte Baby- und Kinderschl
 afbegleiterin</p><p>Vortrag</p></div></div></div><p>&nbsp;</p>
CONTACT:info@kind-und-kegel.at, 01 503 71 88, www.kind-und-kegel.at
X-EXTRAINFO:[preis='2800'][anmeldung='true']
DTSTAMP:20260425T172427
DTSTART:20250822T080000
DTEND:20250822T093000
SEQUENCE:0
TRANSP:OPAQUE
END:VEVENT
END:VCALENDAR