BEGIN:VCALENDAR
VERSION:2.0
PRODID:-//jEvents 2.0 for Joomla//EN
CALSCALE:GREGORIAN
METHOD:PUBLISH
BEGIN:VEVENT
UID:573e82b18cdcf0c3591b5f3fe9e27ca0
CATEGORIES:2. Bezirk
CREATED:20250521T153108
SUMMARY:(Ein)schlafen mit Papa - Workshop
LOCATION:Eltern-Kind-Zentrum Kind&amp;Kegel\, Praterstraße 14/8\, 1020 Wien
DESCRIPTION:<div class="et_pb_column et_pb_column_1_2 et_pb_column_5 et_pb_css_mix_blen
 d_mode_passthrough"><div id="Einschlafen-mit-Papa" class="et_pb_with_border
  et_pb_module et_pb_text et_pb_text_5 et_pb_text_align_left et_pb_bg_layout
 _light"><div class="et_pb_text_inner"><h3 class="unterstrich"><span style="
 text-decoration: underline;"><strong>(Ein-)schlafen mit Papa</strong></span
 ></h3></div></div><div class="et_pb_with_border et_pb_module et_pb_text et_
 pb_text_6 et_pb_text_align_left et_pb_bg_layout_light"><div class="et_pb_te
 xt_inner"><p>Babys und Kinder dürfen und sollen auch mit Papa (ein)schlafen
  – nur klappt das nicht immer so, wie man es sich wünschen würde.</p><p>In 
 diesem Workshop werden Möglichkeiten aufgezeigt, wie auch Papa das Kind ach
 tsam in den Schlaf begleiten, und wie man dabei etwaige Hürden überwinden k
 ann.<br />Für persönliche Fragen ist ebenfalls genügend Zeit.</p></div></di
 v><div class="et_pb_module et_pb_toggle et_pb_toggle_0 et_pb_toggle_item et
 _pb_toggle_open"><h5 class="et_pb_toggle_title">Termin</h5><div class="et_p
 b_toggle_content clearfix" style="display: block;"><p><strong>Donnerstag, 1
 4.08.25, 09:30 – 11:00 Uhr</strong></p><p><strong>Kosten:</strong> € 28,-<b
 r />Anmeldung erforderlich!</p><p>&nbsp;</p><p><strong>Leitung:</strong> Ev
 a Dittinger, PhD<br />Neurowissenschafterin, Mutter und zertifizierte Baby-
  und Kinderschlafbegleiterin</p><p>Workshop</p></div></div></div><p>&nbsp;<
 /p>
CONTACT:info@kind-und-kegel.at, 01 503 71 88, www.kind-und-kegel.at
X-EXTRAINFO:[preis='2800'][anmeldung='true']
DTSTAMP:20260425T170951
DTSTART:20250814T073000
DTEND:20250814T090000
SEQUENCE:0
TRANSP:OPAQUE
END:VEVENT
END:VCALENDAR